Workbook

Sheet Parametri Toby
B1: Unesite sve podatke ovde kako bi na sledećem listu imali orijentacioni proračun snage kotla. Decimale razdvajajte tačkom. | C1: koyote | D1: boree | E1: gRk0wac. | F1: richiemsch | G1: MyX-Mesha | H1: mvp84 | I1: srdjan68 | J1: 1.salee | K1: Zemun | L1: Sve naopako | M1: Jetsetwilly | N1: Simke.BGD | O1: ironmaiden | P1: stepa 1986 | Q1: Zoran Sabac | R1: vukpiper | S1: jugordana | T1: bulevarterm | U1: andjelko | V1: mirkant | W1: stepa | X1: DE-Va Toby 20 H set (kamin pelet) | Y1: stevanovicfilip | Z1: bokikrag | AA1: Dragan SD | AB1: Vlatko Sabac | AC1: predragmirkovic | AD1: grnmilosevic | AE1: ASLservis | AF1: Guverner | AG1: rade topola | AH1: Gox BG | AI1: dany12 | AJ1: sasa-74 | AK1: dongrga | AL1: APAMsoldier | AN1: pa013
B2: Model kotla | C2: Toby 12 | D2: Toby 20 | E2: Toby 20 | F2: Toby 20 | G2: Toby 20 | H2: Toby 30 | I2: Toby 30 | J2: Toby 30 | K2: Toby 12 | L2: Toby 12 | M2: Toby 12 | N2: Toby 30 | O2: Toby 30 | P2: Toby 20 | Q2: Toby 50 | R2: Toby 20 | S2: Toby 20 | T2: Toby 30 | U2: Toby 30 | V2: Toby 30 | W2: Toby 12 | X2: Toby 20 | Y2: Toby 12 | Z2: Toby 20 | AA2: Toby 12 | AB2: Toby 12 | AC2: Toby 12 | AD2: Toby 12 | AE2: Toby 12 | AF2: Toby 12 | AG2: Toby 30 | AH2: Toby 12 | AI2: Toby 20 | AJ2: Toby 20 | AK2: Toby 30 | AL2: Toby 12 | AN2: Toby 30 | AP2: Toby 30
B3: Vrsta peleta | C3: S-Biom | D3: Spačva | E3: Forest Crown | F3: Nis-pelet | G3: Elgrad Teslić | H3: NANIX | I3: Miraja i Nanix | J3: CROWN FOREST | K3: Jela Star Prijepolje | M3: Sparrow | N3: Nanix wood | O3: bukovi pelet (MNE) | P3: jela star | R3: biopoint | S3: jelastar | T3: total pelet | U3: jela star | V3: jelova gora | W3: banja koviljaca | X3: Varvarin | Y3: GIR Kraljevo | Z3: Sparrow | AA3: SAVOX Milici | AB3: biostar | AC3: bau energy | AD3: biopoint | AE3: Knjazevac | AF3: Jela Prijepolje | AH3: Jela Prijepolje | AI3: S-Biom | AJ3: bioenergy | AK3: premium pelet | AL3: Spacva | AN3: s-biom | AP3: Jela Prijepolje
B4: Rupe za sekundarni vazduh | C4: Da | D4: Da 4 | E4: Da 3 | F4: Da | G4: Da | H4: Da | I4: Da | J4: Ne | K4: Ne | L4: Da | M4: Ne | N4: Ne | O4: Da | P4: Ne | Q4: Da | R4: Ne | S4: Da | T4: Da | U4: Da | V4: Da | W4: Da | X4: Da | Y4: Da | Z4: Ne | AA4: Ne | AB4: Da | AC4: Da | AD4: Da | AE4: Da | AF4: Da | AG4: Da | AH4: Da | AI4: Ne | AJ4: Da | AK4: Ne | AL4: Da | AN4: Da | AP4: Da
B5: Kapacitet puža (g/min) | C5: 75 | D5: 145 | E5: 120 | F5: 117 | G5: 130 | H5: 280 | I5: 250 | J5: 370 | K5: 72 | L5: 72 | M5: 78 | N5: 270 | O5: 230 | P5: 123 | Q5: 123 | R5: 115 | S5: 140 | T5: 280 | U5: 68 | V5: 68 | W5: 68 | X5: 120 | Y5: 80 | Z5: 138 | AA5: 65 | AB5: 140 | AC5: 120 | AD5: 300 | AE5: 75 | AF5: 62 | AG5: 280 | AH5: 59 | AI5: 120 | AJ5: 120 | AK5: 250 | AL5: 60 | AP5: 72
B6: Zadata temperatura kotla | C6: 72 | D6: 78 | E6: 75 | F6: 75 | G6: 80 | H6: 80 | I6: 65 | J6: 75 | K6: 60 | L6: 72 | M6: 72 | N6: 70 | O6: 80 | P6: 60 | Q6: 65 | R6: 75 | S6: 75 | T6: 65 | U6: 55 | V6: 65 | W6: 60 | X6: 60 | Y6: 72 | Z6: 75 | AA6: 65 | AB6: 74 | AC6: 82 | AD6: 76 | AE6: 75 | AF6: 73 | AG6: 77 | AH6: 75 | AI6: 60 | AJ6: 72 | AK6: 75 | AL6: 70 | AN6: 55 | AP6: 75
B7: Mešni ventil | C7: Četvorokraki sa regulacijom | D7: Četvorokraki sa regulacijom | E7: Četvorokraki bez regulacije | F7: Četvorokraki sa regulacijom | G7: Četvorokraki sa regulacijom | H7: Četvorokraki sa regulacijom | I7: Četvorokraki bez regulacije | J7: Ne | K7: Trokraki sa regulacijom | L7: Trokraki bez regulacije | M7: Trokraki bez regulacije | N7: Ne | O7: Četvorokraki sa regulacijom | P7: Četvorokraki sa regulacijom | Q7: Četvorokraki bez regulacije | R7: Četvorokraki bez regulacije | S7: Četvorokraki sa regulacijom | T7: Trokraki bez regulacije | U7: Trokraki bez regulacije | V7: Trokraki bez regulacije | W7: Trokraki bez regulacije | X7: Ne | Y7: Četvorokraki bez regulacije | Z7: Četvorokraki bez regulacije | AA7: Četvorokraki bez regulacije | AB7: Trokraki bez regulacije | AC7: Četvorokraki bez regulacije | AD7: Četvorokraki bez regulacije | AE7: Četvorokraki sa regulacijom | AF7: Četvorokraki bez regulacije | AG7: Četvorokraki bez regulacije | AH7: Trokraki bez regulacije | AI7: Trokraki bez regulacije | AJ7: Četvorokraki bez regulacije | AK7: Ne | AL7: Trokraki bez regulacije | AN7: Trokraki bez regulacije | AP7: Četvorokraki bez regulacije
B8: Opšti parametri (šifra 4321)
A9: P1 | B9: Max time ignition min | C9: 15 | D9: 15 | E9: 15 | F9: 15 | G9: 10 | H9: 15 | I9: 15 | J9: 30 | K9: 15 | L9: 15 | M9: 15 | N9: 15 | O9: 15 | P9: 15 | Q9: 15 | R9: 15 | S9: 15 | T9: 15 | U9: 15 | V9: 15 | W9: 15 | X9: 15 | Y9: 58 | Z9: 15 | AA9: 15 | AB9: 15 | AC9: 15 | AD9: 15 | AE9: 15 | AF9: 15 | AH9: 15 | AI9: 20 | AJ9: 15 | AK9: 15 | AL9: 15 | AN9: 15 | AP9: 15
A10: P2 | B10: Flame stabilization time min | C10: 4 | D10: 5 | E10: 5 | F10: 4 | G10: 3 | H10: 4 | I10: 4 | J10: 2 | K10: 3 | L10: 3 | M10: 3 | N10: 4 | O10: 4 | P10: 5 | Q10: 3 | R10: 5 | S10: 1 | T10: 5 | U10: 2 | V10: 2 | W10: 2 | X10: 2 | Y10: 12 | Z10: 5 | AA10: 2 | AB10: 3 | AC10: 2 | AD10: 5 | AE10: 2 | AF10: 2 | AH10: 2 | AI10: 4 | AJ10: 4 | AK10: 5 | AL10: 2 | AN10: 5 | AP10: 3
A11: P3 | B11: Time between clean min | C11: 35 | D11: 45 | E11: 45 | F11: 40 | G11: 30 | H11: 30 | I11: 45 | J11: 0 | K11: 40 | L11: 35 | M11: 30 | N11: 45 | O11: 20 | P11: 35 | Q11: 35 | R11: 45 | S11: 40 | T11: 45 | U11: 40 | V11: 45 | W11: 20 | X11: 45 | Y11: 32 | Z11: 30 | AA11: 45 | AB11: 45 | AC11: 40 | AD11: 20 | AE11: 20 | AF11: 2 | AH11: 45 | AI11: 20 | AJ11: 45 | AK11: 30 | AL11: 20 | AN11: 45 | AP11: 35
A12: P4 | B12: Cleaning time sec | C12: 25 | D12: 20 | E12: 15 | F12: 20 | G12: 20 | H12: 20 | I12: 25 | J12: 99 | K12: 30 | L12: 30 | M12: 30 | N12: 99 | O12: 25 | P12: 20 | Q12: 30 | R12: 15 | S12: 20 | T12: 20 | U12: 30 | V12: 10 | W12: 30 | X12: 25 | Y12: 25 | Z12: 30 | AA12: 30 | AB12: 30 | AC12: 15 | AD12: 25 | AE12: 25 | AF12: 99 | AH12: 99 | AI12: 20 | AJ12: 15 | AK12: 15 | AL12: 30 | AN12: 15 | AP12: 35
A13: P5 | B13: Alarms delay sec | C13: 120 | D13: 120 | E13: 120 | F13: 120 | G13: 120 | H13: 120 | I13: 120 | J13: 120 | K13: 120 | L13: 120 | M13: 120 | N13: 120 | O13: 120 | P13: 120 | Q13: 120 | R13: 120 | S13: 120 | T13: 120 | U13: 120 | V13: 120 | W13: 120 | X13: 120 | Y13: 120 | Z13: 120 | AA13: 120 | AB13: 120 | AC13: 120 | AD13: 120 | AE13: 120 | AF13: 120 | AH13: 120 | AI13: 120 | AJ13: 120 | AK13: 120 | AL13: 120 | AN13: 120
A14: P6 | B14: Max temperature | C14: 250 | D14: 200 | E14: 200 | F14: 200 | G14: 200 | H14: 200 | I14: 170 | J14: 250 | K14: 250 | L14: 210 | M14: 160 | N14: 250 | O14: 250 | P14: 200 | Q14: 200 | R14: 250 | S14: 200 | T14: 200 | U14: 210 | V14: 200 | W14: 250 | X14: 200 | Y14: 230 | Z14: 200 | AA14: 200 | AB14: 200 | AC14: 200 | AD14: 200 | AE14: 210 | AF14: 230 | AH14: 230 | AI14: 250 | AJ14: 250 | AK14: 250 | AL14: 255 | AN14: 200
A15: P7 | B15: Delta Flame off | C15: 12 | D15: 5 | E15: 10 | F15: 10 | G15: 10 | H15: 10 | I15: 10 | J15: 15 | K15: 5 | L15: 4 | M15: 5 | N15: 10 | O15: 9 | P15: 10 | Q15: 5 | R15: 5 | S15: 5 | T15: 10 | U15: 10 | V15: 10 | W15: 10 | X15: 5 | Y15: 12 | Z15: 8 | AA15: 10 | AB15: 5 | AC15: 10 | AD15: 9 | AE15: 8 | AF15: 10 | AH15: 10 | AI15: 10 | AJ15: 10 | AK15: 9 | AL15: 10 | AN15: 10
A16: P8 | B16: Delta Flame Burning | C16: 15 | D16: 15 | E16: 15 | F16: 15 | G16: 15 | H16: 10 | I16: 15 | J16: 29 | K16: 15 | L16: 15 | M16: 15 | N16: 15 | O16: 15 | P16: 15 | Q16: 10 | R16: 15 | S16: 15 | T16: 15 | U16: 15 | V16: 15 | W16: 15 | X16: 10 | Y16: 15 | Z16: 15 | AA16: 15 | AB16: 15 | AC16: 15 | AD16: 15 | AE16: 13 | AF16: 15 | AH16: 15 | AI16: 15 | AJ16: 15 | AK16: 15 | AL16: 15 | AN16: 15
A17: P9 | B17: Preload feed sec | C17: 45 | D17: 9 | E17: 40 | F17: 85 | G17: 65 | H17: 50 | I17: 35 | J17: 47 | K17: 45 | L17: 45 | M17: 55 | N17: 50 | O17: 10 | P17: 90 | Q17: 10 | R17: 100 | S17: 100 | T17: 40 | U17: 40 | V17: 20 | W17: 25 | X17: 80 | Y17: 35 | Z17: 4 | AA17: 50 | AB17: 45 | AC17: 45 | AD17: 0 | AE17: 20 | AF17: 55 | AH17: 55 | AI17: 100 | AJ17: 80 | AK17: 55 | AL17: 15 | AN17: 100
A18: P10 | B18: Water temperature antifreeze | C18: 2 | D18: 2 | E18: 3 | F18: 2 | G18: 2 | H18: 2 | I18: 2 | J18: 5 | K18: 2 | L18: 2 | M18: 5 | N18: 2 | O18: 5 | P18: 2 | Q18: 2 | R18: 2 | S18: 2 | T18: 2 | U18: 2 | V18: 2 | W18: 2 | X18: 2 | Y18: 2 | Z18: 2 | AA18: 2 | AB18: 2 | AC18: 2 | AD18: 5 | AE18: 2 | AF18: 2 | AH18: 2 | AI18: 2 | AJ18: 2 | AK18: 2 | AL18: 2 | AN18: 2
A19: P11 | B19: Water temperature pump | C19: 55 | D19: 60 | E19: 45 | F19: 65 | G19: 65 | H19: 67 | I19: 50 | J19: 56 | K19: 40 | L19: 57 | M19: 55 | N19: 50 | O19: 65 | P19: 50 | Q19: 35 | R19: 35 | S19: 60 | T19: 50 | U19: 45 | V19: 45 | W19: 50 | X19: 45 | Y19: 55 | Z19: 65 | AA19: 40 | AB19: 60 | AC19: 67 | AD19: 60 | AE19: 50 | AF19: 65 | AH19: 66 | AI19: 50 | AJ19: 60 | AK19: 50 | AL19: 55 | AN19: 45
A20: P12 | B20: Time between clean EV hour | C20: 0 | D20: 0 | E20: 0 | F20: 11211 | G20: 0 | H20: 0 | I20: 0 | J20: 0 | K20: 99 | L20: 99 | M20: 99 | N20: 0 | O20: 99 | P20: 0 | Q20: 0 | R20: 0 | S20: 99 | T20: 0 | U20: 0 | V20: 0 | W20: 0 | X20: 0 | Y20: 0 | Z20: 0 | AA20: 0 | AB20: 0 | AC20: 0 | AD20: 0 | AF20: 0 | AH20: 0 | AI20: 99 | AJ20: 0 | AK20: 0 | AL20: 0 | AN20: 0
A21: P13 | B21: Cleaning time EV min | C21: 0 | D21: 0 | E21: 0 | F21: 0 | G21: 0 | H21: 0 | I21: 0 | J21: 0 | K21: 9 | L21: 9 | M21: 9 | N21: 0 | O21: 8 | P21: 0 | Q21: 0 | R21: 0 | S21: 9 | T21: 0 | U21: 0 | V21: 0 | W21: 0 | X21: 0 | Y21: 0 | Z21: 0 | AA21: 0 | AB21: 0 | AC21: 0 | AD21: 0 | AF21: 0 | AH21: 0 | AI21: 9 | AJ21: 0 | AK21: 0 | AL21: 0 | AN21: 0
A22: P14 | B22: Critical Alarms delay sec | C22: 15 | D22: 15 | E22: 15 | F22: 15 | G22: 15 | H22: 15 | I22: 15 | J22: 60 | K22: 15 | L22: 15 | M22: 15 | N22: 15 | O22: 15 | P22: 15 | Q22: 20 | R22: 15 | S22: 15 | T22: 15 | U22: 15 | V22: 15 | W22: 15 | X22: 15 | Y22: 15 | Z22: 15 | AA22: 15 | AB22: 15 | AC22: 15 | AD22: 15 | AF22: 15 | AH22: 15 | AI22: 15 | AJ22: 15 | AK22: 15 | AL22: 15 | AN22: 15
A23: P15 | B23: Management Fan for burning | C23: 0 | D23: 0 | E23: 0 | F23: 0 | G23: 0 | H23: 0 | I23: 0 | J23: 0 | K23: 0 | L23: 0 | M23: 0 | N23: 0 | O23: 0 | P23: 0 | Q23: 0 | R23: 0 | S23: 0 | T23: 0 | U23: 0 | V23: 0 | W23: 0 | X23: 0 | Y23: 0 | Z23: 0 | AA23: 0 | AB23: 0 | AC23: 0 | AD23: 0 | AF23: 0 | AH23: 0 | AI23: 0 | AJ23: 0 | AK23: 0 | AL23: 0 | AN23: 0
A24: P16 | B24: Hour for service x 1000 | C24: 0 | D24: 0 | E24: 0 | F24: 0 | G24: 0 | H24: 0 | I24: 0 | J24: 0 | K24: 0 | L24: 0 | M24: 0 | N24: 0 | O24: 0 | P24: 0 | Q24: 0 | R24: 0 | S24: 0 | T24: 0 | U24: 0 | V24: 0 | W24: 0 | X24: 0 | Y24: 0 | Z24: 0 | AA24: 0 | AB24: 0 | AC24: 0 | AD24: 0 | AF24: 0 | AH24: 0 | AI24: 0 | AJ24: 0 | AK24: 0 | AL24: 0 | AN24: 1000
A25: P17 | B25: Minimum turning off time min | C25: 5 | D25: 3 | E25: 10 | F25: 5 | G25: 5 | H25: 6 | I25: 5 | J25: 6 | K25: 7 | L25: 7 | M25: 10 | N25: 10 | O25: 3 | P25: 5 | Q25: 3 | R25: 5 | S25: 10 | T25: 10 | U25: 7 | V25: 7 | W25: 5 | X25: 3 | Y25: 5 | Z25: 3 | AA25: 7 | AB25: 5 | AC25: 3 | AD25: 3 | AF25: 7 | AH25: 7 | AI25: 3 | AJ25: 3 | AK25: 1 | AL25: 7 | AN25: 10
A26: P18 | B26: Time preignition resistance min | C26: 3 | D26: 3 | E26: 3 | F26: 3 | G26: 3 | H26: 3 | I26: 3 | J26: 4 | K26: 3 | L26: 3 | M26: 3 | N26: 3 | O26: 3 | P26: 3 | Q26: 3 | R26: 3 | S26: 3 | T26: 3 | U26: 3 | V26: 3 | W26: 3 | X26: 3 | Y26: 3 | Z26: 3 | AA26: 3 | AB26: 3 | AC26: 3 | AD26: 3 | AF26: 3 | AH26: 3 | AI26: 3 | AJ26: 3 | AK26: 3 | AL26: 3 | AN26: 3
A27: P19 | B27: Cycle number for pot change | C27: 3 | D27: 3 | E27: 3 | F27: 3 | G27: 3 | H27: 3 | I27: 2 | J27: 1 | K27: 3 | L27: 3 | M27: 3 | N27: 3 | O27: 1 | P27: 3 | Q27: 3 | R27: 3 | S27: 3 | T27: 3 | U27: 8 | V27: 3 | W27: 1 | X27: 3 | Y27: 3 | Z27: 3 | AA27: 3 | AB27: 3 | AC27: 3 | AD27: 1 | AF27: 3 | AH27: 3 | AI27: 3 | AJ27: 3 | AK27: 1 | AL27: 3 | AN27: 3
A28: P20 | B28: Feeder loading time ON sec | C28: 0.9 | D28: 2 | E28: 1 | F28: 1.6 | G28: 1.8 | H28: 0.8 | I28: 1.8 | J28: 0.6 | K28: 1 | L28: 1.1 | M28: 1.2 | N28: 1.8 | O28: 1.8 | P28: 1.5 | Q28: 2,2 | R28: 1.4 | S28: 1.8 | T28: 1.2 | U28: 1 | V28: 0.9 | W28: 1 | X28: 1 | Y28: 0.9 | Z28: 1.5 | AA28: 1.1 | AB28: 1 | AC28: 1.3 | AD28: 1.8 | AF28: 1.2 | AH28: 1.6 | AI28: 1.2 | AJ28: 1.2 | AK28: 0.8 | AL28: 0.4 | AN28: 1.5
A29: P21 | B29: Feeder loading time OFF sec | C29: 3.5 | D29: 4 | E29: 5 | F29: 5 | G29: 5 | H29: 5 | I29: 10 | J29: 7.5 | K29: 3 | L29: 3 | M29: 3 | N29: 5 | O29: 10 | P29: 5 | Q29: 5 | R29: 5 | S29: 5 | T29: 5 | U29: 4 | V29: 3 | W29: 5 | X29: 5 | Y29: 3.5 | Z29: 5 | AA29: 3 | AB29: 5 | AC29: 3.5 | AD29: 10 | AF29: 4 | AH29: 3 | AI29: 5 | AJ29: 5,0 | AK29: 5 | AL29: 3 | AN29: 5
A30: P22 | B30: Feeder on start time ON sec | C30: 0.8 | D30: 1.5 | E30: 0.7 | F30: 1 | G30: 1.6 | H30: 0.8 | I30: 1.4 | J30: 0.3 | K30: 1 | L30: 0.8 | M30: 1.4 | N30: 1.2 | O30: 1.4 | P30: 1.5 | Q30: 1,6 | R30: 1.2 | S30: 1.6 | T30: 1 | U30: 1 | V30: 1.3 | W30: 1.2 | X30: 1.2 | Y30: 0.8 | Z30: 1.5 | AA30: 1.6 | AB30: 1.2 | AC30: 1.6 | AD30: 1.4 | AF30: 1.2 | AH30: 1.4 | AI30: 1 | AJ30: 1 | AK30: 0.6 | AL30: 0.5 | AN30: 1.3
A31: P23 | B31: Feeder on start time OFF sec | C31: 3.5 | D31: 5 | E31: 5 | F31: 5 | G31: 5 | H31: 5 | I31: 9.5 | J31: 8 | K31: 3 | L31: 3 | M31: 3 | N31: 5 | O31: 9.5 | P31: 5 | Q31: 5 | R31: 5 | S31: 5 | T31: 5.3 | U31: 4 | V31: 3 | W31: 5 | X31: 5 | Y31: 3.5 | Z31: 5 | AA31: 3 | AB31: 4.8 | AC31: 3 | AD31: 9.5 | AF31: 4 | AH31: 3 | AI31: 5 | AJ31: 5 | AK31: 5 | AL31: 3.4 | AN31: 5
A32: P24 | B32: Feeder cleaning time ON sec | C32: 1 | D32: 1.5 | E32: 1 | F32: 1 | G32: 1 | H32: 1.2 | I32: 1 | J32: 1 | K32: 1 | L32: 1 | M32: 1 | N32: 2.5 | O32: 1 | P32: 1.5 | Q32: 1 | R32: 1 | S32: 1 | T32: 1 | U32: 1 | V32: 1 | W32: 1 | X32: 1.5 | Y32: 1 | Z32: 1.5 | AA32: 1 | AB32: 0.8 | AC32: 1 | AD32: 1 | AF32: 1.1 | AH32: 1.6 | AI32: 1 | AJ32: 1.2 | AK32: 2.5 | AL32: 1 | AN32: 1
A33: P25 | B33: Feeder cleaning time OFF sec | C33: 5 | D33: 5 | E33: 5 | F33: 5 | G33: 5 | H33: 5 | I33: 6 | J33: 5 | K33: 3 | L33: 5 | M33: 5 | N33: 3.5 | O33: 6 | P33: 5 | Q33: 5 | R33: 5 | S33: 5 | T33: 5 | U33: 3 | V33: 3 | W33: 5 | X33: 5 | Y33: 5 | Z33: 5 | AA33: 5 | AB33: 5.2 | AC33: 5 | AD33: 6 | AF33: 5 | AH33: 3.5 | AI33: 5 | AJ33: 5 | AK33: 3.5 | AL33: 5 | AN33: 5
A34: P26 | B34: Feeder time ON power 1 | C34: 2.2 | D34: 1.4 | E34: 0.6 | F34: 0.8 | G34: 1 | H34: 1.2 | I34: 1.3 | J34: 1 | K34: 1.3 | L34: 1.2 | M34: 1.4 | N34: 0.7 | O34: 1.2 | P34: 1.5 | Q34: 0.7 | R34: 1.6 | S34: 1.5 | T34: 0.5 | U34: 1 | V34: 0.6 | W34: 1 | X34: 0.7 | Y34: 1.1 | Z34: 1.2 | AA34: 1 | AB34: 0.6 | AC34: 1.4 | AD34: 1.2 | AE34: 1.5 | AF34: 1.5 | AG34: 1.3 | AH34: 1.7 | AI34: 1.5 | AJ34: 1 | AK34: 0.5 | AL34: 1.5 | AN34: 1.3
A35: P27 | B35: Feeder time OFF power 1 | C35: 5.8 | D35: 5.6 | E35: 3.5 | F35: 3.5 | G35: 3.5 | H35: 8 | I35: 8 | J35: 7 | K35: 3.5 | L35: 3.3 | M35: 3.4 | N35: 3.5 | O35: 8 | P35: 4 | Q35: 3.5 | R35: 3.5 | S35: 8.5 | T35: 3.5 | U35: 4 | V35: 2.8 | W35: 3 | X35: 3.5 | Y35: 2.5 | Z35: 8.8 | AA35: 3.2 | AB35: 5.4 | AC35: 4.6 | AD35: 8 | AE35: 5 | AF35: 3.6 | AG35: 3.5 | AH35: 3.2 | AI35: 4.5 | AJ35: 4 | AK35: 4 | AL35: 4 | AN35: 3.5
A36: P28 | B36: Feeder time ON power 2 | C36: 2.9 | D36: 1.7 | E36: 1.2 | F36: 1.2 | G36: 1.3 | H36: 1.5 | I36: 1.5 | J36: 1 | K36: 2 | L36: 1.4 | M36: 1.6 | N36: 1 | O36: 1.5 | P36: 2 | Q36: 1.2 | R36: 2.1 | S36: 2.1 | T36: 1 | U36: 1.7 | V36: 0.9 | W36: 1.5 | X36: 1.2 | Y36: 1.6 | Z36: 1.9 | AA36: 1.5 | AB36: 0.9 | AC36: 1.8 | AD36: 1.5 | AE36: 2 | AF36: 1.5 | AG36: 1.6 | AH36: 2 | AI36: 2 | AJ36: 1.5 | AK36: 1.5 | AL36: 2 | AN36: 2.2
A37: P29 | B37: Feeder time OFF power 2 | C37: 5.1 | D37: 5.3 | E37: 3.5 | F37: 3.5 | G37: 3.5 | H37: 8.5 | I37: 7.7 | J37: 5 | K37: 3.3 | L37: 2.9 | M37: 2.9 | N37: 3.5 | O37: 7.7 | P37: 3.5 | Q37: 3.5 | R37: 3.5 | S37: 7.9 | T37: 3.5 | U37: 4 | V37: 3 | W37: 2.8 | X37: 3.5 | Y37: 1.5 | Z37: 8.1 | AA37: 2.8 | AB37: 5.1 | AC37: 4.2 | AD37: 7.7 | AE37: 3 | AF37: 3 | AG37: 8.4 | AH37: 2.5 | AI37: 4 | AJ37: 4 | AK37: 3.5 | AL37: 3.5 | AN37: 3.5
A38: P30 | B38: Feeder time ON power 3 | C38: 3.5 | D38: 2 | E38: 2 | F38: 1.7 | G38: 1.7 | H38: 2 | I38: 1.8 | J38: 1 | K38: 3 | L38: 1.7 | M38: 1.8 | N38: 2.5 | O38: 1.8 | P38: 2.6 | Q38: 1.7 | R38: 2.7 | S38: 3 | T38: 2.5 | U38: 2.7 | V38: 1.2 | W38: 1.8 | X38: 2.5 | Y38: 2.5 | Z38: 2.4 | AA38: 1.8 | AB38: 1.2 | AC38: 2.2 | AD38: 1.8 | AE38: 2.5 | AF38: 2 | AG38: 2.62 | AH38: 2.5 | AI38: 2.5 | AJ38: 2 | AK38: 2 | AL38: 2.4 | AN38: 2.9
A39: P31 | B39: Feeder time OFF power 3 | C39: 4.5 | D39: 5 | E39: 3.5 | F39: 3.5 | G39: 3.5 | H39: 8 | I39: 7.4 | J39: 4 | K39: 3 | L39: 2.6 | M39: 2.6 | N39: 3.5 | O39: 7.4 | P39: 3.5 | Q39: 3.5 | R39: 3.5 | S39: 7 | T39: 3.5 | U39: 4 | V39: 3 | W39: 2.4 | X39: 3.5 | Y39: 7.5 | Z39: 7.6 | AA39: 2.4 | AB39: 4.8 | AC39: 3.8 | AD39: 7.4 | AE39: 2.5 | AF39: 3 | AG39: 7.38 | AH39: 2.4 | AI39: 3.5 | AJ39: 4 | AK39: 3.5 | AL39: 3.1 | AN39: 3.5
A40: P32 | B40: Feeder time ON power 4 | C40: 4 | D40: 2.3 | E40: 2.5 | F40: 2.1 | G40: 2.2 | H40: 2.5 | I40: 2.2 | J40: 1 | K40: 4 | L40: 2 | M40: 2.2 | N40: 3.5 | O40: 2.2 | P40: 3.5 | Q40: 2.1 | R40: 3.4 | S40: 3.5 | T40: 3.5 | U40: 2.7 | V40: 1.4 | W40: 2 | X40: 3 | Y40: 3 | Z40: 2.9 | AA40: 2 | AB40: 1.5 | AC40: 2.6 | AD40: 2.2 | AE40: 3 | AF40: 2.5 | AG40: 3.28 | AH40: 3 | AI40: 3 | AJ40: 3 | AK40: 2.5 | AL40: 2.8 | AN40: 3.2
...

Sheet Toby 12 uporedni prikaz
B1: Uporedni prikaz paramterara unetih u prvoj tabeli za kotlove Toby12. Ukoliko zelite da promenite neki od svojih parametara uradite to u prvoj tabeli. | C1: =IFERROR(__xludf.DUMMYFUNCTION("FILTER('Parametri Toby'!C1:AL88, 'Parametri Toby'!C2:AL2 = ""Toby 12"")"),"koyote") -> koyote | D1: Zemun | E1: Sve naopako | F1: Jetsetwilly | G1: stepa | H1: stevanovicfilip | I1: Dragan SD | J1: Vlatko Sabac | K1: predragmirkovic | L1: grnmilosevic | M1: ASLservis | N1: Guverner | O1: Gox BG | P1: APAMsoldier
B2: Model kotla | C2: Toby 12 | D2: Toby 12 | E2: Toby 12 | F2: Toby 12 | G2: Toby 12 | H2: Toby 12 | I2: Toby 12 | J2: Toby 12 | K2: Toby 12 | L2: Toby 12 | M2: Toby 12 | N2: Toby 12 | O2: Toby 12 | P2: Toby 12
B3: Vrsta peleta | C3: S-Biom | D3: Jela Star Prijepolje | F3: Sparrow | G3: banja koviljaca | H3: GIR Kraljevo | I3: SAVOX Milici | J3: biostar | K3: bau energy | L3: biopoint | M3: Knjazevac | N3: Jela Prijepolje | O3: Jela Prijepolje | P3: Spacva
B4: Rupe za sekundarni vazduh | C4: Da | D4: Ne | E4: Da | F4: Ne | G4: Da | H4: Da | I4: Ne | J4: Da | K4: Da | L4: Da | M4: Da | N4: Da | O4: Da | P4: Da
B5: Kapacitet puža (g/min) | C5: 75 | D5: 72 | E5: 72 | F5: 78 | G5: 68 | H5: 80 | I5: 65 | J5: 140 | K5: 120 | L5: 300 | M5: 75 | N5: 62 | O5: 59 | P5: 60
B6: Zadata temperatura kotla | C6: 72 | D6: 60 | E6: 72 | F6: 72 | G6: 60 | H6: 72 | I6: 65 | J6: 74 | K6: 82 | L6: 76 | M6: 75 | N6: 73 | O6: 75 | P6: 70
B7: Mešni ventil | C7: Četvorokraki sa regulacijom | D7: Trokraki sa regulacijom | E7: Trokraki bez regulacije | F7: Trokraki bez regulacije | G7: Trokraki bez regulacije | H7: Četvorokraki bez regulacije | I7: Četvorokraki bez regulacije | J7: Trokraki bez regulacije | K7: Četvorokraki bez regulacije | L7: Četvorokraki bez regulacije | M7: Četvorokraki sa regulacijom | N7: Četvorokraki bez regulacije | O7: Trokraki bez regulacije | P7: Trokraki bez regulacije
B8: Opšti parametri (šifra 4321)
A9: P1 | B9: Max time ignition min | C9: 15 | D9: 15 | E9: 15 | F9: 15 | G9: 15 | H9: 58 | I9: 15 | J9: 15 | K9: 15 | L9: 15 | M9: 15 | N9: 15 | O9: 15 | P9: 15
A10: P2 | B10: Flame stabilization time min | C10: 4 | D10: 3 | E10: 3 | F10: 3 | G10: 2 | H10: 12 | I10: 2 | J10: 3 | K10: 2 | L10: 5 | M10: 2 | N10: 2 | O10: 2 | P10: 2
A11: P3 | B11: Time between clean min | C11: 35 | D11: 40 | E11: 35 | F11: 30 | G11: 20 | H11: 32 | I11: 45 | J11: 45 | K11: 40 | L11: 20 | M11: 20 | N11: 2 | O11: 45 | P11: 20
A12: P4 | B12: Cleaning time sec | C12: 25 | D12: 30 | E12: 30 | F12: 30 | G12: 30 | H12: 25 | I12: 30 | J12: 30 | K12: 15 | L12: 25 | M12: 25 | N12: 99 | O12: 99 | P12: 30
A13: P5 | B13: Alarms delay sec | C13: 120 | D13: 120 | E13: 120 | F13: 120 | G13: 120 | H13: 120 | I13: 120 | J13: 120 | K13: 120 | L13: 120 | M13: 120 | N13: 120 | O13: 120 | P13: 120
A14: P6 | B14: Max temperature | C14: 250 | D14: 250 | E14: 210 | F14: 160 | G14: 250 | H14: 230 | I14: 200 | J14: 200 | K14: 200 | L14: 200 | M14: 210 | N14: 230 | O14: 230 | P14: 255
A15: P7 | B15: Delta Flame off | C15: 12 | D15: 5 | E15: 4 | F15: 5 | G15: 10 | H15: 12 | I15: 10 | J15: 5 | K15: 10 | L15: 9 | M15: 8 | N15: 10 | O15: 10 | P15: 10
A16: P8 | B16: Delta Flame Burning | C16: 15 | D16: 15 | E16: 15 | F16: 15 | G16: 15 | H16: 15 | I16: 15 | J16: 15 | K16: 15 | L16: 15 | M16: 13 | N16: 15 | O16: 15 | P16: 15
A17: P9 | B17: Preload feed sec | C17: 45 | D17: 45 | E17: 45 | F17: 55 | G17: 25 | H17: 35 | I17: 50 | J17: 45 | K17: 45 | L17: 0 | M17: 20 | N17: 55 | O17: 55 | P17: 15
A18: P10 | B18: Water temperature antifreeze | C18: 2 | D18: 2 | E18: 2 | F18: 5 | G18: 2 | H18: 2 | I18: 2 | J18: 2 | K18: 2 | L18: 5 | M18: 2 | N18: 2 | O18: 2 | P18: 2
A19: P11 | B19: Water temperature pump | C19: 55 | D19: 40 | E19: 57 | F19: 55 | G19: 50 | H19: 55 | I19: 40 | J19: 60 | K19: 67 | L19: 60 | M19: 50 | N19: 65 | O19: 66 | P19: 55
A20: P12 | B20: Time between clean EV hour | C20: 0 | D20: 99 | E20: 99 | F20: 99 | G20: 0 | H20: 0 | I20: 0 | J20: 0 | K20: 0 | L20: 0 | N20: 0 | O20: 0 | P20: 0
A21: P13 | B21: Cleaning time EV min | C21: 0 | D21: 9 | E21: 9 | F21: 9 | G21: 0 | H21: 0 | I21: 0 | J21: 0 | K21: 0 | L21: 0 | N21: 0 | O21: 0 | P21: 0
A22: P14 | B22: Critical Alarms delay sec | C22: 15 | D22: 15 | E22: 15 | F22: 15 | G22: 15 | H22: 15 | I22: 15 | J22: 15 | K22: 15 | L22: 15 | N22: 15 | O22: 15 | P22: 15
A23: P15 | B23: Management Fan for burning | C23: 0 | D23: 0 | E23: 0 | F23: 0 | G23: 0 | H23: 0 | I23: 0 | J23: 0 | K23: 0 | L23: 0 | N23: 0 | O23: 0 | P23: 0
A24: P16 | B24: Hour for service x 1000 | C24: 0 | D24: 0 | E24: 0 | F24: 0 | G24: 0 | H24: 0 | I24: 0 | J24: 0 | K24: 0 | L24: 0 | N24: 0 | O24: 0 | P24: 0
A25: P17 | B25: Minimum turning off time min | C25: 5 | D25: 7 | E25: 7 | F25: 10 | G25: 5 | H25: 5 | I25: 7 | J25: 5 | K25: 3 | L25: 3 | N25: 7 | O25: 7 | P25: 7
A26: P18 | B26: Time preignition resistance min | C26: 3 | D26: 3 | E26: 3 | F26: 3 | G26: 3 | H26: 3 | I26: 3 | J26: 3 | K26: 3 | L26: 3 | N26: 3 | O26: 3 | P26: 3
A27: P19 | B27: Cycle number for pot change | C27: 3 | D27: 3 | E27: 3 | F27: 3 | G27: 1 | H27: 3 | I27: 3 | J27: 3 | K27: 3 | L27: 1 | N27: 3 | O27: 3 | P27: 3
A28: P20 | B28: Feeder loading time ON sec | C28: 0.9 | D28: 1 | E28: 1.1 | F28: 1.2 | G28: 1 | H28: 0.9 | I28: 1.1 | J28: 1 | K28: 1.3 | L28: 1.8 | N28: 1.2 | O28: 1.6 | P28: 0.4
A29: P21 | B29: Feeder loading time OFF sec | C29: 3.5 | D29: 3 | E29: 3 | F29: 3 | G29: 5 | H29: 3.5 | I29: 3 | J29: 5 | K29: 3.5 | L29: 10 | N29: 4 | O29: 3 | P29: 3
A30: P22 | B30: Feeder on start time ON sec | C30: 0.8 | D30: 1 | E30: 0.8 | F30: 1.4 | G30: 1.2 | H30: 0.8 | I30: 1.6 | J30: 1.2 | K30: 1.6 | L30: 1.4 | N30: 1.2 | O30: 1.4 | P30: 0.5
A31: P23 | B31: Feeder on start time OFF sec | C31: 3.5 | D31: 3 | E31: 3 | F31: 3 | G31: 5 | H31: 3.5 | I31: 3 | J31: 4.8 | K31: 3 | L31: 9.5 | N31: 4 | O31: 3 | P31: 3.4
... A33: P25 | B33: Feeder cleaning time OFF sec | C33: 5 | D33: 3 | E33: 5 | F33: 5 | G33: 5 | H33: 5 | I33: 5 | J33: 5.2 | K33: 5 | L33: 6 | N33: 5 | O33: 3.5 | P33: 5
A34: P26 | B34: Feeder time ON power 1 | C34: 2.2 | D34: 1.3 | E34: 1.2 | F34: 1.4 | G34: 1 | H34: 1.1 | I34: 1 | J34: 0.6 | K34: 1.4 | L34: 1.2 | M34: 1.5 | N34: 1.5 | O34: 1.7 | P34: 1.5
A35: P27 | B35: Feeder time OFF power 1 | C35: 5.8 | D35: 3.5 | E35: 3.3 | F35: 3.4 | G35: 3 | H35: 2.5 | I35: 3.2 | J35: 5.4 | K35: 4.6 | L35: 8 | M35: 5 | N35: 3.6 | O35: 3.2 | P35: 4
A36: P28 | B36: Feeder time ON power 2 | C36: 2.9 | D36: 2 | E36: 1.4 | F36: 1.6 | G36: 1.5 | H36: 1.6 | I36: 1.5 | J36: 0.9 | K36: 1.8 | L36: 1.5 | M36: 2 | N36: 1.5 | O36: 2 | P36: 2
A37: P29 | B37: Feeder time OFF power 2 | C37: 5.1 | D37: 3.3 | E37: 2.9 | F37: 2.9 | G37: 2.8 | H37: 1.5 | I37: 2.8 | J37: 5.1 | K37: 4.2 | L37: 7.7 | M37: 3 | N37: 3 | O37: 2.5 | P37: 3.5
A38: P30 | B38: Feeder time ON power 3 | C38: 3.5 | D38: 3 | E38: 1.7 | F38: 1.8 | G38: 1.8 | H38: 2.5 | I38: 1.8 | J38: 1.2 | K38: 2.2 | L38: 1.8 | M38: 2.5 | N38: 2 | O38: 2.5 | P38: 2.4
A39: P31 | B39: Feeder time OFF power 3 | C39: 4.5 | D39: 3 | E39: 2.6 | F39: 2.6 | G39: 2.4 | H39: 7.5 | I39: 2.4 | J39: 4.8 | K39: 3.8 | L39: 7.4 | M39: 2.5 | N39: 3 | O39: 2.4 | P39: 3.1
A40: P32 | B40: Feeder time ON power 4 | C40: 4 | D40: 4 | E40: 2 | F40: 2.2 | G40: 2 | H40: 3 | I40: 2 | J40: 1.5 | K40: 2.6 | L40: 2.2 | M40: 3 | N40: 2.5 | O40: 3 | P40: 2.8
A41: P33 | B41: Feeder time OFF power 4 | C41: 4 | D41: 2.7 | E41: 2.3 | F41: 2.3 | G41: 2.2 | H41: 7 | I41: 2 | J41: 4.5 | K41: 3.4 | L41: 7 | M41: 2 | N41: 2.7 | O41: 2.2 | P41: 2.7
...

Sheet Toby 20 uporedni prikaz
B1: Uporedni prikaz paramterara unetih u prvoj tabeli za kotlove Toby20. Ukoliko zelite da promenite neki od svojih parametara uradite to u prvoj tabeli. | C1: =IFERROR(__xludf.DUMMYFUNCTION("FILTER('Parametri Toby'!C1:AL88, 'Parametri Toby'!C2:AL2 = ""Toby 20"")"),"boree") -> boree | D1: gRk0wac. | E1: richiemsch | F1: MyX-Mesha | G1: stepa 1986 | H1: vukpiper | I1: jugordana | J1: DE-Va Toby 20 H set (kamin pelet) | K1: bokikrag | L1: dany12 | M1: sasa-74
B2: Model kotla | C2: Toby 20 | D2: Toby 20 | E2: Toby 20 | F2: Toby 20 | G2: Toby 20 | H2: Toby 20 | I2: Toby 20 | J2: Toby 20 | K2: Toby 20 | L2: Toby 20 | M2: Toby 20
B3: Vrsta peleta | C3: Spačva | D3: Forest Crown | E3: Nis-pelet | F3: Elgrad Teslić | G3: jela star | H3: biopoint | I3: jelastar | J3: Varvarin | K3: Sparrow | L3: S-Biom | M3: bioenergy
B4: Rupe za sekundarni vazduh | C4: Da 4 | D4: Da 3 | E4: Da | F4: Da | G4: Ne | H4: Ne | I4: Da | J4: Da | K4: Ne | L4: Ne | M4: Da
B5: Kapacitet puža (g/min) | C5: 145 | D5: 120 | E5: 117 | F5: 130 | G5: 123 | H5: 115 | I5: 140 | J5: 120 | K5: 138 | L5: 120 | M5: 120
B6: Zadata temperatura kotla | C6: 78 | D6: 75 | E6: 75 | F6: 80 | G6: 60 | H6: 75 | I6: 75 | J6: 60 | K6: 75 | L6: 60 | M6: 72
B7: Mešni ventil | C7: Četvorokraki sa regulacijom | D7: Četvorokraki bez regulacije | E7: Četvorokraki sa regulacijom | F7: Četvorokraki sa regulacijom | G7: Četvorokraki sa regulacijom | H7: Četvorokraki bez regulacije | I7: Četvorokraki sa regulacijom | J7: Ne | K7: Četvorokraki bez regulacije | L7: Trokraki bez regulacije | M7: Četvorokraki bez regulacije
B8: Opšti parametri (šifra 4321)
A9: P1 | B9: Max time ignition min | C9: 15 | D9: 15 | E9: 15 | F9: 10 | G9: 15 | H9: 15 | I9: 15 | J9: 15 | K9: 15 | L9: 20 | M9: 15
A10: P2 | B10: Flame stabilization time min | C10: 5 | D10: 5 | E10: 4 | F10: 3 | G10: 5 | H10: 5 | I10: 1 | J10: 2 | K10: 5 | L10: 4 | M10: 4
A11: P3 | B11: Time between clean min | C11: 45 | D11: 45 | E11: 40 | F11: 30 | G11: 35 | H11: 45 | I11: 40 | J11: 45 | K11: 30 | L11: 20 | M11: 45
A12: P4 | B12: Cleaning time sec | C12: 20 | D12: 15 | E12: 20 | F12: 20 | G12: 20 | H12: 15 | I12: 20 | J12: 25 | K12: 30 | L12: 20 | M12: 15
A13: P5 | B13: Alarms delay sec | C13: 120 | D13: 120 | E13: 120 | F13: 120 | G13: 120 | H13: 120 | I13: 120 | J13: 120 | K13: 120 | L13: 120 | M13: 120
A14: P6 | B14: Max temperature | C14: 200 | D14: 200 | E14: 200 | F14: 200 | G14: 200 | H14: 250 | I14: 200 | J14: 200 | K14: 200 | L14: 250 | M14: 250
A15: P7 | B15: Delta Flame off | C15: 5 | D15: 10 | E15: 10 | F15: 10 | G15: 10 | H15: 5 | I15: 5 | J15: 5 | K15: 8 | L15: 10 | M15: 10
A16: P8 | B16: Delta Flame Burning | C16: 15 | D16: 15 | E16: 15 | F16: 15 | G16: 15 | H16: 15 | I16: 15 | J16: 10 | K16: 15 | L16: 15 | M16: 15
A17: P9 | B17: Preload feed sec | C17: 9 | D17: 40 | E17: 85 | F17: 65 | G17: 90 | H17: 100 | I17: 100 | J17: 80 | K17: 4 | L17: 100 | M17: 80
A18: P10 | B18: Water temperature antifreeze | C18: 2 | D18: 3 | E18: 2 | F18: 2 | G18: 2 | H18: 2 | I18: 2 | J18: 2 | K18: 2 | L18: 2 | M18: 2
A19: P11 | B19: Water temperature pump | C19: 60 | D19: 45 | E19: 65 | F19: 65 | G19: 50 | H19: 35 | I19: 60 | J19: 45 | K19: 65 | L19: 50 | M19: 60
A20: P12 | B20: Time between clean EV hour | C20: 0 | D20: 0 | E20: 11211 | F20: 0 | G20: 0 | H20: 0 | I20: 99 | J20: 0 | K20: 0 | L20: 99 | M20: 0
... A28: P20 | B28: Feeder loading time ON sec | C28: 2 | D28: 1 | E28: 1.6 | F28: 1.8 | G28: 1.5 | H28: 1.4 | I28: 1.8 | J28: 1 | K28: 1.5 | L28: 1.2 | M28: 1.2
A29: P21 | B29: Feeder loading time OFF sec | C29: 4 | D29: 5 | E29: 5 | F29: 5 | G29: 5 | H29: 5 | I29: 5 | J29: 5 | K29: 5 | L29: 5 | M29: 5,0
A30: P22 | B30: Feeder on start time ON sec | C30: 1.5 | D30: 0.7 | E30: 1 | F30: 1.6 | G30: 1.5 | H30: 1.2 | I30: 1.6 | J30: 1.2 | K30: 1.5 | L30: 1 | M30: 1
A31: P23 | B31: Feeder on start time OFF sec | C31: 5 | D31: 5 | E31: 5 | F31: 5 | G31: 5 | H31: 5 | I31: 5 | J31: 5 | K31: 5 | L31: 5 | M31: 5
A32: P24 | B32: Feeder cleaning time ON sec | C32: 1.5 | D32: 1 | E32: 1 | F32: 1 | G32: 1.5 | H32: 1 | I32: 1 | J32: 1.5 | K32: 1.5 | L32: 1 | M32: 1.2
A33: P25 | B33: Feeder cleaning time OFF sec | C33: 5 | D33: 5 | E33: 5 | F33: 5 | G33: 5 | H33: 5 | I33: 5 | J33: 5 | K33: 5 | L33: 5 | M33: 5
A34: P26 | B34: Feeder time ON power 1 | C34: 1.4 | D34: 0.6 | E34: 0.8 | F34: 1 | G34: 1.5 | H34: 1.6 | I34: 1.5 | J34: 0.7 | K34: 1.2 | L34: 1.5 | M34: 1
A35: P27 | B35: Feeder time OFF power 1 | C35: 5.6 | D35: 3.5 | E35: 3.5 | F35: 3.5 | G35: 4 | H35: 3.5 | I35: 8.5 | J35: 3.5 | K35: 8.8 | L35: 4.5 | M35: 4
A36: P28 | B36: Feeder time ON power 2 | C36: 1.7 | D36: 1.2 | E36: 1.2 | F36: 1.3 | G36: 2 | H36: 2.1 | I36: 2.1 | J36: 1.2 | K36: 1.9 | L36: 2 | M36: 1.5
A37: P29 | B37: Feeder time OFF power 2 | C37: 5.3 | D37: 3.5 | E37: 3.5 | F37: 3.5 | G37: 3.5 | H37: 3.5 | I37: 7.9 | J37: 3.5 | K37: 8.1 | L37: 4 | M37: 4
A38: P30 | B38: Feeder time ON power 3 | C38: 2 | D38: 2 | E38: 1.7 | F38: 1.7 | G38: 2.6 | H38: 2.7 | I38: 3 | J38: 2.5 | K38: 2.4 | L38: 2.5 | M38: 2
A39: P31 | B39: Feeder time OFF power 3 | C39: 5 | D39: 3.5 | E39: 3.5 | F39: 3.5 | G39: 3.5 | H39: 3.5 | I39: 7 | J39: 3.5 | K39: 7.6 | L39: 3.5 | M39: 4
A40: P32 | B40: Feeder time ON power 4 | C40: 2.3 | D40: 2.5 | E40: 2.1 | F40: 2.2 | G40: 3.5 | H40: 3.4 | I40: 3.5 | J40: 3 | K40: 2.9 | L40: 3 | M40: 3
A41: P33 | B41: Feeder time OFF power 4 | C41: 4.7 | D41: 3.5 | E41: 3.5 | F41: 3.5 | G41: 3.5 | H41: 3.5 | I41: 6.5 | J41: 3.5 | K41: 7.1 | L41: 3 | M41: 4
... A72: P64 | B72: Smoke Temperature Adjust Pot 5 | C72: 0 | D72: 0 | E72: 0 | F72: 0 | G72: 0 | H72: 0 | I72: 0 | J72: 0 | K72: 0 | L72: 0 | M72: 0
B73: Tehnički parametri (šifra 1234)
A74: P1 | B74: Restart from Blackout | C74: 1 | D74: 1 | E74: 0 | F74: 0 | G74: 0 | H74: 0 | I74: 1 | J74: 0 | K74: 1 | L74: 1 | M74: 0
A75: P2 | B75: Delta Temperature for wait restart | C75: 7 | D75: 7 | E75: 2 | F75: 2 | G75: 2 | H75: 2 | I75: 2 | J75: 2 | K75: 10 | L75: 10 | M75: 15
A76: P3 | B76: Ignition attempts | C76: 1 | D76: 1 | E76: 1 | F76: 1 | G76: 1 | H76: 1 | I76: 1 | J76: 1 | K76: 1 | L76: 1 | M76: 1
A77: P4 | B77: Lamp time min | C77: 3 | D77: 3 | E77: 3 | F77: 3 | G77: 3 | H77: 3 | I77: 3 | J77: 3 | K77: 3 | L77: 3 | M77: 3
...

Sheet Toby 30 uporedni prikaz
B1: Uporedni prikaz paramterara unetih u prvoj tabeli za kotlove Toby30. Ukoliko zelite da promenite neki od svojih parametara uradite to u prvoj tabeli. | C1: =IFERROR(__xludf.DUMMYFUNCTION("FILTER('Parametri Toby'!C1:AL88, 'Parametri Toby'!C2:AL2 = ""Toby 30"")"),"mvp84") -> mvp84 | D1: srdjan68 | E1: 1.salee | F1: Simke.BGD | G1: ironmaiden | H1: bulevarterm | I1: andjelko | J1: mirkant | K1: rade topola | L1: dongrga
B2: Model kotla | C2: Toby 30 | D2: Toby 30 | E2: Toby 30 | F2: Toby 30 | G2: Toby 30 | H2: Toby 30 | I2: Toby 30 | J2: Toby 30 | K2: Toby 30 | L2: Toby 30
B3: Vrsta peleta | C3: NANIX | D3: Miraja i Nanix | E3: CROWN FOREST | F3: Nanix wood | G3: bukovi pelet (MNE) | H3: total pelet | I3: jela star | J3: jelova gora | L3: premium pelet
B4: Rupe za sekundarni vazduh | C4: Da | D4: Da | E4: Ne | F4: Ne | G4: Da | H4: Da | I4: Da | J4: Da | K4: Da | L4: Ne
B5: Kapacitet puža (g/min) | C5: 280 | D5: 250 | E5: 370 | F5: 270 | G5: 230 | H5: 280 | I5: 68 | J5: 68 | K5: 280 | L5: 250
B6: Zadata temperatura kotla | C6: 80 | D6: 65 | E6: 75 | F6: 70 | G6: 80 | H6: 65 | I6: 55 | J6: 65 | K6: 77 | L6: 75
B7: Mešni ventil | C7: Četvorokraki sa regulacijom | D7: Četvorokraki bez regulacije | E7: Ne | F7: Ne | G7: Četvorokraki sa regulacijom | H7: Trokraki bez regulacije | I7: Trokraki bez regulacije | J7: Trokraki bez regulacije | K7: Četvorokraki bez regulacije | L7: Ne
B8: Opšti parametri (šifra 4321)
A9: P1 | B9: Max time ignition min | C9: 15 | D9: 15 | E9: 30 | F9: 15 | G9: 15 | H9: 15 | I9: 15 | J9: 15 | L9: 15
A10: P2 | B10: Flame stabilization time min | C10: 4 | D10: 4 | E10: 2 | F10: 4 | G10: 4 | H10: 5 | I10: 2 | J10: 2 | L10: 5
A11: P3 | B11: Time between clean min | C11: 30 | D11: 45 | E11: 0 | F11: 45 | G11: 20 | H11: 45 | I11: 40 | J11: 45 | L11: 30
A12: P4 | B12: Cleaning time sec | C12: 20 | D12: 25 | E12: 99 | F12: 99 | G12: 25 | H12: 20 | I12: 30 | J12: 10 | L12: 15
A13: P5 | B13: Alarms delay sec | C13: 120 | D13: 120 | E13: 120 | F13: 120 | G13: 120 | H13: 120 | I13: 120 | J13: 120 | L13: 120
A14: P6 | B14: Max temperature | C14: 200 | D14: 170 | E14: 250 | F14: 250 | G14: 250 | H14: 200 | I14: 210 | J14: 200 | L14: 250
A15: P7 | B15: Delta Flame off | C15: 10 | D15: 10 | E15: 15 | F15: 10 | G15: 9 | H15: 10 | I15: 10 | J15: 10 | L15: 9
A16: P8 | B16: Delta Flame Burning | C16: 10 | D16: 15 | E16: 29 | F16: 15 | G16: 15 | H16: 15 | I16: 15 | J16: 15 | L16: 15
A17: P9 | B17: Preload feed sec | C17: 50 | D17: 35 | E17: 47 | F17: 50 | G17: 10 | H17: 40 | I17: 40 | J17: 20 | L17: 55
A18: P10 | B18: Water temperature antifreeze | C18: 2 | D18: 2 | E18: 5 | F18: 2 | G18: 5 | H18: 2 | I18: 2 | J18: 2 | L18: 2
A19: P11 | B19: Water temperature pump | C19: 67 | D19: 50 | E19: 56 | F19: 50 | G19: 65 | H19: 50 | I19: 45 | J19: 45 | L19: 50
A20: P12 | B20: Time between clean EV hour | C20: 0 | D20: 0 | E20: 0 | F20: 0 | G20: 99 | H20: 0 | I20: 0 | J20: 0 | L20: 0
... A33: P25 | B33: Feeder cleaning time OFF sec | C33: 5 | D33: 6 | E33: 5 | F33: 3.5 | G33: 6 | H33: 5 | I33: 3 | J33: 3 | L33: 3.5
A34: P26 | B34: Feeder time ON power 1 | C34: 1.2 | D34: 1.3 | E34: 1 | F34: 0.7 | G34: 1.2 | H34: 0.5 | I34: 1 | J34: 0.6 | K34: 1.3 | L34: 0.5
A35: P27 | B35: Feeder time OFF power 1 | C35: 8 | D35: 8 | E35: 7 | F35: 3.5 | G35: 8 | H35: 3.5 | I35: 4 | J35: 2.8 | K35: 3.5 | L35: 4
A36: P28 | B36: Feeder time ON power 2 | C36: 1.5 | D36: 1.5 | E36: 1 | F36: 1 | G36: 1.5 | H36: 1 | I36: 1.7 | J36: 0.9 | K36: 1.6 | L36: 1.5
A37: P29 | B37: Feeder time OFF power 2 | C37: 8.5 | D37: 7.7 | E37: 5 | F37: 3.5 | G37: 7.7 | H37: 3.5 | I37: 4 | J37: 3 | K37: 8.4 | L37: 3.5
A38: P30 | B38: Feeder time ON power 3 | C38: 2 | D38: 1.8 | E38: 1 | F38: 2.5 | G38: 1.8 | H38: 2.5 | I38: 2.7 | J38: 1.2 | K38: 2.62 | L38: 2
A39: P31 | B39: Feeder time OFF power 3 | C39: 8 | D39: 7.4 | E39: 4 | F39: 3.5 | G39: 7.4 | H39: 3.5 | I39: 4 | J39: 3 | K39: 7.38 | L39: 3.5
A40: P32 | B40: Feeder time ON power 4 | C40: 2.5 | D40: 2.2 | E40: 1 | F40: 3.5 | G40: 2.2 | H40: 3.5 | I40: 2.7 | J40: 1.4 | K40: 3.28 | L40: 2.5
A41: P33 | B41: Feeder time OFF power 4 | C41: 7.5 | D41: 7 | E41: 3.5 | F41: 3.5 | G41: 7 | H41: 3.3 | I41: 3 | J41: 2.6 | K41: 6.72 | L41: 3.5
A42: P34 | B42: Feeder time ON power 5 | C42: 3 | D42: 2.5 | E42: 1.6 | F42: 5 | G42: 2.5 | H42: 4.6 | I42: 9 | J42: 2 | K42: 3.93 | L42: 3
A43: P35 | B43: Feeder time OFF power 5 | C43: 7 | D43: 6.7 | E43: 3 | F43: 3.5 | G43: 6.7 | H43: 3.5 | I43: 2 | J43: 2.3 | K43: 6.07 | L43: 3.5
A44: P36 | B44: Combustion fan on load | C44: 125 | D44: 110 | E44: 110 | F44: 140 | G44: 110 | H44: 140 | I44: 220 | J44: 235 | L44: 115
A45: P37 | B45: Combustion fan on start | C45: 140 | D45: 105 | E45: 105 | F45: 160 | G45: 105 | H45: 160 | I45: 245 | J45: 240 | L45: 125
A46: P38 | B46: Combustion fan on cleaning | C46: 170 | D46: 130 | E46: 300 | F46: 100 | G46: 175 | H46: 220 | I46: 300 | J46: 300 | L46: 300
A47: P39 | B47: Combustion fan on power 1 | C47: 75 | D47: 65 | E47: 75 | F47: 76 | G47: 87 | H47: 61 | I47: 180 | J47: 180 | L47: 75
A48: P40 | B48: Combustion fan on power 2 | C48: 78 | D48: 75 | E48: 80 | F48: 83 | G48: 92 | H48: 65 | I48: 190 | J48: 190 | L48: 80
A49: P41 | B49: Combustion fan on power 3 | C49: 82 | D49: 80 | E49: 85 | F49: 93 | G49: 96 | H49: 70 | I49: 200 | J49: 200 | L49: 85
A50: P42 | B50: Combustion fan on power 4 | C50: 85 | D50: 85 | E50: 90 | F50: 105 | G50: 100 | H50: 76 | I50: 210 | J50: 210 | L50: 90
A51: P43 | B51: Combustion fan on power 5 | C51: 89 | D51: 90 | E51: 100 | F51: 115 | G51: 105 | H51: 80 | I51: 230 | J51: 235 | L51: 95
A52: P44 | B52: Combustion fan adjust -4 | C52: 0 | D52: 0 | E52: 0 | F52: 0 | G52: 0 | H52: 0 | I52: 0 | J52: 0
...

Sheet Proračun snage
B1: Parametri za orijentacioni proračun snage se povlače automatski iz tabele sa prvog lista. Ne možete ovde popunjavati ručno. Upišite parametre u tabeli sa prvog lista i proračun će se ovde pojaviti automatski. | L1: Ovde možete upisati kratak opis sistema, objekta koji grejete i slično
A2: ='Parametri Toby'!C1 -> koyote | B2: Snaga | C2: ON (sec) | D2: OFF (sec) | E2: Ciklus (sec) | F2: Broj ciklusa u min | G2: Puz ON (min/hrs) | H2: Kapacitet puza (gram/min) | I2: Potrosnja (kg/sat) | J2: Pelet (kWh/kg) | K2: Power (kW) | L2: Prizemna kuca - 80m2, cigla, stiropor spolja 5cm, PVC stolarija (argonska takla), staklena vuna iznad spustenog plafona, pumpa u kotlovskom i radijatorskom krugu, cetvorokraki mesni sa automatikom. Temperatura prostorija 22-23C.
B3: 5 | C3: ='Parametri Toby'!C42 -> 4.5 | D3: ='Parametri Toby'!C43 -> 3.5 | E3: =SUM(C3:D3) -> 8 | F3: =60/E3 -> 7.5 | G3: =F3*C3 -> 33.75 | H3: ='Parametri Toby'!C5 -> 75 | I3: =H3*G3/1000 -> 2.53125 | J3: 4.7 | K3: =J3*I3 -> 11.896875
B4: 4 | C4: ='Parametri Toby'!C40 -> 4 | D4: ='Parametri Toby'!C41 -> 4 | E4: =SUM(C4:D4) -> 8 | F4: =60/E4 -> 7.5 | G4: =F4*C4 -> 30 | H4: ='Parametri Toby'!C5 -> 75 | I4: =F4*C4*H4/1000 -> 2.25 | J4: 4.7 | K4: =J4*I4 -> 10.575
B5: 3 | C5: ='Parametri Toby'!C38 -> 3.5 | D5: ='Parametri Toby'!C39 -> 4.5 | E5: =SUM(C5:D5) -> 8 | F5: =60/E5 -> 7.5 | G5: =F5*C5 -> 26.25 | H5: ='Parametri Toby'!C5 -> 75 | I5: =F5*C5*H5/1000 -> 1.96875 | J5: 4.7 | K5: =J5*I5 -> 9.253125
B6: 2 | C6: ='Parametri Toby'!C36 -> 2.9 | D6: ='Parametri Toby'!C37 -> 5.1 | E6: =SUM(C6:D6) -> 8 | F6: =60/E6 -> 7.5 | G6: =F6*C6 -> 21.75 | H6: ='Parametri Toby'!C5 -> 75 | I6: =F6*C6*H6/1000 -> 1.63125 | J6: 4.7 | K6: =J6*I6 -> 7.666875
B7: 1 | C7: ='Parametri Toby'!C34 -> 2.2 | D7: ='Parametri Toby'!C35 -> 5.8 | E7: =SUM(C7:D7) -> 8 | F7: =60/E7 -> 7.5 | G7: =F7*C7 -> 16.5 | H7: ='Parametri Toby'!C5 -> 75 | I7: =F7*C7*H7/1000 -> 1.2375 | J7: 4.7 | K7: =J7*I7 -> 5.81625
A8: ='Parametri Toby'!F1 -> richiemsch | B8: Snaga | C8: ON (sec) | D8: OFF (sec) | E8: Ciklus (sec) | F8: Broj ciklusa u min | G8: Puz ON (min/hrs) | H8: Kapacitet puza (gram/min) | I8: Potrosnja (kg/sat) | J8: Pelet (kWh/kg) | K8: Power (kW) | L8: Prosecna potrosnja 1,6kg
B9: 5 | C9: ='Parametri Toby'!F42 -> 3 | D9: ='Parametri Toby'!F43 -> 3.5 | E9: =SUM(C9:D9) -> 6.5 | F9: =60/E9 -> 9.2307692 | G9: =F9*C9 -> 27.692308 | H9: ='Parametri Toby'!F5 -> 117 | I9: =H9*G9/1000 -> 3.24 | J9: 4.7 | K9: =J9*I9 -> 15.228
B10: 4 | C10: ='Parametri Toby'!F40 -> 2.1 | D10: ='Parametri Toby'!F41 -> 3.5 | E10: =SUM(C10:D10) -> 5.6 | F10: =60/E10 -> 10.714286 | G10: =F10*C10 -> 22.5 | H10: ='Parametri Toby'!F5 -> 117 | I10: =F10*C10*H10/1000 -> 2.6325 | J10: 4.7 | K10: =J10*I10 -> 12.37275
B11: 3 | C11: ='Parametri Toby'!F38 -> 1.7 | D11: ='Parametri Toby'!F39 -> 3.5 | E11: =SUM(C11:D11) -> 5.2 | F11: =60/E11 -> 11.538462 | G11: =F11*C11 -> 19.615385 | H11: ='Parametri Toby'!F5 -> 117 | I11: =F11*C11*H11/1000 -> 2.295 | J11: 4.7 | K11: =J11*I11 -> 10.7865
B12: 2 | C12: ='Parametri Toby'!F36 -> 1.2 | D12: ='Parametri Toby'!F37 -> 3.5 | E12: =SUM(C12:D12) -> 4.7 | F12: =60/E12 -> 12.765957 | G12: =F12*C12 -> 15.319149 | H12: ='Parametri Toby'!F5 -> 117 | I12: =F12*C12*H12/1000 -> 1.7923404 | J12: 4.7 | K12: =J12*I12 -> 8.424
B13: 1 | C13: ='Parametri Toby'!F34 -> 0.8 | D13: ='Parametri Toby'!F35 -> 3.5 | E13: =SUM(C13:D13) -> 4.3 | F13: =60/E13 -> 13.953488 | G13: =F13*C13 -> 11.162791 | H13: ='Parametri Toby'!F5 -> 117 | I13: =F13*C13*H13/1000 -> 1.3060465 | J13: 4.7 | K13: =J13*I13 -> 6.1384186
A14: ='Parametri Toby'!G1 -> MyX-Mesha | B14: Snaga | C14: ON (sec) | D14: OFF (sec) | E14: Ciklus (sec) | F14: Broj ciklusa u min | G14: Puz ON (min/hrs) | H14: Kapacitet puza (gram/min) | I14: Potrosnja (kg/sat) | J14: Pelet (kWh/kg) | K14: Power (kW) | L14: Napomena: Dvoetazna kuca, ukupne grejne povrsine 170m2. Izolacija 5cm stiropor sa vanjske strane, alu stolarija petokomorna, izo-stakla 4+12+4mm. Sobna temperatura kontrolisana sobnim termostatom na 24*C, i kao takva je 24/7.
B15: 5 | C15: ='Parametri Toby'!G42 -> 3 | D15: ='Parametri Toby'!G43 -> 3.5 | E15: =SUM(C15:D15) -> 6.5 | F15: =60/E15 -> 9.2307692 | G15: =F15*C15 -> 27.692308 | H15: ='Parametri Toby'!G5 -> 130 | I15: =H15*G15/1000 -> 3.6 | J15: 4.7 | K15: =J15*I15 -> 16.92
B16: 4 | C16: ='Parametri Toby'!G40 -> 2.2 | D16: ='Parametri Toby'!G41 -> 3.5 | E16: =SUM(C16:D16) -> 5.7 | F16: =60/E16 -> 10.526316 | G16: =F16*C16 -> 23.157895 | H16: ='Parametri Toby'!G5 -> 130 | I16: =F16*C16*H16/1000 -> 3.0105263 | J16: 4.7 | K16: =J16*I16 -> 14.149474
B17: 3 | C17: ='Parametri Toby'!G38 -> 1.7 | D17: ='Parametri Toby'!G39 -> 3.5 | E17: =SUM(C17:D17) -> 5.2 | F17: =60/E17 -> 11.538462 | G17: =F17*C17 -> 19.615385 | H17: ='Parametri Toby'!G5 -> 130 | I17: =F17*C17*H17/1000 -> 2.55 | J17: 4.7 | K17: =J17*I17 -> 11.985
B18: 2 | C18: ='Parametri Toby'!G36 -> 1.3 | D18: ='Parametri Toby'!G37 -> 3.5 | E18: =SUM(C18:D18) -> 4.8 | F18: =60/E18 -> 12.5 | G18: =F18*C18 -> 16.25 | H18: ='Parametri Toby'!G5 -> 130 | I18: =F18*C18*H18/1000 -> 2.1125 | J18: 4.7 | K18: =J18*I18 -> 9.92875
B19: 1 | C19: ='Parametri Toby'!G34 -> 1 | D19: ='Parametri Toby'!G35 -> 3.5 | E19: =SUM(C19:D19) -> 4.5 | F19: =60/E19 -> 13.333333 | G19: =F19*C19 -> 13.333333 | H19: ='Parametri Toby'!G5 -> 130 | I19: =F19*C19*H19/1000 -> 1.7333333 | J19: 4.7 | K19: =J19*I19 -> 8.1466667
A20: ='Parametri Toby'!D1 -> boree | B20: Snaga | C20: ON (sec) | D20: OFF (sec) | E20: Ciklus (sec) | F20: Broj ciklusa u min | G20: Puz ON (min/hrs) | H20: Kapacitet puza (gram/min) | I20: Potrosnja (kg/sat) | J20: Pelet (kWh/kg) | K20: Power (kW) | L20: Prizemna kuća nove gradnje,grejna površina neto : 144m2, izolacija: stiropor 5cm spolja, u podu 5cm, i na tavanskoj ploči 5cm stiropora i 10cm mineralna vuna, PVC stolarija, T u kući oko 23°-24° danju , noću oko 21°, dve pumpe , termo glave.
B21: 5 | C21: ='Parametri Toby'!D42 -> 2.6 | D21: ='Parametri Toby'!D43 -> 4.4 | E21: =SUM(C21:D21) -> 7 | F21: =60/E21 -> 8.5714286 | G21: =F21*C21 -> 22.285714 | H21: ='Parametri Toby'!D5 -> 145 | I21: =H21*G21/1000 -> 3.2314286 | J21: 4.7 | K21: =J21*I21 -> 15.187714
B22: 4 | C22: ='Parametri Toby'!D40 -> 2.3 | D22: ='Parametri Toby'!D41 -> 4.7 | E22: =SUM(C22:D22) -> 7 | F22: =60/E22 -> 8.5714286 | G22: =F22*C22 -> 19.714286 | H22: ='Parametri Toby'!D5 -> 145 | I22: =F22*C22*H22/1000 -> 2.8585714 | J22: 4.7 | K22: =J22*I22 -> 13.435286
B23: 3 | C23: ='Parametri Toby'!D38 -> 2 | D23: ='Parametri Toby'!D39 -> 5 | E23: =SUM(C23:D23) -> 7 | F23: =60/E23 -> 8.5714286 | G23: =F23*C23 -> 17.142857 | H23: ='Parametri Toby'!D5 -> 145 | I23: =F23*C23*H23/1000 -> 2.4857143 | J23: 4.7 | K23: =J23*I23 -> 11.682857
B24: 2 | C24: ='Parametri Toby'!D36 -> 1.7 | D24: ='Parametri Toby'!D37 -> 5.3 | E24: =SUM(C24:D24) -> 7 | F24: =60/E24 -> 8.5714286 | G24: =F24*C24 -> 14.571429 | H24: ='Parametri Toby'!D5 -> 145 | I24: =F24*C24*H24/1000 -> 2.1128571 | J24: 4.7 | K24: =J24*I24 -> 9.9304286
B25: 1 | C25: ='Parametri Toby'!D34 -> 1.4 | D25: ='Parametri Toby'!D35 -> 5.6 | E25: =SUM(C25:D25) -> 7 | F25: =60/E25 -> 8.5714286 | G25: =F25*C25 -> 12 | H25: ='Parametri Toby'!D5 -> 145 | I25: =F25*C25*H25/1000 -> 1.74 | J25: 4.7 | K25: =J25*I25 -> 8.178
A26: ='Parametri Toby'!H1 -> mvp84 | B26: Snaga | C26: ON (sec) | D26: OFF (sec) | E26: Ciklus (sec) | F26: Broj ciklusa u min | G26: Puz ON (min/hrs) | H26: Kapacitet puza (gram/min) | I26: Potrosnja (kg/sat) | J26: Pelet (kWh/kg) | K26: Power (kW)
B27: 5 | C27: ='Parametri Toby'!H42 -> 3 | D27: ='Parametri Toby'!H43 -> 7 | E27: =SUM(C27:D27) -> 10 | F27: =60/E27 -> 6 | G27: =F27*C27 -> 18 | H27: ='Parametri Toby'!H5 -> 280 | I27: =H27*G27/1000 -> 5.04 | J27: 4.7 | K27: =J27*I27 -> 23.688
B28: 4 | C28: ='Parametri Toby'!H40 -> 2.5 | D28: ='Parametri Toby'!H41 -> 7.5 | E28: =SUM(C28:D28) -> 10 | F28: =60/E28 -> 6 | G28: =F28*C28 -> 15 | H28: ='Parametri Toby'!H5 -> 280 | I28: =F28*C28*H28/1000 -> 4.2 | J28: 4.7 | K28: =J28*I28 -> 19.74
B29: 3 | C29: ='Parametri Toby'!H38 -> 2 | D29: ='Parametri Toby'!H39 -> 8 | E29: =SUM(C29:D29) -> 10 | F29: =60/E29 -> 6 | G29: =F29*C29 -> 12 | H29: ='Parametri Toby'!H5 -> 280 | I29: =F29*C29*H29/1000 -> 3.36 | J29: 4.7 | K29: =J29*I29 -> 15.792
B30: 2 | C30: ='Parametri Toby'!H36 -> 1.5 | D30: ='Parametri Toby'!H37 -> 8.5 | E30: =SUM(C30:D30) -> 10 | F30: =60/E30 -> 6 | G30: =F30*C30 -> 9 | H30: ='Parametri Toby'!H5 -> 280 | I30: =F30*C30*H30/1000 -> 2.52 | J30: 4.7 | K30: =J30*I30 -> 11.844
B31: 1 | C31: ='Parametri Toby'!H34 -> 1.2 | D31: ='Parametri Toby'!H35 -> 8 | E31: =SUM(C31:D31) -> 9.2 | F31: =60/E31 -> 6.5217391 | G31: =F31*C31 -> 7.826087 | H31: ='Parametri Toby'!H5 -> 280 | I31: =F31*C31*H31/1000 -> 2.1913043 | J31: 4.7 | K31: =J31*I31 -> 10.29913
A32: ='Parametri Toby'!I1 -> srdjan68 | B32: Snaga | C32: ON (sec) | D32: OFF (sec) | E32: Ciklus (sec) | F32: Broj ciklusa u min | G32: Puz ON (min/hrs) | H32: Kapacitet puza (gram/min) | I32: Potrosnja (kg/sat) | J32: Pelet (kWh/kg) | K32: Power (kW)
B33: 5 | C33: ='Parametri Toby'!I42 -> 2.5 | D33: ='Parametri Toby'!I43 -> 6.7 | E33: =SUM(C33:D33) -> 9.2 | F33: =60/E33 -> 6.5217391 | G33: =F33*C33 -> 16.304348 | H33: ='Parametri Toby'!I5 -> 250 | I33: =H33*G33/1000 -> 4.076087 | J33: 4.7 | K33: =J33*I33 -> 19.157609
B34: 4 | C34: ='Parametri Toby'!I40 -> 2.2 | D34: ='Parametri Toby'!I41 -> 7 | E34: =SUM(C34:D34) -> 9.2 | F34: =60/E34 -> 6.5217391 | G34: =F34*C34 -> 14.347826 | H34: ='Parametri Toby'!I5 -> 250 | I34: =H34*G34/1000 -> 3.5869565 | J34: 4.7 | K34: =J34*I34 -> 16.858696
B35: 3 | C35: ='Parametri Toby'!I38 -> 1.8 | D35: ='Parametri Toby'!I39 -> 7.4 | E35: =SUM(C35:D35) -> 9.2 | F35: =60/E35 -> 6.5217391 | G35: =F35*C35 -> 11.73913 | H35: ='Parametri Toby'!I5 -> 250 | I35: =H35*G35/1000 -> 2.9347826 | J35: 4.7 | K35: =J35*I35 -> 13.793478
B36: 2 | C36: ='Parametri Toby'!I36 -> 1.5 | D36: ='Parametri Toby'!I37 -> 7.7 | E36: =SUM(C36:D36) -> 9.2 | F36: =60/E36 -> 6.5217391 | G36: =F36*C36 -> 9.7826087 | H36: ='Parametri Toby'!I5 -> 250 | I36: =H36*G36/1000 -> 2.4456522 | J36: 4.7 | K36: =J36*I36 -> 11.494565
B37: 1 | C37: ='Parametri Toby'!I34 -> 1.3 | D37: ='Parametri Toby'!I35 -> 8 | E37: =SUM(C37:D37) -> 9.3 | F37: =60/E37 -> 6.4516129 | G37: =F37*C37 -> 8.3870968 | H37: ='Parametri Toby'!I5 -> 250 | I37: =H37*G37/1000 -> 2.0967742 | J37: 4.7 | K37: =J37*I37 -> 9.8548387
A38: ='Parametri Toby'!J1 -> 1.salee | B38: Snaga | C38: ON (sec) | D38: OFF (sec) | E38: Ciklus (sec) | F38: Broj ciklusa u min | G38: Puz ON (min/hrs) | H38: Kapacitet puza (gram/min) | I38: Potrosnja (kg/sat) | J38: Pelet (kWh/kg) | K38: Power (kW) | L38: Grejna povrsina 220.Podno grejanje 110,radijatorsko 110.4 grejne zone sa 4 pumpe i 3 mesna ventila.Izolacija 5 stiropora u zidu 20 tervola u krovu.Vecina otvora troslojno staklo.Plan : jos 5 cm stiropora u zidove,akumulator toplote,automatika po spolnoj temp.
B39: 5 | C39: ='Parametri Toby'!J42 -> 1.6 | D39: ='Parametri Toby'!J43 -> 3 | E39: =SUM(C39:D39) -> 4.6 | F39: =60/E39 -> 13.043478 | G39: =F39*C39 -> 20.869565 | H39: ='Parametri Toby'!J5 -> 370 | I39: =H39*G39/1000 -> 7.7217391 | J39: 4.7 | K39: =J39*I39 -> 36.292174
B40: 4 | C40: ='Parametri Toby'!J40 -> 1 | D40: ='Parametri Toby'!J41 -> 3.5 | E40: =SUM(C40:D40) -> 4.5 | F40: =60/E40 -> 13.333333 | G40: =F40*C40 -> 13.333333 | H40: ='Parametri Toby'!J5 -> 370 | I40: =F40*C40*H40/1000 -> 4.9333333 | J40: 4.7 | K40: =J40*I40 -> 23.186667
...

Sheet Toby 50 uporedni prikaz
B1: Uporedni prikaz paramterara unetih u prvoj tabeli za kotlove Toby50. Ukoliko zelite da promenite neki od svojih parametara uradite to u prvoj tabeli. | C1: =IFERROR(__xludf.DUMMYFUNCTION("FILTER('Parametri Toby'!C1:AL88, 'Parametri Toby'!C2:AL2 = ""Toby 50"")"),"Zoran Sabac") -> Zoran Sabac
B2: Model kotla | C2: Toby 50
B3: Vrsta peleta
B4: Rupe za sekundarni vazduh | C4: Da
B5: Kapacitet puža (g/min) | C5: 123
B6: Zadata temperatura kotla | C6: 65
B7: Mešni ventil | C7: Četvorokraki bez regulacije
B8: Opšti parametri (šifra 4321)
A9: P1 | B9: Max time ignition min | C9: 15
A10: P2 | B10: Flame stabilization time min | C10: 3
A11: P3 | B11: Time between clean min | C11: 35
A12: P4 | B12: Cleaning time sec | C12: 30
A13: P5 | B13: Alarms delay sec | C13: 120
A14: P6 | B14: Max temperature | C14: 200
A15: P7 | B15: Delta Flame off | C15: 5
A16: P8 | B16: Delta Flame Burning | C16: 10
A17: P9 | B17: Preload feed sec | C17: 10
A18: P10 | B18: Water temperature antifreeze | C18: 2
A19: P11 | B19: Water temperature pump | C19: 35
A20: P12 | B20: Time between clean EV hour | C20: 0
... A27: P19 | B27: Cycle number for pot change | C27: 3
A28: P20 | B28: Feeder loading time ON sec | C28: 2,2
A29: P21 | B29: Feeder loading time OFF sec | C29: 5
A30: P22 | B30: Feeder on start time ON sec | C30: 1,6
A31: P23 | B31: Feeder on start time OFF sec | C31: 5
A32: P24 | B32: Feeder cleaning time ON sec | C32: 1
A33: P25 | B33: Feeder cleaning time OFF sec | C33: 5
A34: P26 | B34: Feeder time ON power 1 | C34: 0.7
A35: P27 | B35: Feeder time OFF power 1 | C35: 3.5
A36: P28 | B36: Feeder time ON power 2 | C36: 1.2
A37: P29 | B37: Feeder time OFF power 2 | C37: 3.5
A38: P30 | B38: Feeder time ON power 3 | C38: 1.7
A39: P31 | B39: Feeder time OFF power 3 | C39: 3.5
A40: P32 | B40: Feeder time ON power 4 | C40: 2.1
A41: P33 | B41: Feeder time OFF power 4 | C41: 3.5
A42: P34 | B42: Feeder time ON power 5 | C42: 3
... A72: P64 | B72: Smoke Temperature Adjust Pot 5 | C72: 0
B73: Tehnički parametri (šifra 1234)
A74: P1 | B74: Restart from Blackout | C74: 1
A75: P2 | B75: Delta Temperature for wait restart
...

Sheet Grafikoni
B1: Grafički prikaz različitih parametara i njihovih vrednosti koji se automatski učitavaju iz tabele "Proračun snage". Ukoliko grafikone ne vidite ispravno (podvučeni su jedan pod drugi ili se ne vide uopšte) kliknite na bilo koju drugu tabelu (npr. Proračun snage) pa se vratite opet na ovu.
A2: ='Parametri Toby'!C1 -> koyote
A3: ='Parametri Toby'!F1 -> richiemsch
A4: ='Parametri Toby'!G1 -> MyX-Mesha
A5: ='Parametri Toby'!D1 -> boree
A6: ='Parametri Toby'!H1 -> mvp84
A7: ='Parametri Toby'!I1 -> srdjan68
A8: ='Parametri Toby'!J1 -> 1.salee
A9: ='Parametri Toby'!L1 -> Sve naopako
A10: ='Parametri Toby'!M1 -> Jetsetwilly
A11: ='Parametri Toby'!N1 -> Simke.BGD
A12: ='Parametri Toby'!O1 -> ironmaiden
A13: ='Parametri Toby'!P1 -> stepa 1986
A14: ='Parametri Toby'!Q1 -> Zoran Sabac
A15: ='Parametri Toby'!R1 -> vukpiper
A16: ='Parametri Toby'!S1 -> jugordana
A17: ='Parametri Toby'!T1 -> bulevarterm
A18: ='Parametri Toby'!U1 -> andjelko
A19: ='Parametri Toby'!V1 -> mirkant
A20: ='Parametri Toby'!W1 -> stepa
A21: ='Parametri Toby'!X1 -> DE-Va Toby 20 H set (kamin pelet)
A22: ='Parametri Toby'!Y1 -> stevanovicfilip
A23: ='Parametri Toby'!Z1 -> bokikrag
A24: ='Parametri Toby'!AA1 -> Dragan SD
A25: ='Parametri Toby'!AB1 -> Vlatko Sabac
A26: ='Parametri Toby'!AC1 -> predragmirkovic
A27: ='Parametri Toby'!AD1 -> grnmilosevic
A28: ='Parametri Toby'!AE1 -> ASLservis
A29: ='Parametri Toby'!AF1 -> Guverner
A30: ='Parametri Toby'!AG1 -> rade topola
A31: ='Parametri Toby'!AH1 -> Gox BG
A32: ='Parametri Toby'!AI1 -> dany12
A33: ='Parametri Toby'!AJ1 -> sasa-74
A34: ='Parametri Toby'!AK1 -> dongrga
A35: ='Parametri Toby'!AL1 -> APAMsoldier
A36: ='Parametri Toby'!AM1 -> 0
A37: ='Parametri Toby'!AN1 -> pa013
A38: ='Parametri Toby'!AP1 -> 0
A39: ='Parametri Toby'!AQ1 -> 0
A40: ='Parametri Toby'!AR1 -> 0
