Workbook

Sheet Parametri Toby
B1: Unesite sve podatke ovde kako bi na sledećem listu imali orijentacioni proračun snage kotla. Decimale razdvajajte tačkom. | C1: koyote | D1: boree | E1: gRk0wac. | F1: richiemsch | G1: MyX-Mesha | H1: mvp84 | I1: srdjan68 | J1: 1.salee | K1: Zemun | L1: Sve naopako | M1: Jetsetwilly | N1: Simke.BGD | O1: ironmaiden | P1: stepa 1986 | Q1: Zoran Sabac | R1: vukpiper | S1: jugordana | T1: bulevarterm | U1: andjelko | V1: mirkant | W1: stepa | X1: DE-Va Toby 20 H set (kamin pelet) | Y1: stevanovicfilip | Z1: bokikrag | AA1: Dragan SD | AB1: Vlatko Sabac | AC1: predragmirkovic | AD1: grnmilosevic | AE1: ASLservis | AF1: Guverner | AG1: rade topola | AH1: Gox BG | AI1: dany12 | AJ1: sasa-74 | AK1: dongrga | AL1: APAMsoldier | AN1: pa013
B2: Model kotla | C2: Toby 12 | D2: Toby 20 | E2: Toby 20 | F2: Toby 20 | G2: Toby 20 | H2: Toby 30 | I2: Toby 30 | J2: Toby 30 | K2: Toby 12 | L2: Toby 12 | M2: Toby 12 | N2: Toby 30 | O2: Toby 30 | P2: Toby 20 | Q2: Toby 50 | R2: Toby 20 | S2: Toby 20 | T2: Toby 30 | U2: Toby 30 | V2: Toby 30 | W2: Toby 12 | X2: Toby 20 | Y2: Toby 12 | Z2: Toby 20 | AA2: Toby 12 | AB2: Toby 12 | AC2: Toby 12 | AD2: Toby 12 | AE2: Toby 12 | AF2: Toby 12 | AG2: Toby 30 | AH2: Toby 12 | AI2: Toby 20 | AJ2: Toby 20 | AK2: Toby 30 | AL2: Toby 12 | AN2: Toby 30 | AP2: Toby 30
B3: Vrsta peleta | C3: S-Biom | D3: Spačva | E3: Forest Crown | F3: Nis-pelet | G3: Elgrad Teslić | H3: NANIX | I3: Miraja i Nanix | J3: CROWN FOREST | K3: Jela Star Prijepolje | M3: Sparrow | N3: Nanix wood | O3: bukovi pelet (MNE) | P3: jela star | R3: biopoint | S3: jelastar | T3: total pelet | U3: jela star | V3: jelova gora | W3: banja koviljaca | X3: Varvarin | Y3: GIR Kraljevo | Z3: Sparrow | AA3: SAVOX Milici | AB3: biostar | AC3: bau energy | AD3: biopoint | AE3: Knjazevac | AF3: Jela Prijepolje | AH3: Jela Prijepolje | AI3: S-Biom | AJ3: bioenergy | AK3: premium pelet | AL3: Spacva | AN3: s-biom | AP3: Jela Prijepolje
B4: Rupe za sekundarni vazduh | C4: Da | D4: Da 4 | E4: Da 3 | F4: Da | G4: Da | H4: Da | I4: Da | J4: Ne | K4: Ne | L4: Da | M4: Ne | N4: Ne | O4: Da | P4: Ne | Q4: Da | R4: Ne | S4: Da | T4: Da | U4: Da | V4: Da | W4: Da | X4: Da | Y4: Da | Z4: Ne | AA4: Ne | AB4: Da | AC4: Da | AD4: Da | AE4: Da | AF4: Da | AG4: Da | AH4: Da | AI4: Ne | AJ4: Da | AK4: Ne | AL4: Da | AN4: Da | AP4: Da
B5: Kapacitet puža (g/min) | C5: 75 | D5: 145 | E5: 120 | F5: 117 | G5: 130 | H5: 280 | I5: 250 | J5: 370 | K5: 72 | L5: 72 | M5: 78 | N5: 270 | O5: 230 | P5: 123 | Q5: 123 | R5: 115 | S5: 140 | T5: 280 | U5: 68 | V5: 68 | W5: 68 | X5: 120 | Y5: 80 | Z5: 138 | AA5: 65 | AB5: 140 | AC5: 120 | AD5: 300 | AE5: 75 | AF5: 62 | AG5: 280 | AH5: 59 | AI5: 120 | AJ5: 120 | AK5: 250 | AL5: 60 | AP5: 72
B6: Zadata temperatura kotla | C6: 72 | D6: 78 | E6: 75 | F6: 75 | G6: 80 | H6: 80 | I6: 65 | J6: 75 | K6: 60 | L6: 72 | M6: 72 | N6: 70 | O6: 80 | P6: 60 | Q6: 65 | R6: 75 | S6: 75 | T6: 65 | U6: 55 | V6: 65 | W6: 60 | X6: 60 | Y6: 72 | Z6: 75 | AA6: 65 | AB6: 74 | AC6: 82 | AD6: 76 | AE6: 75 | AF6: 73 | AG6: 77 | AH6: 75 | AI6: 60 | AJ6: 72 | AK6: 75 | AL6: 70 | AN6: 55 | AP6: 75
B7: Mešni ventil | C7: Četvorokraki sa regulacijom | D7: Četvorokraki sa regulacijom | E7: Četvorokraki bez regulacije | F7: Četvorokraki sa regulacijom | G7: Četvorokraki sa regulacijom | H7: Četvorokraki sa regulacijom | I7: Četvorokraki bez regulacije | J7: Ne | K7: Trokraki sa regulacijom | L7: Trokraki bez regulacije | M7: Trokraki bez regulacije | N7: Ne | O7: Četvorokraki sa regulacijom | P7: Četvorokraki sa regulacijom | Q7: Četvorokraki bez regulacije | R7: Četvorokraki bez regulacije | S7: Četvorokraki sa regulacijom | T7: Trokraki bez regulacije | U7: Trokraki bez regulacije | V7: Trokraki bez regulacije | W7: Trokraki bez regulacije | X7: Ne | Y7: Četvorokraki bez regulacije | Z7: Četvorokraki bez regulacije | AA7: Četvorokraki bez regulacije | AB7: Trokraki bez regulacije | AC7: Četvorokraki bez regulacije | AD7: Četvorokraki bez regulacije | AE7: Četvorokraki sa regulacijom | AF7: Četvorokraki bez regulacije | AG7: Četvorokraki bez regulacije | AH7: Trokraki bez regulacije | AI7: Trokraki bez regulacije | AJ7: Četvorokraki bez regulacije | AK7: Ne | AL7: Trokraki bez regulacije | AN7: Trokraki bez regulacije | AP7: Četvorokraki bez regulacije
B8: Opšti parametri (šifra 4321)
A9: P1 | B9: Max time ignition min | C9: 15 | D9: 15 | E9: 15 | F9: 15 | G9: 10 | H9: 15 | I9: 15 | J9: 30 | K9: 15 | L9: 15 | M9: 15 | N9: 15 | O9: 15 | P9: 15 | Q9: 15 | R9: 15 | S9: 15 | T9: 15 | U9: 15 | V9: 15 | W9: 15 | X9: 15 | Y9: 58 | Z9: 15 | AA9: 15 | AB9: 15 | AC9: 15 | AD9: 15 | AE9: 15 | AF9: 15 | AH9: 15 | AI9: 20 | AJ9: 15 | AK9: 15 | AL9: 15 | AN9: 15 | AP9: 15
A10: P2 | B10: Flame stabilization time min | C10: 4 | D10: 5 | E10: 5 | F10: 4 | G10: 3 | H10: 4 | I10: 4 | J10: 2 | K10: 3 | L10: 3 | M10: 3 | N10: 4 | O10: 4 | P10: 5 | Q10: 3 | R10: 5 | S10: 1 | T10: 5 | U10: 2 | V10: 2 | W10: 2 | X10: 2 | Y10: 12 | Z10: 5 | AA10: 2 | AB10: 3 | AC10: 2 | AD10: 5 | AE10: 2 | AF10: 2 | AH10: 2 | AI10: 4 | AJ10: 4 | AK10: 5 | AL10: 2 | AN10: 5 | AP10: 3
A11: P3 | B11: Time between clean min | C11: 35 | D11: 45 | E11: 45 | F11: 40 | G11: 30 | H11: 30 | I11: 45 | J11: 0 | K11: 40 | L11: 35 | M11: 30 | N11: 45 | O11: 20 | P11: 35 | Q11: 35 | R11: 45 | S11: 40 | T11: 45 | U11: 40 | V11: 45 | W11: 20 | X11: 45 | Y11: 32 | Z11: 30 | AA11: 45 | AB11: 45 | AC11: 40 | AD11: 20 | AE11: 20 | AF11: 2 | AH11: 45 | AI11: 20 | AJ11: 45 | AK11: 30 | AL11: 20 | AN11: 45 | AP11: 35
A12: P4 | B12: Cleaning time sec | C12: 25 | D12: 20 | E12: 15 | F12: 20 | G12: 20 | H12: 20 | I12: 25 | J12: 99 | K12: 30 | L12: 30 | M12: 30 | N12: 99 | O12: 25 | P12: 20 | Q12: 30 | R12: 15 | S12: 20 | T12: 20 | U12: 30 | V12: 10 | W12: 30 | X12: 25 | Y12: 25 | Z12: 30 | AA12: 30 | AB12: 30 | AC12: 15 | AD12: 25 | AE12: 25 | AF12: 99 | AH12: 99 | AI12: 20 | AJ12: 15 | AK12: 15 | AL12: 30 | AN12: 15 | AP12: 35
A13: P5 | B13: Alarms delay sec | C13: 120 | D13: 120 | E13: 120 | F13: 120 | G13: 120 | H13: 120 | I13: 120 | J13: 120 | K13: 120 | L13: 120 | M13: 120 | N13: 120 | O13: 120 | P13: 120 | Q13: 120 | R13: 120 | S13: 120 | T13: 120 | U13: 120 | V13: 120 | W13: 120 | X13: 120 | Y13: 120 | Z13: 120 | AA13: 120 | AB13: 120 | AC13: 120 | AD13: 120 | AE13: 120 | AF13: 120 | AH13: 120 | AI13: 120 | AJ13: 120 | AK13: 120 | AL13: 120 | AN13: 120
A14: P6 | B14: Max temperature | C14: 250 | D14: 200 | E14: 200 | F14: 200 | G14: 200 | H14: 200 | I14: 170 | J14: 250 | K14: 250 | L14: 210 | M14: 160 | N14: 250 | O14: 250 | P14: 200 | Q14: 200 | R14: 250 | S14: 200 | T14: 200 | U14: 210 | V14: 200 | W14: 250 | X14: 200 | Y14: 230 | Z14: 200 | AA14: 200 | AB14: 200 | AC14: 200 | AD14: 200 | AE14: 210 | AF14: 230 | AH14: 230 | AI14: 250 | AJ14: 250 | AK14: 250 | AL14: 255 | AN14: 200
A15: P7 | B15: Delta Flame off | C15: 12 | D15: 5 | E15: 10 | F15: 10 | G15: 10 | H15: 10 | I15: 10 | J15: 15 | K15: 5 | L15: 4 | M15: 5 | N15: 10 | O15: 9 | P15: 10 | Q15: 5 | R15: 5 | S15: 5 | T15: 10 | U15: 10 | V15: 10 | W15: 10 | X15: 5 | Y15: 12 | Z15: 8 | AA15: 10 | AB15: 5 | AC15: 10 | AD15: 9 | AE15: 8 | AF15: 10 | AH15: 10 | AI15: 10 | AJ15: 10 | AK15: 9 | AL15: 10 | AN15: 10
A16: P8 | B16: Delta Flame Burning | C16: 15 | D16: 15 | E16: 15 | F16: 15 | G16: 15 | H16: 10 | I16: 15 | J16: 29 | K16: 15 | L16: 15 | M16: 15 | N16: 15 | O16: 15 | P16: 15 | Q16: 10 | R16: 15 | S16: 15 | T16: 15 | U16: 15 | V16: 15 | W16: 15 | X16: 10 | Y16: 15 | Z16: 15 | AA16: 15 | AB16: 15 | AC16: 15 | AD16: 15 | AE16: 13 | AF16: 15 | AH16: 15 | AI16: 15 | AJ16: 15 | AK16: 15 | AL16: 15 | AN16: 15
A17: P9 | B17: Preload feed sec | C17: 45 | D17: 9 | E17: 40 | F17: 85 | G17: 65 | H17: 50 | I17: 35 | J17: 47 | K17: 45 | L17: 45 | M17: 55 | N17: 50 | O17: 10 | P17: 90 | Q17: 10 | R17: 100 | S17: 100 | T17: 40 | U17: 40 | V17: 20 | W17: 25 | X17: 80 | Y17: 35 | Z17: 4 | AA17: 50 | AB17: 45 | AC17: 45 | AD17: 0 | AE17: 20 | AF17: 55 | AH17: 55 | AI17: 100 | AJ17: 80 | AK17: 55 | AL17: 15 | AN17: 100
A18: P10 | B18: Water temperature antifreeze | C18: 2 | D18: 2 | E18: 3 | F18: 2 | G18: 2 | H18: 2 | I18: 2 | J18: 5 | K18: 2 | L18: 2 | M18: 5 | N18: 2 | O18: 5 | P18: 2 | Q18: 2 | R18: 2 | S18: 2 | T18: 2 | U18: 2 | V18: 2 | W18: 2 | X18: 2 | Y18: 2 | Z18: 2 | AA18: 2 | AB18: 2 | AC18: 2 | AD18: 5 | AE18: 2 | AF18: 2 | AH18: 2 | AI18: 2 | AJ18: 2 | AK18: 2 | AL18: 2 | AN18: 2
A19: P11 | B19: Water temperature pump | C19: 55 | D19: 60 | E19: 45 | F19: 65 | G19: 65 | H19: 67 | I19: 50 | J19: 56 | K19: 40 | L19: 57 | M19: 55 | N19: 50 | O19: 65 | P19: 50 | Q19: 35 | R19: 35 | S19: 60 | T19: 50 | U19: 45 | V19: 45 | W19: 50 | X19: 45 | Y19: 55 | Z19: 65 | AA19: 40 | AB19: 60 | AC19: 67 | AD19: 60 | AE19: 50 | AF19: 65 | AH19: 66 | AI19: 50 | AJ19: 60 | AK19: 50 | AL19: 55 | AN19: 45
A20: P12 | B20: Time between clean EV hour | C20: 0 | D20: 0 | E20: 0 | F20: 11211 | G20: 0 | H20: 0 | I20: 0 | J20: 0 | K20: 99 | L20: 99 | M20: 99 | N20: 0 | O20: 99 | P20: 0 | Q20: 0 | R20: 0 | S20: 99 | T20: 0 | U20: 0 | V20: 0 | W20: 0 | X20: 0 | Y20: 0 | Z20: 0 | AA20: 0 | AB20: 0 | AC20: 0 | AD20: 0 | AF20: 0 | AH20: 0 | AI20: 99 | AJ20: 0 | AK20: 0 | AL20: 0 | AN20: 0
A21: P13 | B21: Cleaning time EV min | C21: 0 | D21: 0 | E21: 0 | F21: 0 | G21: 0 | H21: 0 | I21: 0 | J21: 0 | K21: 9 | L21: 9 | M21: 9 | N21: 0 | O21: 8 | P21: 0 | Q21: 0 | R21: 0 | S21: 9 | T21: 0 | U21: 0 | V21: 0 | W21: 0 | X21: 0 | Y21: 0 | Z21: 0 | AA21: 0 | AB21: 0 | AC21: 0 | AD21: 0 | AF21: 0 | AH21: 0 | AI21: 9 | AJ21: 0 | AK21: 0 | AL21: 0 | AN21: 0
A22: P14 | B22: Critical Alarms delay sec | C22: 15 | D22: 15 | E22: 15 | F22: 15 | G22: 15 | H22: 15 | I22: 15 | J22: 60 | K22: 15 | L22: 15 | M22: 15 | N22: 15 | O22: 15 | P22: 15 | Q22: 20 | R22: 15 | S22: 15 | T22: 15 | U22: 15 | V22: 15 | W22: 15 | X22: 15 | Y22: 15 | Z22: 15 | AA22: 15 | AB22: 15 | AC22: 15 | AD22: 15 | AF22: 15 | AH22: 15 | AI22: 15 | AJ22: 15 | AK22: 15 | AL22: 15 | AN22: 15
A23: P15 | B23: Management Fan for burning | C23: 0 | D23: 0 | E23: 0 | F23: 0 | G23: 0 | H23: 0 | I23: 0 | J23: 0 | K23: 0 | L23: 0 | M23: 0 | N23: 0 | O23: 0 | P23: 0 | Q23: 0 | R23: 0 | S23: 0 | T23: 0 | U23: 0 | V23: 0 | W23: 0 | X23: 0 | Y23: 0 | Z23: 0 | AA23: 0 | AB23: 0 | AC23: 0 | AD23: 0 | AF23: 0 | AH23: 0 | AI23: 0 | AJ23: 0 | AK23: 0 | AL23: 0 | AN23: 0
A24: P16 | B24: Hour for service x 1000 | C24: 0 | D24: 0 | E24: 0 | F24: 0 | G24: 0 | H24: 0 | I24: 0 | J24: 0 | K24: 0 | L24: 0 | M24: 0 | N24: 0 | O24: 0 | P24: 0 | Q24: 0 | R24: 0 | S24: 0 | T24: 0 | U24: 0 | V24: 0 | W24: 0 | X24: 0 | Y24: 0 | Z24: 0 | AA24: 0 | AB24: 0 | AC24: 0 | AD24: 0 | AF24: 0 | AH24: 0 | AI24: 0 | AJ24: 0 | AK24: 0 | AL24: 0 | AN24: 1000
A25: P17 | B25: Minimum turning off time min | C25: 5 | D25: 3 | E25: 10 | F25: 5 | G25: 5 | H25: 6 | I25: 5 | J25: 6 | K25: 7 | L25: 7 | M25: 10 | N25: 10 | O25: 3 | P25: 5 | Q25: 3 | R25: 5 | S25: 10 | T25: 10 | U25: 7 | V25: 7 | W25: 5 | X25: 3 | Y25: 5 | Z25: 3 | AA25: 7 | AB25: 5 | AC25: 3 | AD25: 3 | AF25: 7 | AH25: 7 | AI25: 3 | AJ25: 3 | AK25: 1 | AL25: 7 | AN25: 10
A26: P18 | B26: Time preignition resistance min | C26: 3 | D26: 3 | E26: 3 | F26: 3 | G26: 3 | H26: 3 | I26: 3 | J26: 4 | K26: 3 | L26: 3 | M26: 3 | N26: 3 | O26: 3 | P26: 3 | Q26: 3 | R26: 3 | S26: 3 | T26: 3 | U26: 3 | V26: 3 | W26: 3 | X26: 3 | Y26: 3 | Z26: 3 | AA26: 3 | AB26: 3 | AC26: 3 | AD26: 3 | AF26: 3 | AH26: 3 | AI26: 3 | AJ26: 3 | AK26: 3 | AL26: 3 | AN26: 3
A27: P19 | B27: Cycle number for pot change | C27: 3 | D27: 3 | E27: 3 | F27: 3 | G27: 3 | H27: 3 | I27: 2 | J27: 1 | K27: 3 | L27: 3 | M27: 3 | N27: 3 | O27: 1 | P27: 3 | Q27: 3 | R27: 3 | S27: 3 | T27: 3 | U27: 8 | V27: 3 | W27: 1 | X27: 3 | Y27: 3 | Z27: 3 | AA27: 3 | AB27: 3 | AC27: 3 | AD27: 1 | AF27: 3 | AH27: 3 | AI27: 3 | AJ27: 3 | AK27: 1 | AL27: 3 | AN27: 3
A28: P20 | B28: Feeder loading time ON sec | C28: 0.9 | D28: 2 | E28: 1 | F28: 1.6 | G28: 1.8 | H28: 0.8 | I28: 1.8 | J28: 0.6 | K28: 1 | L28: 1.1 | M28: 1.2 | N28: 1.8 | O28: 1.8 | P28: 1.5 | Q28: 2,2 | R28: 1.4 | S28: 1.8 | T28: 1.2 | U28: 1 | V28: 0.9 | W28: 1 | X28: 1 | Y28: 0.9 | Z28: 1.5 | AA28: 1.1 | AB28: 1 | AC28: 1.3 | AD28: 1.8 | AF28: 1.2 | AH28: 1.6 | AI28: 1.2 | AJ28: 1.2 | AK28: 0.8 | AL28: 0.4 | AN28: 1.5
A29: P21 | B29: Feeder loading time OFF sec | C29: 3.5 | D29: 4 | E29: 5 | F29: 5 | G29: 5 | H29: 5 | I29: 10 | J29: 7.5 | K29: 3 | L29: 3 | M29: 3 | N29: 5 | O29: 10 | P29: 5 | Q29: 5 | R29: 5 | S29: 5 | T29: 5 | U29: 4 | V29: 3 | W29: 5 | X29: 5 | Y29: 3.5 | Z29: 5 | AA29: 3 | AB29: 5 | AC29: 3.5 | AD29: 10 | AF29: 4 | AH29: 3 | AI29: 5 | AJ29: 5,0 | AK29: 5 | AL29: 3 | AN29: 5
A30: P22 | B30: Feeder on start time ON sec | C30: 0.8 | D30: 1.5 | E30: 0.7 | F30: 1 | G30: 1.6 | H30: 0.8 | I30: 1.4 | J30: 0.3 | K30: 1 | L30: 0.8 | M30: 1.4 | N30: 1.2 | O30: 1.4 | P30: 1.5 | Q30: 1,6 | R30: 1.2 | S30: 1.6 | T30: 1 | U30: 1 | V30: 1.3 | W30: 1.2 | X30: 1.2 | Y30: 0.8 | Z30: 1.5 | AA30: 1.6 | AB30: 1.2 | AC30: 1.6 | AD30: 1.4 | AF30: 1.2 | AH30: 1.4 | AI30: 1 | AJ30: 1 | AK30: 0.6 | AL30: 0.5 | AN30: 1.3
A31: P23 | B31: Feeder on start time OFF sec | C31: 3.5 | D31: 5 | E31: 5 | F31: 5 | G31: 5 | H31: 5 | I31: 9.5 | J31: 8 | K31: 3 | L31: 3 | M31: 3 | N31: 5 | O31: 9.5 | P31: 5 | Q31: 5 | R31: 5 | S31: 5 | T31: 5.3 | U31: 4 | V31: 3 | W31: 5 | X31: 5 | Y31: 3.5 | Z31: 5 | AA31: 3 | AB31: 4.8 | AC31: 3 | AD31: 9.5 | AF31: 4 | AH31: 3 | AI31: 5 | AJ31: 5 | AK31: 5 | AL31: 3.4 | AN31: 5
A32: P24 | B32: Feeder cleaning time ON sec | C32: 1 | D32: 1.5 | E32: 1 | F32: 1 | G32: 1 | H32: 1.2 | I32: 1 | J32: 1 | K32: 1 | L32: 1 | M32: 1 | N32: 2.5 | O32: 1 | P32: 1.5 | Q32: 1 | R32: 1 | S32: 1 | T32: 1 | U32: 1 | V32: 1 | W32: 1 | X32: 1.5 | Y32: 1 | Z32: 1.5 | AA32: 1 | AB32: 0.8 | AC32: 1 | AD32: 1 | AF32: 1.1 | AH32: 1.6 | AI32: 1 | AJ32: 1.2 | AK32: 2.5 | AL32: 1 | AN32: 1
A33: P25 | B33: Feeder cleaning time OFF sec | C33: 5 | D33: 5 | E33: 5 | F33: 5 | G33: 5 | H33: 5 | I33: 6 | J33: 5 | K33: 3 | L33: 5 | M33: 5 | N33: 3.5 | O33: 6 | P33: 5 | Q33: 5 | R33: 5 | S33: 5 | T33: 5 | U33: 3 | V33: 3 | W33: 5 | X33: 5 | Y33: 5 | Z33: 5 | AA33: 5 | AB33: 5.2 | AC33: 5 | AD33: 6 | AF33: 5 | AH33: 3.5 | AI33: 5 | AJ33: 5 | AK33: 3.5 | AL33: 5 | AN33: 5
A34: P26 | B34: Feeder time ON power 1 | C34: 2.2 | D34: 1.4 | E34: 0.6 | F34: 0.8 | G34: 1 | H34: 1.2 | I34: 1.3 | J34: 1 | K34: 1.3 | L34: 1.2 | M34: 1.4 | N34: 0.7 | O34: 1.2 | P34: 1.5 | Q34: 0.7 | R34: 1.6 | S34: 1.5 | T34: 0.5 | U34: 1 | V34: 0.6 | W34: 1 | X34: 0.7 | Y34: 1.1 | Z34: 1.2 | AA34: 1 | AB34: 0.6 | AC34: 1.4 | AD34: 1.2 | AE34: 1.5 | AF34: 1.5 | AG34: 1.3 | AH34: 1.7 | AI34: 1.5 | AJ34: 1 | AK34: 0.5 | AL34: 1.5 | AN34: 1.3
A35: P27 | B35: Feeder time OFF power 1 | C35: 5.8 | D35: 5.6 | E35: 3.5 | F35: 3.5 | G35: 3.5 | H35: 8 | I35: 8 | J35: 7 | K35: 3.5 | L35: 3.3 | M35: 3.4 | N35: 3.5 | O35: 8 | P35: 4 | Q35: 3.5 | R35: 3.5 | S35: 8.5 | T35: 3.5 | U35: 4 | V35: 2.8 | W35: 3 | X35: 3.5 | Y35: 2.5 | Z35: 8.8 | AA35: 3.2 | AB35: 5.4 | AC35: 4.6 | AD35: 8 | AE35: 5 | AF35: 3.6 | AG35: 3.5 | AH35: 3.2 | AI35: 4.5 | AJ35: 4 | AK35: 4 | AL35: 4 | AN35: 3.5
A36: P28 | B36: Feeder time ON power 2 | C36: 2.9 | D36: 1.7 | E36: 1.2 | F36: 1.2 | G36: 1.3 | H36: 1.5 | I36: 1.5 | J36: 1 | K36: 2 | L36: 1.4 | M36: 1.6 | N36: 1 | O36: 1.5 | P36: 2 | Q36: 1.2 | R36: 2.1 | S36: 2.1 | T36: 1 | U36: 1.7 | V36: 0.9 | W36: 1.5 | X36: 1.2 | Y36: 1.6 | Z36: 1.9 | AA36: 1.5 | AB36: 0.9 | AC36: 1.8 | AD36: 1.5 | AE36: 2 | AF36: 1.5 | AG36: 1.6 | AH36: 2 | AI36: 2 | AJ36: 1.5 | AK36: 1.5 | AL36: 2 | AN36: 2.2
A37: P29 | B37: Feeder time OFF power 2 | C37: 5.1 | D37: 5.3 | E37: 3.5 | F37: 3.5 | G37: 3.5 | H37: 8.5 | I37: 7.7 | J37: 5 | K37: 3.3 | L37: 2.9 | M37: 2.9 | N37: 3.5 | O37: 7.7 | P37: 3.5 | Q37: 3.5 | R37: 3.5 | S37: 7.9 | T37: 3.5 | U37: 4 | V37: 3 | W37: 2.8 | X37: 3.5 | Y37: 1.5 | Z37: 8.1 | AA37: 2.8 | AB37: 5.1 | AC37: 4.2 | AD37: 7.7 | AE37: 3 | AF37: 3 | AG37: 8.4 | AH37: 2.5 | AI37: 4 | AJ37: 4 | AK37: 3.5 | AL37: 3.5 | AN37: 3.5
A38: P30 | B38: Feeder time ON power 3 | C38: 3.5 | D38: 2 | E38: 2 | F38: 1.7 | G38: 1.7 | H38: 2 | I38: 1.8 | J38: 1 | K38: 3 | L38: 1.7 | M38: 1.8 | N38: 2.5 | O38: 1.8 | P38: 2.6 | Q38: 1.7 | R38: 2.7 | S38: 3 | T38: 2.5 | U38: 2.7 | V38: 1.2 | W38: 1.8 | X38: 2.5 | Y38: 2.5 | Z38: 2.4 | AA38: 1.8 | AB38: 1.2 | AC38: 2.2 | AD38: 1.8 | AE38: 2.5 | AF38: 2 | AG38: 2.62 | AH38: 2.5 | AI38: 2.5 | AJ38: 2 | AK38: 2 | AL38: 2.4 | AN38: 2.9
A39: P31 | B39: Feeder time OFF power 3 | C39: 4.5 | D39: 5 | E39: 3.5 | F39: 3.5 | G39: 3.5 | H39: 8 | I39: 7.4 | J39: 4 | K39: 3 | L39: 2.6 | M39: 2.6 | N39: 3.5 | O39: 7.4 | P39: 3.5 | Q39: 3.5 | R39: 3.5 | S39: 7 | T39: 3.5 | U39: 4 | V39: 3 | W39: 2.4 | X39: 3.5 | Y39: 7.5 | Z39: 7.6 | AA39: 2.4 | AB39: 4.8 | AC39: 3.8 | AD39: 7.4 | AE39: 2.5 | AF39: 3 | AG39: 7.38 | AH39: 2.4 | AI39: 3.5 | AJ39: 4 | AK39: 3.5 | AL39: 3.1 | AN39: 3.5
A40: P32 | B40: Feeder time ON power 4 | C40: 4 | D40: 2.3 | E40: 2.5 | F40: 2.1 | G40: 2.2 | H40: 2.5 | I40: 2.2 | J40: 1 | K40: 4 | L40: 2 | M40: 2.2 | N40: 3.5 | O40: 2.2 | P40: 3.5 | Q40: 2.1 | R40: 3.4 | S40: 3.5 | T40: 3.5 | U40: 2.7 | V40: 1.4 | W40: 2 | X40: 3 | Y40: 3 | Z40: 2.9 | AA40: 2 | AB40: 1.5 | AC40: 2.6 | AD40: 2.2 | AE40: 3 | AF40: 2.5 | AG40: 3.28 | AH40: 3 | AI40: 3 | AJ40: 3 | AK40: 2.5 | AL40: 2.8 | AN40: 3.2
A41: P33 | B41: Feeder time OFF power 4 | C41: 4 | D41: 4.7 | E41: 3.5 | F41: 3.5 | G41: 3.5 | H41: 7.5 | I41: 7 | J41: 3.5 | K41: 2.7 | L41: 2.3 | M41: 2.3 | N41: 3.5 | O41: 7 | P41: 3.5 | Q41: 3.5 | R41: 3.5 | S41: 6.5 | T41: 3.3 | U41: 3 | V41: 2.6 | W41: 2.2 | X41: 3.5 | Y41: 7 | Z41: 7.1 | AA41: 2 | AB41: 4.5 | AC41: 3.4 | AD41: 7 | AE41: 2 | AF41: 2.7 | AG41: 6.72 | AH41: 2.2 | AI41: 3 | AJ41: 4 | AK41: 3.5 | AL41: 2.7 | AN41: 3.5
A42: P34 | B42: Feeder time ON power 5 | C42: 4.5 | D42: 2.6 | E42: 3 | F42: 3 | G42: 3 | H42: 3 | I42: 2.5 | J42: 1.6 | K42: 6 | L42: 2.4 | M42: 2.6 | N42: 5 | O42: 2.5 | P42: 4 | Q42: 3 | R42: 4.2 | S42: 4.5 | T42: 4.6 | U42: 9 | V42: 2 | W42: 2.4 | X42: 3.5 | Y42: 4 | Z42: 3.4 | AA42: 2.5 | AB42: 1.8 | AC42: 3 | AD42: 2.5 | AE42: 3.5 | AF42: 3 | AG42: 3.93 | AH42: 3.6 | AI42: 3.5 | AJ42: 3.5 | AK42: 3 | AL42: 3.3 | AN42: 4
A43: P35 | B43: Feeder time OFF power 5 | C43: 3.5 | D43: 4.4 | E43: 3.5 | F43: 3.5 | G43: 3.5 | H43: 7 | I43: 6.7 | J43: 3 | K43: 2.4 | L43: 1.9 | M43: 1.8 | N43: 3.5 | O43: 6.7 | P43: 3.5 | Q43: 3.5 | R43: 3.5 | S43: 5.5 | T43: 3.5 | U43: 2 | V43: 2.3 | W43: 1.8 | X43: 4 | Y43: 6 | Z43: 6.6 | AA43: 1.3 | AB43: 4.2 | AC43: 3 | AD43: 6.7 | AE43: 1.5 | AF43: 2.2 | AG43: 6.07 | AH43: 1.7 | AI43: 2.5 | AJ43: 4 | AK43: 3.5 | AL43: 2.2 | AN43: 3.5
A44: P36 | B44: Combustion fan on load | C44: 235 | D44: 100 | E44: 110 | F44: 130 | G44: 100 | H44: 125 | I44: 110 | J44: 110 | K44: 235 | L44: 235 | M44: 235 | N44: 140 | O44: 110 | P44: 115 | Q44: 130 | R44: 120 | S44: 120 | T44: 140 | U44: 220 | V44: 235 | W44: 235 | X44: 190 | Y44: 235 | Z44: 90 | AA44: 190 | AB44: 230 | AC44: 210 | AD44: 110 | AF44: 225 | AH44: 225 | AI44: 115 | AJ44: 115 | AK44: 115 | AL44: 200 | AN44: 120
A45: P37 | B45: Combustion fan on start | C45: 245 | D45: 100 | E45: 115 | F45: 140 | G45: 100 | H45: 140 | I45: 105 | J45: 105 | K45: 245 | L45: 245 | M45: 245 | N45: 160 | O45: 105 | P45: 125 | Q45: 150 | R45: 135 | S45: 130 | T45: 160 | U45: 245 | V45: 240 | W45: 245 | X45: 200 | Y45: 245 | Z45: 90 | AA45: 245 | AB45: 240 | AC45: 234 | AD45: 105 | AF45: 235 | AH45: 235 | AI45: 125 | AJ45: 125 | AK45: 125 | AL45: 210 | AN45: 130
A46: P38 | B46: Combustion fan on cleaning | C46: 300 | D46: 250 | E46: 250 | F46: 275 | G46: 240 | H46: 170 | I46: 130 | J46: 300 | K46: 300 | L46: 300 | M46: 280 | N46: 100 | O46: 175 | P46: 300 | Q46: 300 | R46: 300 | S46: 300 | T46: 220 | U46: 300 | V46: 300 | W46: 300 | X46: 250 | Y46: 300 | Z46: 230 | AA46: 300 | AB46: 280 | AC46: 300 | AD46: 175 | AF46: 200 | AH46: 200 | AI46: 300 | AJ46: 280 | AK46: 300 | AL46: 300 | AN46: 300
A47: P39 | B47: Combustion fan on power 1 | C47: 180 | D47: 100 | E47: 50 | F47: 65 | G47: 65 | H47: 75 | I47: 65 | J47: 75 | K47: 190 | L47: 190 | M47: 205 | N47: 76 | O47: 87 | P47: 68 | Q47: 70 | R47: 55 | S47: 57 | T47: 61 | U47: 180 | V47: 180 | W47: 180 | X47: 170 | Y47: 200 | Z47: 85 | AA47: 180 | AB47: 170 | AC47: 165 | AD47: 87 | AF47: 170 | AH47: 170 | AI47: 50 | AJ47: 55 | AK47: 75 | AL47: 155 | AN47: 75
A48: P40 | B48: Combustion fan on power 2 | C48: 190 | D48: 105 | E48: 60 | F48: 75 | G48: 75 | H48: 78 | I48: 75 | J48: 80 | K48: 200 | L48: 195 | M48: 210 | N48: 83 | O48: 92 | P48: 75 | Q48: 80 | R48: 60 | S48: 64 | T48: 65 | U48: 190 | V48: 190 | W48: 190 | X48: 180 | Y48: 205 | Z48: 87 | AA48: 190 | AB48: 185 | AC48: 170 | AD48: 92 | AF48: 175 | AH48: 175 | AI48: 55 | AJ48: 60 | AK48: 80 | AL48: 160 | AN48: 80
A49: P41 | B49: Combustion fan on power 3 | C49: 200 | D49: 110 | E49: 70 | F49: 85 | G49: 80 | H49: 82 | I49: 80 | J49: 85 | K49: 215 | L49: 200 | M49: 215 | N49: 93 | O49: 96 | P49: 80 | Q49: 85 | R49: 65 | S49: 73 | T49: 70 | U49: 200 | V49: 200 | W49: 200 | X49: 190 | Y49: 210 | Z49: 91 | AA49: 200 | AB49: 200 | AC49: 180 | AD49: 96 | AF49: 180 | AH49: 180 | AI49: 60 | AJ49: 65 | AK49: 85 | AL49: 165 | AN49: 85
A50: P42 | B50: Combustion fan on power 4 | C50: 210 | D50: 115 | E50: 75 | F50: 94 | G50: 85 | H50: 85 | I50: 85 | J50: 90 | K50: 225 | L50: 215 | M50: 225 | N50: 105 | O50: 100 | P50: 85 | Q50: 95 | R50: 75 | S50: 82 | T50: 76 | U50: 210 | V50: 210 | W50: 210 | X50: 200 | Y50: 215 | Z50: 97 | AA50: 210 | AB50: 215 | AC50: 190 | AD50: 100 | AF50: 190 | AH50: 190 | AI50: 65 | AJ50: 70 | AK50: 90 | AL50: 170 | AN50: 90
A51: P43 | B51: Combustion fan on power 5 | C51: 220 | D51: 120 | E51: 85 | F51: 102 | G51: 90 | H51: 89 | I51: 90 | J51: 100 | K51: 240 | L51: 230 | M51: 235 | N51: 115 | O51: 105 | P51: 90 | Q51: 100 | R51: 80 | S51: 86 | T51: 80 | U51: 230 | V51: 235 | W51: 220 | X51: 215 | Y51: 220 | Z51: 105 | AA51: 220 | AB51: 230 | AC51: 200 | AD51: 105 | AF51: 200 | AH51: 200 | AI51: 70 | AJ51: 75 | AK51: 95 | AL51: 175 | AN51: 95
A52: P44 | B52: Combustion fan adjust -4 | C52: 0 | D52: 0 | E52: 0 | F52: 0 | G52: 0 | H52: 0 | I52: 0 | J52: 0 | K52: 0 | L52: 0 | M52: 0 | N52: 0 | O52: 0 | P52: 0 | Q52: 0 | R52: 0 | S52: -40 | T52: 0 | U52: 0 | V52: 0 | W52: 0 | X52: 0 | Y52: 0 | Z52: 0 | AA52: 0 | AB52: 0 | AC52: 0 | AD52: 0 | AF52: 0 | AH52: 0 | AI52: 0 | AJ52: -40 | AL52: 0 | AN52: 0
A53: P45 | B53: Combustion fan adjust -3 | C53: 0 | D53: 0 | E53: 0 | F53: 0 | G53: 0 | H53: 0 | I53: 0 | J53: 0 | K53: 0 | L53: 0 | M53: 0 | N53: 0 | O53: 0 | P53: 0 | Q53: 0 | R53: 0 | S53: -30 | T53: 0 | U53: 0 | V53: 0 | W53: 0 | X53: 0 | Y53: 0 | Z53: 0 | AA53: 0 | AB53: 0 | AC53: 0 | AD53: 0 | AF53: 0 | AH53: 0 | AI53: 0 | AJ53: -30 | AL53: 0 | AN53: 0
A54: P46 | B54: Combustion fan adjust -2 | C54: 0 | D54: 0 | E54: 0 | F54: 0 | G54: 0 | H54: 0 | I54: 0 | J54: 0 | K54: 0 | L54: 0 | M54: 0 | N54: 0 | O54: 0 | P54: 0 | Q54: 0 | R54: 0 | S54: -20 | T54: 0 | U54: 0 | V54: 0 | W54: 0 | X54: 0 | Y54: 0 | Z54: 0 | AA54: 0 | AB54: 0 | AC54: 0 | AD54: 0 | AF54: 0 | AH54: 0 | AI54: 0 | AJ54: -20 | AL54: 0 | AN54: 0
A55: P47 | B55: Combustion fan adjust -1 | C55: 0 | D55: 0 | E55: 0 | F55: 0 | G55: 0 | H55: 0 | I55: 0 | J55: 0 | K55: 0 | L55: 0 | M55: 0 | N55: 0 | O55: 0 | P55: 0 | Q55: 0 | R55: 0 | S55: -10 | T55: 0 | U55: 0 | V55: 0 | W55: 0 | X55: 0 | Y55: 0 | Z55: 0 | AA55: 0 | AB55: 0 | AC55: 0 | AD55: 0 | AF55: 0 | AH55: 0 | AI55: 0 | AJ55: -10 | AL55: 0 | AN55: 0
A56: P48 | B56: Combustion fan adjust +1 | C56: 0 | D56: 0 | E56: 0 | F56: 0 | G56: 0 | H56: 0 | I56: 0 | J56: 0 | K56: 0 | L56: 0 | M56: 0 | N56: 0 | O56: 0 | P56: 0 | Q56: 0 | R56: 0 | S56: 10 | T56: 0 | U56: 0 | V56: 0 | W56: 0 | X56: 0 | Y56: 0 | Z56: 0 | AA56: 0 | AB56: 0 | AC56: 0 | AD56: 0 | AF56: 0 | AH56: 0 | AI56: 0 | AJ56: 10 | AL56: 0 | AN56: 0
A57: P49 | B57: Combustion fan adjust +2 | C57: 0 | D57: 0 | E57: 0 | F57: 0 | G57: 0 | H57: 0 | I57: 0 | J57: 0 | K57: 0 | L57: 0 | M57: 0 | N57: 0 | O57: 0 | P57: 0 | Q57: 0 | R57: 0 | S57: 20 | T57: 0 | U57: 0 | V57: 0 | W57: 0 | X57: 0 | Y57: 0 | Z57: 0 | AA57: 0 | AB57: 0 | AC57: 0 | AD57: 0 | AF57: 0 | AH57: 0 | AI57: 0 | AJ57: 20 | AL57: 0 | AN57: 0
A58: P50 | B58: Combustion fan adjust +3 | C58: 0 | D58: 0 | E58: 0 | F58: 0 | G58: 0 | H58: 0 | I58: 0 | J58: 0 | K58: 0 | L58: 0 | M58: 0 | N58: 0 | O58: 0 | P58: 0 | Q58: 0 | R58: 0 | S58: 30 | T58: 0 | U58: 0 | V58: 0 | W58: 0 | X58: 0 | Y58: 0 | Z58: 0 | AA58: 0 | AB58: 0 | AC58: 0 | AD58: 0 | AF58: 0 | AH58: 0 | AI58: 0 | AJ58: 30 | AL58: 0 | AN58: 0
A59: P51 | B59: Combustion fan adjust +4 | C59: 0 | D59: 0 | E59: 0 | F59: 0 | G59: 0 | H59: 0 | I59: 0 | J59: 0 | K59: 0 | L59: 0 | M59: 0 | N59: 0 | O59: 0 | P59: 0 | Q59: 0 | R59: 0 | S59: 40 | T59: 0 | U59: 0 | V59: 0 | W59: 0 | X59: 0 | Y59: 0 | Z59: 0 | AA59: 0 | AB59: 0 | AC59: 0 | AD59: 0 | AF59: 0 | AH59: 0 | AI59: 0 | AJ59: 40 | AL59: 0 | AN59: 0
A60: P52 | B60: Auger Adjustment -4 | C60: 0 | D60: 0 | E60: 0 | F60: 0 | G60: 0 | H60: -50 | I60: -50 | J60: 0 | K60: 0 | L60: 0 | M60: 0 | N60: 0 | O60: -50 | P60: 0 | Q60: 0 | R60: 0 | S60: -40 | T60: 0 | U60: 0 | V60: 0 | W60: 0 | X60: 0 | Y60: 0 | Z60: 0 | AA60: 0 | AB60: 0 | AC60: 0 | AD60: -50 | AF60: 0 | AH60: 0 | AI60: 0 | AJ60: -40 | AL60: 0 | AN60: 0
A61: P53 | B61: Auger Adjustment -3 | C61: 0 | D61: 0 | E61: 0 | F61: 0 | G61: 0 | H61: -40 | I61: -30 | J61: 0 | K61: 0 | L61: 0 | M61: 0 | N61: 0 | O61: -30 | P61: 0 | Q61: 0 | R61: 0 | S61: -30 | T61: 0 | U61: 0 | V61: 0 | W61: 0 | X61: 0 | Y61: 0 | Z61: 0 | AA61: 0 | AB61: 0 | AC61: 0 | AD61: -30 | AF61: 0 | AH61: 0 | AI61: 0 | AJ61: -30 | AL61: 0 | AN61: 0
A62: P54 | B62: Auger Adjustment -2 | C62: 0 | D62: 0 | E62: 0 | F62: 0 | G62: 0 | H62: -30 | I62: -20 | J62: 0 | K62: 0 | L62: 0 | M62: 0 | N62: 0 | O62: -20 | P62: 0 | Q62: 0 | R62: 0 | S62: -20 | T62: 0 | U62: 0 | V62: 0 | W62: 0 | X62: 0 | Y62: 0 | Z62: 0 | AA62: 0 | AB62: 0 | AC62: 0 | AD62: -20 | AF62: 0 | AH62: 0 | AI62: 0 | AJ62: -20 | AL62: 0 | AN62: 0
A63: P55 | B63: Auger Adjustment -1 | C63: 0 | D63: 0 | E63: 0 | F63: 0 | G63: 0 | H63: -20 | I63: -10 | J63: 0 | K63: 0 | L63: 0 | M63: 0 | N63: 0 | O63: -10 | P63: 0 | Q63: 0 | R63: 0 | S63: -10 | T63: 0 | U63: 0 | V63: 0 | W63: 0 | X63: 0 | Y63: 0 | Z63: 0 | AA63: 0 | AB63: 0 | AC63: 0 | AD63: -10 | AF63: 0 | AH63: 0 | AI63: 0 | AJ63: -10 | AL63: 0 | AN63: 0
... A72: P64 | B72: Smoke Temperature Adjust Pot 5 | C72: 0 | D72: 0 | E72: 0 | F72: 0 | G72: 0 | H72: 0 | I72: 0 | J72: 0 | K72: 0 | L72: 0 | M72: 0 | N72: 0 | O72: 0 | P72: 0 | Q72: 0 | R72: 0 | S72: 0 | T72: 0 | U72: 0 | V72: 0 | W72: 0 | X72: 0 | Y72: 0 | Z72: 0 | AA72: 0 | AB72: 0 | AC72: 0 | AD72: 0 | AF72: 0 | AH72: 0 | AI72: 0 | AJ72: 0 | AL72: 0 | AN72: 0
B73: Tehnički parametri (šifra 1234)
A74: P1 | B74: Restart from Blackout | C74: 1 | D74: 1 | E74: 1 | F74: 0 | G74: 0 | H74: 0 | I74: 0 | J74: 1 | K74: 1 | L74: 1 | M74: 1 | N74: 0 | O74: 0 | P74: 0 | Q74: 1 | R74: 0 | S74: 1 | T74: 1 | U74: 1 | V74: 1 | W74: 0 | X74: 0 | Y74: 1 | Z74: 1 | AA74: 0 | AB74: 0 | AC74: 0 | AD74: 1 | AE74: 1 | AF74: 1 | AH74: 1 | AI74: 1 | AJ74: 0 | AL74: 1 | AN74: 0
A75: P2 | B75: Delta Temperature for wait restart | C75: 10 | D75: 7 | E75: 7 | F75: 2 | G75: 2 | H75: 10 | I75: 5 | J75: 5 | K75: 10 | L75: 10 | M75: 20 | N75: 2 | O75: 5 | P75: 2 | R75: 2 | S75: 2 | T75: 2 | U75: 2 | V75: 2 | W75: 2 | X75: 2 | Y75: 2 | Z75: 10 | AA75: 2 | AB75: 2 | AC75: 2 | AD75: 5 | AF75: 2 | AH75: 2 | AI75: 10 | AJ75: 15 | AL75: 2 | AN75: 2
A76: P3 | B76: Ignition attempts | C76: 1 | D76: 1 | E76: 1 | F76: 1 | G76: 1 | H76: 1 | I76: 1 | J76: 1 | K76: 1 | L76: 1 | M76: 1 | N76: 1 | O76: 1 | P76: 1 | R76: 1 | S76: 1 | T76: 1 | U76: 1 | V76: 1 | W76: 1 | X76: 1 | Y76: 1 | Z76: 1 | AA76: 1 | AB76: 1 | AC76: 1 | AD76: 3 | AE76: 2 | AF76: 1 | AH76: 1 | AI76: 1 | AJ76: 1 | AL76: 1 | AN76: 1
A77: P4 | B77: Lamp time min | C77: 2 | D77: 3 | E77: 3 | F77: 3 | G77: 3 | H77: 3 | I77: 0 | J77: 0 | K77: 2 | L77: 2 | M77: 1 | N77: 3 | O77: 0 | P77: 3 | R77: 3 | S77: 3 | T77: 3 | U77: 10 | V77: 3 | W77: 3 | X77: 3 | Y77: 2 | Z77: 3 | AA77: 3 | AB77: 3 | AC77: 3 | AD77: 3 | AE77: 3 | AF77: 3 | AH77: 3 | AI77: 3 | AJ77: 3 | AL77: 3 | AN77: 3
A78: P5 | B78: Delta temperature for wait off | C78: 5 | D78: 5 | E78: 5 | F78: 7 | G78: 5 | H78: 5 | I78: 5 | J78: 5 | K78: 5 | L78: 5 | M78: 7 | N78: 5 | O78: 5 | P78: 5 | R78: 5 | S78: 5 | T78: 5 | U78: 5 | V78: 5 | W78: 5 | X78: 5 | Y78: 5 | Z78: 5 | AA78: 5 | AB78: 5 | AC78: 5 | AD78: 5 | AF78: 5 | AH78: 5 | AI78: 5 | AJ78: 5 | AL78: 5 | AN78: 5
A79: P6 | B79: Time turning off pump min | C79: 1 | D79: 15 | E79: 15 | F79: 15 | G79: 5 | H79: 15 | I79: 10 | J79: 1 | K79: 15 | L79: 15 | M79: 10 | N79: 15 | O79: 10 | P79: 10 | R79: 5 | S79: 5 | T79: 15 | U79: 15 | V79: 15 | W79: 5 | X79: 15 | Y79: 10 | Z79: 15 | AA79: 15 | AB79: 15 | AC79: 15 | AD79: 10 | AF79: 30 | AH79: 15 | AI79: 1 | AJ79: 15 | AL79: 10 | AN79: 15
A80: P7 | B80: External termostat mode | C80: 2 | D80: 0 | E80: 0 | F80: 0 | G80: 2 | H80: 0 | I80: 2 | J80: 2 | K80: 0 | L80: 0 | M80: 2 | N80: 2 | O80: 0 | P80: 2 | R80: 2 | S80: 2 | T80: 2 | U80: 2 | V80: 1 | W80: 2 | X80: 2 | Y80: 2 | Z80: 0 | AA80: 2 | AB80: 2 | AC80: 2 | AD80: 0 | AF80: 2 | AH80: 2 | AI80: 0 | AJ80: 0 | AL80: 2 | AN80: 1
A81: P8 | B81: Delta degrees to adjust power | C81: 5 | D81: 5 | E81: 5 | F81: 5 | G81: 3 | H81: 5 | I81: 5 | J81: 5 | K81: 5 | L81: 5 | M81: 5 | N81: 5 | O81: 2 | P81: 5 | R81: 1 | S81: 5 | T81: 5 | U81: 5 | V81: 5 | W81: 5 | X81: 5 | Y81: 5 | Z81: 5 | AA81: 5 | AB81: 5 | AC81: 5 | AD81: 2 | AF81: 5 | AH81: 5 | AI81: 5 | AJ81: 5 | AL81: 5 | AN81: 5
A82: P9 | B82: Low Air Pressure Control | C82: 0 | D82: 0 | E82: 0 | F82: 0 | G82: 0 | H82: 0 | I82: 1 | J82: 0 | K82: 0 | L82: 0 | M82: 0 | N82: 0 | O82: 0 | P82: 1 | R82: 1 | S82: 1 | T82: 0 | U82: 0 | V82: 0 | W82: 1 | X82: 0 | Y82: 0 | Z82: 0 | AA82: 0 | AB82: 0 | AC82: 0 | AD82: 0 | AF82: 0 | AH82: 0 | AI82: 0 | AJ82: 0 | AL82: 0 | AN82: 1
A83: P10 | B83: High Pressure Wather | C83: 1 | D83: 0 | E83: 1 | F83: 0 | G83: 0 | H83: 0 | I83: 1 | J83: 0 | K83: 1 | L83: 1 | M83: 0 | N83: 0 | O83: 0 | P83: 1 | R83: 0 | S83: 1 | T83: 0 | U83: 1 | V83: 1 | W83: 0 | X83: 0 | Y83: 0 | Z83: 0 | AA83: 1 | AB83: 1 | AC83: 0 | AD83: 0 | AF83: 1 | AH83: 1 | AI83: 0 | AJ83: 0 | AL83: 1 | AN83: 0
A84: P11 | B84: Switch on smoke adjustment | C84: 0 | D84: 0 | E84: 0 | F84: 0 | G84: 0 | H84: 0 | I84: 0 | J84: 0 | K84: 0 | L84: 0 | M84: 0 | N84: 0 | O84: 0 | P84: 0 | R84: 0 | S84: 0 | T84: 0 | U84: 0 | V84: 0 | W84: 0 | X84: 0 | Y84: 0 | Z84: 0 | AA84: 0 | AB84: 0 | AC84: 0 | AD84: 0 | AF84: 0 | AH84: 0 | AI84: 0 | AJ84: 0 | AL84: 0 | AN84: 0
A85: P12 | B85: Switch on user adjustment | C85: 0 | D85: 0 | E85: 0 | F85: 0 | G85: 0 | H85: 0 | I85: 1 | J85: 1 | K85: 0 | L85: 0 | M85: 0 | N85: 0 | O85: 1 | P85: 0 | R85: 0 | S85: 1 | T85: 0 | U85: 0 | V85: 0 | W85: 0 | X85: 0 | Y85: 0 | Z85: 0 | AA85: 0 | AB85: 0 | AC85: 0 | AD85: 1 | AF85: 0 | AH85: 0 | AI85: 0 | AJ85: 1 | AL85: 0 | AN85: 0
A86: P13 | B86: Switch on puffer mode | C86: 0 | D86: 0 | E86: 0 | F86: 1 | G86: 0 | H86: 1 | I86: 0 | J86: 1 | K86: 0 | L86: 0 | M86: 0 | N86: 0 | O86: 1 | P86: 0 | R86: 0 | S86: 0 | T86: 0 | U86: 0 | V86: 0 | W86: 0 | X86: 0 | Y86: 1 | Z86: 0 | AA86: 0 | AB86: 0 | AC86: 0 | AD86: 1 | AF86: 0 | AH86: 0 | AI86: 1 | AJ86: 0 | AL86: 0 | AN86: 0
A87: P14 | B87: Switch on modem SMS | C87: 0 | D87: 0 | E87: 0 | F87: 0 | G87: 0 | H87: 0 | I87: 0 | J87: 0 | K87: 0 | L87: 0 | M87: 0 | N87: 0 | O87: 0 | P87: 0 | R87: 0 | S87: 0 | T87: 0 | U87: 0 | V87: 0 | W87: 0 | X87: 0 | Y87: 0 | Z87: 0 | AA87: 0 | AB87: 0 | AC87: 0 | AD87: 0 | AF87: 0 | AH87: 0 | AI87: 0 | AJ87: 0 | AL87: 0 | AN87: 0
A88: P15 | B88: Switch on Auger brake | C88: 1 | D88: 1 | E88: 1 | F88: 1 | G88: 1 | H88: 1 | I88: 1 | J88: 1 | K88: 1 | L88: 1 | M88: 1 | N88: 1 | O88: 1 | P88: 1 | R88: 1 | S88: 1 | T88: 1 | U88: 1 | V88: 1 | X88: 1 | Y88: 0 | Z88: 1 | AA88: 1 | AB88: 1 | AC88: 1 | AD88: 1 | AF88: 1 | AH88: 1 | AI88: 1 | AJ88: 1 | AL88: 1 | AN88: 1

Sheet Toby 12 uporedni prikaz
B1: Uporedni prikaz paramterara unetih u prvoj tabeli za kotlove Toby12. Ukoliko zelite da promenite neki od svojih parametara uradite to u prvoj tabeli. | C1: =IFERROR(__xludf.DUMMYFUNCTION("FILTER('Parametri Toby'!C1:AL88, 'Parametri Toby'!C2:AL2 = ""Toby 12"")"),"koyote") -> koyote | D1: Zemun | E1: Sve naopako | F1: Jetsetwilly | G1: stepa | H1: stevanovicfilip | I1: Dragan SD | J1: Vlatko Sabac | K1: predragmirkovic | L1: grnmilosevic | M1: ASLservis | N1: Guverner | O1: Gox BG | P1: APAMsoldier
B2: Model kotla | C2: Toby 12 | D2: Toby 12 | E2: Toby 12 | F2: Toby 12 | G2: Toby 12 | H2: Toby 12 | I2: Toby 12 | J2: Toby 12 | K2: Toby 12 | L2: Toby 12 | M2: Toby 12 | N2: Toby 12 | O2: Toby 12 | P2: Toby 12
B3: Vrsta peleta | C3: S-Biom | D3: Jela Star Prijepolje | F3: Sparrow | G3: banja koviljaca | H3: GIR Kraljevo | I3: SAVOX Milici | J3: biostar | K3: bau energy | L3: biopoint | M3: Knjazevac | N3: Jela Prijepolje | O3: Jela Prijepolje | P3: Spacva
B4: Rupe za sekundarni vazduh | C4: Da | D4: Ne | E4: Da | F4: Ne | G4: Da | H4: Da | I4: Ne | J4: Da | K4: Da | L4: Da | M4: Da | N4: Da | O4: Da | P4: Da
B5: Kapacitet puža (g/min) | C5: 75 | D5: 72 | E5: 72 | F5: 78 | G5: 68 | H5: 80 | I5: 65 | J5: 140 | K5: 120 | L5: 300 | M5: 75 | N5: 62 | O5: 59 | P5: 60
B6: Zadata temperatura kotla | C6: 72 | D6: 60 | E6: 72 | F6: 72 | G6: 60 | H6: 72 | I6: 65 | J6: 74 | K6: 82 | L6: 76 | M6: 75 | N6: 73 | O6: 75 | P6: 70
B7: Mešni ventil | C7: Četvorokraki sa regulacijom | D7: Trokraki sa regulacijom | E7: Trokraki bez regulacije | F7: Trokraki bez regulacije | G7: Trokraki bez regulacije | H7: Četvorokraki bez regulacije | I7: Četvorokraki bez regulacije | J7: Trokraki bez regulacije | K7: Četvorokraki bez regulacije | L7: Četvorokraki bez regulacije | M7: Četvorokraki sa regulacijom | N7: Četvorokraki bez regulacije | O7: Trokraki bez regulacije | P7: Trokraki bez regulacije
B8: Opšti parametri (šifra 4321)
A9: P1 | B9: Max time ignition min | C9: 15 | D9: 15 | E9: 15 | F9: 15 | G9: 15 | H9: 58 | I9: 15 | J9: 15 | K9: 15 | L9: 15 | M9: 15 | N9: 15 | O9: 15 | P9: 15
A10: P2 | B10: Flame stabilization time min | C10: 4 | D10: 3 | E10: 3 | F10: 3 | G10: 2 | H10: 12 | I10: 2 | J10: 3 | K10: 2 | L10: 5 | M10: 2 | N10: 2 | O10: 2 | P10: 2
A11: P3 | B11: Time between clean min | C11: 35 | D11: 40 | E11: 35 | F11: 30 | G11: 20 | H11: 32 | I11: 45 | J11: 45 | K11: 40 | L11: 20 | M11: 20 | N11: 2 | O11: 45 | P11: 20
A12: P4 | B12: Cleaning time sec | C12: 25 | D12: 30 | E12: 30 | F12: 30 | G12: 30 | H12: 25 | I12: 30 | J12: 30 | K12: 15 | L12: 25 | M12: 25 | N12: 99 | O12: 99 | P12: 30
A13: P5 | B13: Alarms delay sec | C13: 120 | D13: 120 | E13: 120 | F13: 120 | G13: 120 | H13: 120 | I13: 120 | J13: 120 | K13: 120 | L13: 120 | M13: 120 | N13: 120 | O13: 120 | P13: 120
A14: P6 | B14: Max temperature | C14: 250 | D14: 250 | E14: 210 | F14: 160 | G14: 250 | H14: 230 | I14: 200 | J14: 200 | K14: 200 | L14: 200 | M14: 210 | N14: 230 | O14: 230 | P14: 255
A15: P7 | B15: Delta Flame off | C15: 12 | D15: 5 | E15: 4 | F15: 5 | G15: 10 | H15: 12 | I15: 10 | J15: 5 | K15: 10 | L15: 9 | M15: 8 | N15: 10 | O15: 10 | P15: 10
A16: P8 | B16: Delta Flame Burning | C16: 15 | D16: 15 | E16: 15 | F16: 15 | G16: 15 | H16: 15 | I16: 15 | J16: 15 | K16: 15 | L16: 15 | M16: 13 | N16: 15 | O16: 15 | P16: 15
A17: P9 | B17: Preload feed sec | C17: 45 | D17: 45 | E17: 45 | F17: 55 | G17: 25 | H17: 35 | I17: 50 | J17: 45 | K17: 45 | L17: 0 | M17: 20 | N17: 55 | O17: 55 | P17: 15
A18: P10 | B18: Water temperature antifreeze | C18: 2 | D18: 2 | E18: 2 | F18: 5 | G18: 2 | H18: 2 | I18: 2 | J18: 2 | K18: 2 | L18: 5 | M18: 2 | N18: 2 | O18: 2 | P18: 2
A19: P11 | B19: Water temperature pump | C19: 55 | D19: 40 | E19: 57 | F19: 55 | G19: 50 | H19: 55 | I19: 40 | J19: 60 | K19: 67 | L19: 60 | M19: 50 | N19: 65 | O19: 66 | P19: 55
A20: P12 | B20: Time between clean EV hour | C20: 0 | D20: 99 | E20: 99 | F20: 99 | G20: 0 | H20: 0 | I20: 0 | J20: 0 | K20: 0 | L20: 0 | N20: 0 | O20: 0 | P20: 0
A21: P13 | B21: Cleaning time EV min | C21: 0 | D21: 9 | E21: 9 | F21: 9 | G21: 0 | H21: 0 | I21: 0 | J21: 0 | K21: 0 | L21: 0 | N21: 0 | O21: 0 | P21: 0
A22: P14 | B22: Critical Alarms delay sec | C22: 15 | D22: 15 | E22: 15 | F22: 15 | G22: 15 | H22: 15 | I22: 15 | J22: 15 | K22: 15 | L22: 15 | N22: 15 | O22: 15 | P22: 15
A23: P15 | B23: Management Fan for burning | C23: 0 | D23: 0 | E23: 0 | F23: 0 | G23: 0 | H23: 0 | I23: 0 | J23: 0 | K23: 0 | L23: 0 | N23: 0 | O23: 0 | P23: 0
A24: P16 | B24: Hour for service x 1000 | C24: 0 | D24: 0 | E24: 0 | F24: 0 | G24: 0 | H24: 0 | I24: 0 | J24: 0 | K24: 0 | L24: 0 | N24: 0 | O24: 0 | P24: 0
A25: P17 | B25: Minimum turning off time min | C25: 5 | D25: 7 | E25: 7 | F25: 10 | G25: 5 | H25: 5 | I25: 7 | J25: 5 | K25: 3 | L25: 3 | N25: 7 | O25: 7 | P25: 7
A26: P18 | B26: Time preignition resistance min | C26: 3 | D26: 3 | E26: 3 | F26: 3 | G26: 3 | H26: 3 | I26: 3 | J26: 3 | K26: 3 | L26: 3 | N26: 3 | O26: 3 | P26: 3
A27: P19 | B27: Cycle number for pot change | C27: 3 | D27: 3 | E27: 3 | F27: 3 | G27: 1 | H27: 3 | I27: 3 | J27: 3 | K27: 3 | L27: 1 | N27: 3 | O27: 3 | P27: 3
A28: P20 | B28: Feeder loading time ON sec | C28: 0.9 | D28: 1 | E28: 1.1 | F28: 1.2 | G28: 1 | H28: 0.9 | I28: 1.1 | J28: 1 | K28: 1.3 | L28: 1.8 | N28: 1.2 | O28: 1.6 | P28: 0.4
A29: P21 | B29: Feeder loading time OFF sec | C29: 3.5 | D29: 3 | E29: 3 | F29: 3 | G29: 5 | H29: 3.5 | I29: 3 | J29: 5 | K29: 3.5 | L29: 10 | N29: 4 | O29: 3 | P29: 3
A30: P22 | B30: Feeder on start time ON sec | C30: 0.8 | D30: 1 | E30: 0.8 | F30: 1.4 | G30: 1.2 | H30: 0.8 | I30: 1.6 | J30: 1.2 | K30: 1.6 | L30: 1.4 | N30: 1.2 | O30: 1.4 | P30: 0.5
A31: P23 | B31: Feeder on start time OFF sec | C31: 3.5 | D31: 3 | E31: 3 | F31: 3 | G31: 5 | H31: 3.5 | I31: 3 | J31: 4.8 | K31: 3 | L31: 9.5 | N31: 4 | O31: 3 | P31: 3.4
... A33: P25 | B33: Feeder cleaning time OFF sec | C33: 5 | D33: 3 | E33: 5 | F33: 5 | G33: 5 | H33: 5 | I33: 5 | J33: 5.2 | K33: 5 | L33: 6 | N33: 5 | O33: 3.5 | P33: 5
A34: P26 | B34: Feeder time ON power 1 | C34: 2.2 | D34: 1.3 | E34: 1.2 | F34: 1.4 | G34: 1 | H34: 1.1 | I34: 1 | J34: 0.6 | K34: 1.4 | L34: 1.2 | M34: 1.5 | N34: 1.5 | O34: 1.7 | P34: 1.5
A35: P27 | B35: Feeder time OFF power 1 | C35: 5.8 | D35: 3.5 | E35: 3.3 | F35: 3.4 | G35: 3 | H35: 2.5 | I35: 3.2 | J35: 5.4 | K35: 4.6 | L35: 8 | M35: 5 | N35: 3.6 | O35: 3.2 | P35: 4
A36: P28 | B36: Feeder time ON power 2 | C36: 2.9 | D36: 2 | E36: 1.4 | F36: 1.6 | G36: 1.5 | H36: 1.6 | I36: 1.5 | J36: 0.9 | K36: 1.8 | L36: 1.5 | M36: 2 | N36: 1.5 | O36: 2 | P36: 2
A37: P29 | B37: Feeder time OFF power 2 | C37: 5.1 | D37: 3.3 | E37: 2.9 | F37: 2.9 | G37: 2.8 | H37: 1.5 | I37: 2.8 | J37: 5.1 | K37: 4.2 | L37: 7.7 | M37: 3 | N37: 3 | O37: 2.5 | P37: 3.5
A38: P30 | B38: Feeder time ON power 3 | C38: 3.5 | D38: 3 | E38: 1.7 | F38: 1.8 | G38: 1.8 | H38: 2.5 | I38: 1.8 | J38: 1.2 | K38: 2.2 | L38: 1.8 | M38: 2.5 | N38: 2 | O38: 2.5 | P38: 2.4
A39: P31 | B39: Feeder time OFF power 3 | C39: 4.5 | D39: 3 | E39: 2.6 | F39: 2.6 | G39: 2.4 | H39: 7.5 | I39: 2.4 | J39: 4.8 | K39: 3.8 | L39: 7.4 | M39: 2.5 | N39: 3 | O39: 2.4 | P39: 3.1
A40: P32 | B40: Feeder time ON power 4 | C40: 4 | D40: 4 | E40: 2 | F40: 2.2 | G40: 2 | H40: 3 | I40: 2 | J40: 1.5 | K40: 2.6 | L40: 2.2 | M40: 3 | N40: 2.5 | O40: 3 | P40: 2.8
A41: P33 | B41: Feeder time OFF power 4 | C41: 4 | D41: 2.7 | E41: 2.3 | F41: 2.3 | G41: 2.2 | H41: 7 | I41: 2 | J41: 4.5 | K41: 3.4 | L41: 7 | M41: 2 | N41: 2.7 | O41: 2.2 | P41: 2.7
A42: P34 | B42: Feeder time ON power 5 | C42: 4.5 | D42: 6 | E42: 2.4 | F42: 2.6 | G42: 2.4 | H42: 4 | I42: 2.5 | J42: 1.8 | K42: 3 | L42: 2.5 | M42: 3.5 | N42: 3 | O42: 3.6 | P42: 3.3
A43: P35 | B43: Feeder time OFF power 5 | C43: 3.5 | D43: 2.4 | E43: 1.9 | F43: 1.8 | G43: 1.8 | H43: 6 | I43: 1.3 | J43: 4.2 | K43: 3 | L43: 6.7 | M43: 1.5 | N43: 2.2 | O43: 1.7 | P43: 2.2
A44: P36 | B44: Combustion fan on load | C44: 235 | D44: 235 | E44: 235 | F44: 235 | G44: 235 | H44: 235 | I44: 190 | J44: 230 | K44: 210 | L44: 110 | N44: 225 | O44: 225 | P44: 200
A45: P37 | B45: Combustion fan on start | C45: 245 | D45: 245 | E45: 245 | F45: 245 | G45: 245 | H45: 245 | I45: 245 | J45: 240 | K45: 234 | L45: 105 | N45: 235 | O45: 235 | P45: 210
A46: P38 | B46: Combustion fan on cleaning | C46: 300 | D46: 300 | E46: 300 | F46: 280 | G46: 300 | H46: 300 | I46: 300 | J46: 280 | K46: 300 | L46: 175 | N46: 200 | O46: 200 | P46: 300
A47: P39 | B47: Combustion fan on power 1 | C47: 180 | D47: 190 | E47: 190 | F47: 205 | G47: 180 | H47: 200 | I47: 180 | J47: 170 | K47: 165 | L47: 87 | N47: 170 | O47: 170 | P47: 155
A48: P40 | B48: Combustion fan on power 2 | C48: 190 | D48: 200 | E48: 195 | F48: 210 | G48: 190 | H48: 205 | I48: 190 | J48: 185 | K48: 170 | L48: 92 | N48: 175 | O48: 175 | P48: 160
A49: P41 | B49: Combustion fan on power 3 | C49: 200 | D49: 215 | E49: 200 | F49: 215 | G49: 200 | H49: 210 | I49: 200 | J49: 200 | K49: 180 | L49: 96 | N49: 180 | O49: 180 | P49: 165
A50: P42 | B50: Combustion fan on power 4 | C50: 210 | D50: 225 | E50: 215 | F50: 225 | G50: 210 | H50: 215 | I50: 210 | J50: 215 | K50: 190 | L50: 100 | N50: 190 | O50: 190 | P50: 170
A51: P43 | B51: Combustion fan on power 5 | C51: 220 | D51: 240 | E51: 230 | F51: 235 | G51: 220 | H51: 220 | I51: 220 | J51: 230 | K51: 200 | L51: 105 | N51: 200 | O51: 200 | P51: 175
A52: P44 | B52: Combustion fan adjust -4 | C52: 0 | D52: 0 | E52: 0 | F52: 0 | G52: 0 | H52: 0 | I52: 0 | J52: 0 | K52: 0 | L52: 0 | N52: 0 | O52: 0 | P52: 0
A53: P45 | B53: Combustion fan adjust -3 | C53: 0 | D53: 0 | E53: 0 | F53: 0 | G53: 0 | H53: 0 | I53: 0 | J53: 0 | K53: 0 | L53: 0 | N53: 0 | O53: 0 | P53: 0
A54: P46 | B54: Combustion fan adjust -2 | C54: 0 | D54: 0 | E54: 0 | F54: 0 | G54: 0 | H54: 0 | I54: 0 | J54: 0 | K54: 0 | L54: 0 | N54: 0 | O54: 0 | P54: 0
A55: P47 | B55: Combustion fan adjust -1 | C55: 0 | D55: 0 | E55: 0 | F55: 0 | G55: 0 | H55: 0 | I55: 0 | J55: 0 | K55: 0 | L55: 0 | N55: 0 | O55: 0 | P55: 0
... A72: P64 | B72: Smoke Temperature Adjust Pot 5 | C72: 0 | D72: 0 | E72: 0 | F72: 0 | G72: 0 | H72: 0 | I72: 0 | J72: 0 | K72: 0 | L72: 0 | N72: 0 | O72: 0 | P72: 0
B73: Tehnički parametri (šifra 1234)
A74: P1 | B74: Restart from Blackout | C74: 1 | D74: 1 | E74: 1 | F74: 1 | G74: 0 | H74: 1 | I74: 0 | J74: 0 | K74: 0 | L74: 1 | M74: 1 | N74: 1 | O74: 1 | P74: 1
A75: P2 | B75: Delta Temperature for wait restart | C75: 10 | D75: 10 | E75: 10 | F75: 20 | G75: 2 | H75: 2 | I75: 2 | J75: 2 | K75: 2 | L75: 5 | N75: 2 | O75: 2 | P75: 2
A76: P3 | B76: Ignition attempts | C76: 1 | D76: 1 | E76: 1 | F76: 1 | G76: 1 | H76: 1 | I76: 1 | J76: 1 | K76: 1 | L76: 3 | M76: 2 | N76: 1 | O76: 1 | P76: 1
A77: P4 | B77: Lamp time min | C77: 2 | D77: 2 | E77: 2 | F77: 1 | G77: 3 | H77: 2 | I77: 3 | J77: 3 | K77: 3 | L77: 3 | M77: 3 | N77: 3 | O77: 3 | P77: 3
A78: P5 | B78: Delta temperature for wait off | C78: 5 | D78: 5 | E78: 5 | F78: 7 | G78: 5 | H78: 5 | I78: 5 | J78: 5 | K78: 5 | L78: 5 | N78: 5 | O78: 5 | P78: 5
A79: P6 | B79: Time turning off pump min | C79: 1 | D79: 15 | E79: 15 | F79: 10 | G79: 5 | H79: 10 | I79: 15 | J79: 15 | K79: 15 | L79: 10 | N79: 30 | O79: 15 | P79: 10
A80: P7 | B80: External termostat mode | C80: 2 | D80: 0 | E80: 0 | F80: 2 | G80: 2 | H80: 2 | I80: 2 | J80: 2 | K80: 2 | L80: 0 | N80: 2 | O80: 2 | P80: 2
A81: P8 | B81: Delta degrees to adjust power | C81: 5 | D81: 5 | E81: 5 | F81: 5 | G81: 5 | H81: 5 | I81: 5 | J81: 5 | K81: 5 | L81: 2 | N81: 5 | O81: 5 | P81: 5
A82: P9 | B82: Low Air Pressure Control | C82: 0 | D82: 0 | E82: 0 | F82: 0 | G82: 1 | H82: 0 | I82: 0 | J82: 0 | K82: 0 | L82: 0 | N82: 0 | O82: 0 | P82: 0
A83: P10 | B83: High Pressure Wather | C83: 1 | D83: 1 | E83: 1 | F83: 0 | G83: 0 | H83: 0 | I83: 1 | J83: 1 | K83: 0 | L83: 0 | N83: 1 | O83: 1 | P83: 1
A84: P11 | B84: Switch on smoke adjustment | C84: 0 | D84: 0 | E84: 0 | F84: 0 | G84: 0 | H84: 0 | I84: 0 | J84: 0 | K84: 0 | L84: 0 | N84: 0 | O84: 0 | P84: 0
A85: P12 | B85: Switch on user adjustment | C85: 0 | D85: 0 | E85: 0 | F85: 0 | G85: 0 | H85: 0 | I85: 0 | J85: 0 | K85: 0 | L85: 1 | N85: 0 | O85: 0 | P85: 0
A86: P13 | B86: Switch on puffer mode | C86: 0 | D86: 0 | E86: 0 | F86: 0 | G86: 0 | H86: 1 | I86: 0 | J86: 0 | K86: 0 | L86: 1 | N86: 0 | O86: 0 | P86: 0
A87: P14 | B87: Switch on modem SMS | C87: 0 | D87: 0 | E87: 0 | F87: 0 | G87: 0 | H87: 0 | I87: 0 | J87: 0 | K87: 0 | L87: 0 | N87: 0 | O87: 0 | P87: 0
A88: P15 | B88: Switch on Auger brake | C88: 1 | D88: 1 | E88: 1 | F88: 1 | H88: 0 | I88: 1 | J88: 1 | K88: 1 | L88: 1 | N88: 1 | O88: 1 | P88: 1

Sheet Toby 20 uporedni prikaz
B1: Uporedni prikaz paramterara unetih u prvoj tabeli za kotlove Toby20. Ukoliko zelite da promenite neki od svojih parametara uradite to u prvoj tabeli. | C1: =IFERROR(__xludf.DUMMYFUNCTION("FILTER('Parametri Toby'!C1:AL88, 'Parametri Toby'!C2:AL2 = ""Toby 20"")"),"boree") -> boree | D1: gRk0wac. | E1: richiemsch | F1: MyX-Mesha | G1: stepa 1986 | H1: vukpiper | I1: jugordana | J1: DE-Va Toby 20 H set (kamin pelet) | K1: bokikrag | L1: dany12 | M1: sasa-74
B2: Model kotla | C2: Toby 20 | D2: Toby 20 | E2: Toby 20 | F2: Toby 20 | G2: Toby 20 | H2: Toby 20 | I2: Toby 20 | J2: Toby 20 | K2: Toby 20 | L2: Toby 20 | M2: Toby 20
B3: Vrsta peleta | C3: Spačva | D3: Forest Crown | E3: Nis-pelet | F3: Elgrad Teslić | G3: jela star | H3: biopoint | I3: jelastar | J3: Varvarin | K3: Sparrow | L3: S-Biom | M3: bioenergy
B4: Rupe za sekundarni vazduh | C4: Da 4 | D4: Da 3 | E4: Da | F4: Da | G4: Ne | H4: Ne | I4: Da | J4: Da | K4: Ne | L4: Ne | M4: Da
B5: Kapacitet puža (g/min) | C5: 145 | D5: 120 | E5: 117 | F5: 130 | G5: 123 | H5: 115 | I5: 140 | J5: 120 | K5: 138 | L5: 120 | M5: 120
B6: Zadata temperatura kotla | C6: 78 | D6: 75 | E6: 75 | F6: 80 | G6: 60 | H6: 75 | I6: 75 | J6: 60 | K6: 75 | L6: 60 | M6: 72
B7: Mešni ventil | C7: Četvorokraki sa regulacijom | D7: Četvorokraki bez regulacije | E7: Četvorokraki sa regulacijom | F7: Četvorokraki sa regulacijom | G7: Četvorokraki sa regulacijom | H7: Četvorokraki bez regulacije | I7: Četvorokraki sa regulacijom | J7: Ne | K7: Četvorokraki bez regulacije | L7: Trokraki bez regulacije | M7: Četvorokraki bez regulacije
B8: Opšti parametri (šifra 4321)
A9: P1 | B9: Max time ignition min | C9: 15 | D9: 15 | E9: 15 | F9: 10 | G9: 15 | H9: 15 | I9: 15 | J9: 15 | K9: 15 | L9: 20 | M9: 15
A10: P2 | B10: Flame stabilization time min | C10: 5 | D10: 5 | E10: 4 | F10: 3 | G10: 5 | H10: 5 | I10: 1 | J10: 2 | K10: 5 | L10: 4 | M10: 4
A11: P3 | B11: Time between clean min | C11: 45 | D11: 45 | E11: 40 | F11: 30 | G11: 35 | H11: 45 | I11: 40 | J11: 45 | K11: 30 | L11: 20 | M11: 45
A12: P4 | B12: Cleaning time sec | C12: 20 | D12: 15 | E12: 20 | F12: 20 | G12: 20 | H12: 15 | I12: 20 | J12: 25 | K12: 30 | L12: 20 | M12: 15
A13: P5 | B13: Alarms delay sec | C13: 120 | D13: 120 | E13: 120 | F13: 120 | G13: 120 | H13: 120 | I13: 120 | J13: 120 | K13: 120 | L13: 120 | M13: 120
A14: P6 | B14: Max temperature | C14: 200 | D14: 200 | E14: 200 | F14: 200 | G14: 200 | H14: 250 | I14: 200 | J14: 200 | K14: 200 | L14: 250 | M14: 250
A15: P7 | B15: Delta Flame off | C15: 5 | D15: 10 | E15: 10 | F15: 10 | G15: 10 | H15: 5 | I15: 5 | J15: 5 | K15: 8 | L15: 10 | M15: 10
A16: P8 | B16: Delta Flame Burning | C16: 15 | D16: 15 | E16: 15 | F16: 15 | G16: 15 | H16: 15 | I16: 15 | J16: 10 | K16: 15 | L16: 15 | M16: 15
A17: P9 | B17: Preload feed sec | C17: 9 | D17: 40 | E17: 85 | F17: 65 | G17: 90 | H17: 100 | I17: 100 | J17: 80 | K17: 4 | L17: 100 | M17: 80
A18: P10 | B18: Water temperature antifreeze | C18: 2 | D18: 3 | E18: 2 | F18: 2 | G18: 2 | H18: 2 | I18: 2 | J18: 2 | K18: 2 | L18: 2 | M18: 2
A19: P11 | B19: Water temperature pump | C19: 60 | D19: 45 | E19: 65 | F19: 65 | G19: 50 | H19: 35 | I19: 60 | J19: 45 | K19: 65 | L19: 50 | M19: 60
A20: P12 | B20: Time between clean EV hour | C20: 0 | D20: 0 | E20: 11211 | F20: 0 | G20: 0 | H20: 0 | I20: 99 | J20: 0 | K20: 0 | L20: 99 | M20: 0
... A28: P20 | B28: Feeder loading time ON sec | C28: 2 | D28: 1 | E28: 1.6 | F28: 1.8 | G28: 1.5 | H28: 1.4 | I28: 1.8 | J28: 1 | K28: 1.5 | L28: 1.2 | M28: 1.2
A29: P21 | B29: Feeder loading time OFF sec | C29: 4 | D29: 5 | E29: 5 | F29: 5 | G29: 5 | H29: 5 | I29: 5 | J29: 5 | K29: 5 | L29: 5 | M29: 5,0
A30: P22 | B30: Feeder on start time ON sec | C30: 1.5 | D30: 0.7 | E30: 1 | F30: 1.6 | G30: 1.5 | H30: 1.2 | I30: 1.6 | J30: 1.2 | K30: 1.5 | L30: 1 | M30: 1
A31: P23 | B31: Feeder on start time OFF sec | C31: 5 | D31: 5 | E31: 5 | F31: 5 | G31: 5 | H31: 5 | I31: 5 | J31: 5 | K31: 5 | L31: 5 | M31: 5
A32: P24 | B32: Feeder cleaning time ON sec | C32: 1.5 | D32: 1 | E32: 1 | F32: 1 | G32: 1.5 | H32: 1 | I32: 1 | J32: 1.5 | K32: 1.5 | L32: 1 | M32: 1.2
A33: P25 | B33: Feeder cleaning time OFF sec | C33: 5 | D33: 5 | E33: 5 | F33: 5 | G33: 5 | H33: 5 | I33: 5 | J33: 5 | K33: 5 | L33: 5 | M33: 5
A34: P26 | B34: Feeder time ON power 1 | C34: 1.4 | D34: 0.6 | E34: 0.8 | F34: 1 | G34: 1.5 | H34: 1.6 | I34: 1.5 | J34: 0.7 | K34: 1.2 | L34: 1.5 | M34: 1
A35: P27 | B35: Feeder time OFF power 1 | C35: 5.6 | D35: 3.5 | E35: 3.5 | F35: 3.5 | G35: 4 | H35: 3.5 | I35: 8.5 | J35: 3.5 | K35: 8.8 | L35: 4.5 | M35: 4
A36: P28 | B36: Feeder time ON power 2 | C36: 1.7 | D36: 1.2 | E36: 1.2 | F36: 1.3 | G36: 2 | H36: 2.1 | I36: 2.1 | J36: 1.2 | K36: 1.9 | L36: 2 | M36: 1.5
A37: P29 | B37: Feeder time OFF power 2 | C37: 5.3 | D37: 3.5 | E37: 3.5 | F37: 3.5 | G37: 3.5 | H37: 3.5 | I37: 7.9 | J37: 3.5 | K37: 8.1 | L37: 4 | M37: 4
A38: P30 | B38: Feeder time ON power 3 | C38: 2 | D38: 2 | E38: 1.7 | F38: 1.7 | G38: 2.6 | H38: 2.7 | I38: 3 | J38: 2.5 | K38: 2.4 | L38: 2.5 | M38: 2
A39: P31 | B39: Feeder time OFF power 3 | C39: 5 | D39: 3.5 | E39: 3.5 | F39: 3.5 | G39: 3.5 | H39: 3.5 | I39: 7 | J39: 3.5 | K39: 7.6 | L39: 3.5 | M39: 4
A40: P32 | B40: Feeder time ON power 4 | C40: 2.3 | D40: 2.5 | E40: 2.1 | F40: 2.2 | G40: 3.5 | H40: 3.4 | I40: 3.5 | J40: 3 | K40: 2.9 | L40: 3 | M40: 3
A41: P33 | B41: Feeder time OFF power 4 | C41: 4.7 | D41: 3.5 | E41: 3.5 | F41: 3.5 | G41: 3.5 | H41: 3.5 | I41: 6.5 | J41: 3.5 | K41: 7.1 | L41: 3 | M41: 4
... A72: P64 | B72: Smoke Temperature Adjust Pot 5 | C72: 0 | D72: 0 | E72: 0 | F72: 0 | G72: 0 | H72: 0 | I72: 0 | J72: 0 | K72: 0 | L72: 0 | M72: 0
B73: Tehnički parametri (šifra 1234)
A74: P1 | B74: Restart from Blackout | C74: 1 | D74: 1 | E74: 0 | F74: 0 | G74: 0 | H74: 0 | I74: 1 | J74: 0 | K74: 1 | L74: 1 | M74: 0
A75: P2 | B75: Delta Temperature for wait restart | C75: 7 | D75: 7 | E75: 2 | F75: 2 | G75: 2 | H75: 2 | I75: 2 | J75: 2 | K75: 10 | L75: 10 | M75: 15
A76: P3 | B76: Ignition attempts | C76: 1 | D76: 1 | E76: 1 | F76: 1 | G76: 1 | H76: 1 | I76: 1 | J76: 1 | K76: 1 | L76: 1 | M76: 1
A77: P4 | B77: Lamp time min | C77: 3 | D77: 3 | E77: 3 | F77: 3 | G77: 3 | H77: 3 | I77: 3 | J77: 3 | K77: 3 | L77: 3 | M77: 3
A78: P5 | B78: Delta temperature for wait off | C78: 5 | D78: 5 | E78: 7 | F78: 5 | G78: 5 | H78: 5 | I78: 5 | J78: 5 | K78: 5 | L78: 5 | M78: 5
A79: P6 | B79: Time turning off pump min | C79: 15 | D79: 15 | E79: 15 | F79: 5 | G79: 10 | H79: 5 | I79: 5 | J79: 15 | K79: 15 | L79: 1 | M79: 15
A80: P7 | B80: External termostat mode | C80: 0 | D80: 0 | E80: 0 | F80: 2 | G80: 2 | H80: 2 | I80: 2 | J80: 2 | K80: 0 | L80: 0 | M80: 0
A81: P8 | B81: Delta degrees to adjust power | C81: 5 | D81: 5 | E81: 5 | F81: 3 | G81: 5 | H81: 1 | I81: 5 | J81: 5 | K81: 5 | L81: 5 | M81: 5
A82: P9 | B82: Low Air Pressure Control | C82: 0 | D82: 0 | E82: 0 | F82: 0 | G82: 1 | H82: 1 | I82: 1 | J82: 0 | K82: 0 | L82: 0 | M82: 0
A83: P10 | B83: High Pressure Wather | C83: 0 | D83: 1 | E83: 0 | F83: 0 | G83: 1 | H83: 0 | I83: 1 | J83: 0 | K83: 0 | L83: 0 | M83: 0
A84: P11 | B84: Switch on smoke adjustment | C84: 0 | D84: 0 | E84: 0 | F84: 0 | G84: 0 | H84: 0 | I84: 0 | J84: 0 | K84: 0 | L84: 0 | M84: 0
A85: P12 | B85: Switch on user adjustment | C85: 0 | D85: 0 | E85: 0 | F85: 0 | G85: 0 | H85: 0 | I85: 1 | J85: 0 | K85: 0 | L85: 0 | M85: 1
... A88: P15 | B88: Switch on Auger brake | C88: 1 | D88: 1 | E88: 1 | F88: 1 | G88: 1 | H88: 1 | I88: 1 | J88: 1 | K88: 1 | L88: 1 | M88: 1

Sheet Toby 30 uporedni prikaz
B1: Uporedni prikaz paramterara unetih u prvoj tabeli za kotlove Toby30. Ukoliko zelite da promenite neki od svojih parametara uradite to u prvoj tabeli. | C1: =IFERROR(__xludf.DUMMYFUNCTION("FILTER('Parametri Toby'!C1:AL88, 'Parametri Toby'!C2:AL2 = ""Toby 30"")"),"mvp84") -> mvp84 | D1: srdjan68 | E1: 1.salee | F1: Simke.BGD | G1: ironmaiden | H1: bulevarterm | I1: andjelko | J1: mirkant | K1: rade topola | L1: dongrga
B2: Model kotla | C2: Toby 30 | D2: Toby 30 | E2: Toby 30 | F2: Toby 30 | G2: Toby 30 | H2: Toby 30 | I2: Toby 30 | J2: Toby 30 | K2: Toby 30 | L2: Toby 30
B3: Vrsta peleta | C3: NANIX | D3: Miraja i Nanix | E3: CROWN FOREST | F3: Nanix wood | G3: bukovi pelet (MNE) | H3: total pelet | I3: jela star | J3: jelova gora | L3: premium pelet
B4: Rupe za sekundarni vazduh | C4: Da | D4: Da | E4: Ne | F4: Ne | G4: Da | H4: Da | I4: Da | J4: Da | K4: Da | L4: Ne
B5: Kapacitet puža (g/min) | C5: 280 | D5: 250 | E5: 370 | F5: 270 | G5: 230 | H5: 280 | I5: 68 | J5: 68 | K5: 280 | L5: 250
B6: Zadata temperatura kotla | C6: 80 | D6: 65 | E6: 75 | F6: 70 | G6: 80 | H6: 65 | I6: 55 | J6: 65 | K6: 77 | L6: 75
B7: Mešni ventil | C7: Četvorokraki sa regulacijom | D7: Četvorokraki bez regulacije | E7: Ne | F7: Ne | G7: Četvorokraki sa regulacijom | H7: Trokraki bez regulacije | I7: Trokraki bez regulacije | J7: Trokraki bez regulacije | K7: Četvorokraki bez regulacije | L7: Ne
B8: Opšti parametri (šifra 4321)
A9: P1 | B9: Max time ignition min | C9: 15 | D9: 15 | E9: 30 | F9: 15 | G9: 15 | H9: 15 | I9: 15 | J9: 15 | L9: 15
A10: P2 | B10: Flame stabilization time min | C10: 4 | D10: 4 | E10: 2 | F10: 4 | G10: 4 | H10: 5 | I10: 2 | J10: 2 | L10: 5
A11: P3 | B11: Time between clean min | C11: 30 | D11: 45 | E11: 0 | F11: 45 | G11: 20 | H11: 45 | I11: 40 | J11: 45 | L11: 30
A12: P4 | B12: Cleaning time sec | C12: 20 | D12: 25 | E12: 99 | F12: 99 | G12: 25 | H12: 20 | I12: 30 | J12: 10 | L12: 15
A13: P5 | B13: Alarms delay sec | C13: 120 | D13: 120 | E13: 120 | F13: 120 | G13: 120 | H13: 120 | I13: 120 | J13: 120 | L13: 120
A14: P6 | B14: Max temperature | C14: 200 | D14: 170 | E14: 250 | F14: 250 | G14: 250 | H14: 200 | I14: 210 | J14: 200 | L14: 250
A15: P7 | B15: Delta Flame off | C15: 10 | D15: 10 | E15: 15 | F15: 10 | G15: 9 | H15: 10 | I15: 10 | J15: 10 | L15: 9
A16: P8 | B16: Delta Flame Burning | C16: 10 | D16: 15 | E16: 29 | F16: 15 | G16: 15 | H16: 15 | I16: 15 | J16: 15 | L16: 15
A17: P9 | B17: Preload feed sec | C17: 50 | D17: 35 | E17: 47 | F17: 50 | G17: 10 | H17: 40 | I17: 40 | J17: 20 | L17: 55
A18: P10 | B18: Water temperature antifreeze | C18: 2 | D18: 2 | E18: 5 | F18: 2 | G18: 5 | H18: 2 | I18: 2 | J18: 2 | L18: 2
A19: P11 | B19: Water temperature pump | C19: 67 | D19: 50 | E19: 56 | F19: 50 | G19: 65 | H19: 50 | I19: 45 | J19: 45 | L19: 50
A20: P12 | B20: Time between clean EV hour | C20: 0 | D20: 0 | E20: 0 | F20: 0 | G20: 99 | H20: 0 | I20: 0 | J20: 0 | L20: 0
... A33: P25 | B33: Feeder cleaning time OFF sec | C33: 5 | D33: 6 | E33: 5 | F33: 3.5 | G33: 6 | H33: 5 | I33: 3 | J33: 3 | L33: 3.5
A34: P26 | B34: Feeder time ON power 1 | C34: 1.2 | D34: 1.3 | E34: 1 | F34: 0.7 | G34: 1.2 | H34: 0.5 | I34: 1 | J34: 0.6 | K34: 1.3 | L34: 0.5
A35: P27 | B35: Feeder time OFF power 1 | C35: 8 | D35: 8 | E35: 7 | F35: 3.5 | G35: 8 | H35: 3.5 | I35: 4 | J35: 2.8 | K35: 3.5 | L35: 4
A36: P28 | B36: Feeder time ON power 2 | C36: 1.5 | D36: 1.5 | E36: 1 | F36: 1 | G36: 1.5 | H36: 1 | I36: 1.7 | J36: 0.9 | K36: 1.6 | L36: 1.5
A37: P29 | B37: Feeder time OFF power 2 | C37: 8.5 | D37: 7.7 | E37: 5 | F37: 3.5 | G37: 7.7 | H37: 3.5 | I37: 4 | J37: 3 | K37: 8.4 | L37: 3.5
A38: P30 | B38: Feeder time ON power 3 | C38: 2 | D38: 1.8 | E38: 1 | F38: 2.5 | G38: 1.8 | H38: 2.5 | I38: 2.7 | J38: 1.2 | K38: 2.62 | L38: 2
A39: P31 | B39: Feeder time OFF power 3 | C39: 8 | D39: 7.4 | E39: 4 | F39: 3.5 | G39: 7.4 | H39: 3.5 | I39: 4 | J39: 3 | K39: 7.38 | L39: 3.5
A40: P32 | B40: Feeder time ON power 4 | C40: 2.5 | D40: 2.2 | E40: 1 | F40: 3.5 | G40: 2.2 | H40: 3.5 | I40: 2.7 | J40: 1.4 | K40: 3.28 | L40: 2.5
A41: P33 | B41: Feeder time OFF power 4 | C41: 7.5 | D41: 7 | E41: 3.5 | F41: 3.5 | G41: 7 | H41: 3.3 | I41: 3 | J41: 2.6 | K41: 6.72 | L41: 3.5
A42: P34 | B42: Feeder time ON power 5 | C42: 3 | D42: 2.5 | E42: 1.6 | F42: 5 | G42: 2.5 | H42: 4.6 | I42: 9 | J42: 2 | K42: 3.93 | L42: 3
A43: P35 | B43: Feeder time OFF power 5 | C43: 7 | D43: 6.7 | E43: 3 | F43: 3.5 | G43: 6.7 | H43: 3.5 | I43: 2 | J43: 2.3 | K43: 6.07 | L43: 3.5
A44: P36 | B44: Combustion fan on load | C44: 125 | D44: 110 | E44: 110 | F44: 140 | G44: 110 | H44: 140 | I44: 220 | J44: 235 | L44: 115
A45: P37 | B45: Combustion fan on start | C45: 140 | D45: 105 | E45: 105 | F45: 160 | G45: 105 | H45: 160 | I45: 245 | J45: 240 | L45: 125
A46: P38 | B46: Combustion fan on cleaning | C46: 170 | D46: 130 | E46: 300 | F46: 100 | G46: 175 | H46: 220 | I46: 300 | J46: 300 | L46: 300
A47: P39 | B47: Combustion fan on power 1 | C47: 75 | D47: 65 | E47: 75 | F47: 76 | G47: 87 | H47: 61 | I47: 180 | J47: 180 | L47: 75
A48: P40 | B48: Combustion fan on power 2 | C48: 78 | D48: 75 | E48: 80 | F48: 83 | G48: 92 | H48: 65 | I48: 190 | J48: 190 | L48: 80
A49: P41 | B49: Combustion fan on power 3 | C49: 82 | D49: 80 | E49: 85 | F49: 93 | G49: 96 | H49: 70 | I49: 200 | J49: 200 | L49: 85
A50: P42 | B50: Combustion fan on power 4 | C50: 85 | D50: 85 | E50: 90 | F50: 105 | G50: 100 | H50: 76 | I50: 210 | J50: 210 | L50: 90
A51: P43 | B51: Combustion fan on power 5 | C51: 89 | D51: 90 | E51: 100 | F51: 115 | G51: 105 | H51: 80 | I51: 230 | J51: 235 | L51: 95
A52: P44 | B52: Combustion fan adjust -4 | C52: 0 | D52: 0 | E52: 0 | F52: 0 | G52: 0 | H52: 0 | I52: 0 | J52: 0
A53: P45 | B53: Combustion fan adjust -3 | C53: 0 | D53: 0 | E53: 0 | F53: 0 | G53: 0 | H53: 0 | I53: 0 | J53: 0
A54: P46 | B54: Combustion fan adjust -2 | C54: 0 | D54: 0 | E54: 0 | F54: 0 | G54: 0 | H54: 0 | I54: 0 | J54: 0
A55: P47 | B55: Combustion fan adjust -1 | C55: 0 | D55: 0 | E55: 0 | F55: 0 | G55: 0 | H55: 0 | I55: 0 | J55: 0
A56: P48 | B56: Combustion fan adjust +1 | C56: 0 | D56: 0 | E56: 0 | F56: 0 | G56: 0 | H56: 0 | I56: 0 | J56: 0
A57: P49 | B57: Combustion fan adjust +2 | C57: 0 | D57: 0 | E57: 0 | F57: 0 | G57: 0 | H57: 0 | I57: 0 | J57: 0
A58: P50 | B58: Combustion fan adjust +3 | C58: 0 | D58: 0 | E58: 0 | F58: 0 | G58: 0 | H58: 0 | I58: 0 | J58: 0
A59: P51 | B59: Combustion fan adjust +4 | C59: 0 | D59: 0 | E59: 0 | F59: 0 | G59: 0 | H59: 0 | I59: 0 | J59: 0
A60: P52 | B60: Auger Adjustment -4 | C60: -50 | D60: -50 | E60: 0 | F60: 0 | G60: -50 | H60: 0 | I60: 0 | J60: 0
A61: P53 | B61: Auger Adjustment -3 | C61: -40 | D61: -30 | E61: 0 | F61: 0 | G61: -30 | H61: 0 | I61: 0 | J61: 0
A62: P54 | B62: Auger Adjustment -2 | C62: -30 | D62: -20 | E62: 0 | F62: 0 | G62: -20 | H62: 0 | I62: 0 | J62: 0
A63: P55 | B63: Auger Adjustment -1 | C63: -20 | D63: -10 | E63: 0 | F63: 0 | G63: -10 | H63: 0 | I63: 0 | J63: 0
... A72: P64 | B72: Smoke Temperature Adjust Pot 5 | C72: 0 | D72: 0 | E72: 0 | F72: 0 | G72: 0 | H72: 0 | I72: 0 | J72: 0
B73: Tehnički parametri (šifra 1234)
A74: P1 | B74: Restart from Blackout | C74: 0 | D74: 0 | E74: 1 | F74: 0 | G74: 0 | H74: 1 | I74: 1 | J74: 1
A75: P2 | B75: Delta Temperature for wait restart | C75: 10 | D75: 5 | E75: 5 | F75: 2 | G75: 5 | H75: 2 | I75: 2 | J75: 2
A76: P3 | B76: Ignition attempts | C76: 1 | D76: 1 | E76: 1 | F76: 1 | G76: 1 | H76: 1 | I76: 1 | J76: 1
A77: P4 | B77: Lamp time min | C77: 3 | D77: 0 | E77: 0 | F77: 3 | G77: 0 | H77: 3 | I77: 10 | J77: 3
A78: P5 | B78: Delta temperature for wait off | C78: 5 | D78: 5 | E78: 5 | F78: 5 | G78: 5 | H78: 5 | I78: 5 | J78: 5
A79: P6 | B79: Time turning off pump min | C79: 15 | D79: 10 | E79: 1 | F79: 15 | G79: 10 | H79: 15 | I79: 15 | J79: 15
A80: P7 | B80: External termostat mode | C80: 0 | D80: 2 | E80: 2 | F80: 2 | G80: 0 | H80: 2 | I80: 2 | J80: 1
A81: P8 | B81: Delta degrees to adjust power | C81: 5 | D81: 5 | E81: 5 | F81: 5 | G81: 2 | H81: 5 | I81: 5 | J81: 5
A82: P9 | B82: Low Air Pressure Control | C82: 0 | D82: 1 | E82: 0 | F82: 0 | G82: 0 | H82: 0 | I82: 0 | J82: 0
A83: P10 | B83: High Pressure Wather | C83: 0 | D83: 1 | E83: 0 | F83: 0 | G83: 0 | H83: 0 | I83: 1 | J83: 1
A84: P11 | B84: Switch on smoke adjustment | C84: 0 | D84: 0 | E84: 0 | F84: 0 | G84: 0 | H84: 0 | I84: 0 | J84: 0
A85: P12 | B85: Switch on user adjustment | C85: 0 | D85: 1 | E85: 1 | F85: 0 | G85: 1 | H85: 0 | I85: 0 | J85: 0
... A88: P15 | B88: Switch on Auger brake | C88: 1 | D88: 1 | E88: 1 | F88: 1 | G88: 1 | H88: 1 | I88: 1 | J88: 1

Sheet Proračun snage
B1: Parametri za orijentacioni proračun snage se povlače automatski iz tabele sa prvog lista. Ne možete ovde popunjavati ručno. Upišite parametre u tabeli sa prvog lista i proračun će se ovde pojaviti automatski. | L1: Ovde možete upisati kratak opis sistema, objekta koji grejete i slično
A2: ='Parametri Toby'!C1 -> koyote | B2: Snaga | C2: ON (sec) | D2: OFF (sec) | E2: Ciklus (sec) | F2: Broj ciklusa u min | G2: Puz ON (min/hrs) | H2: Kapacitet puza (gram/min) | I2: Potrosnja (kg/sat) | J2: Pelet (kWh/kg) | K2: Power (kW) | L2: Prizemna kuca - 80m2, cigla, stiropor spolja 5cm, PVC stolarija (argonska takla), staklena vuna iznad spustenog plafona, pumpa u kotlovskom i radijatorskom krugu, cetvorokraki mesni sa automatikom. Temperatura prostorija 22-23C.
B3: 5 | C3: ='Parametri Toby'!C42 -> 4.5 | D3: ='Parametri Toby'!C43 -> 3.5 | E3: =SUM(C3:D3) -> 8 | F3: =60/E3 -> 7.5 | G3: =F3*C3 -> 33.75 | H3: ='Parametri Toby'!C5 -> 75 | I3: =H3*G3/1000 -> 2.53125 | J3: 4.7 | K3: =J3*I3 -> 11.896875
B4: 4 | C4: ='Parametri Toby'!C40 -> 4 | D4: ='Parametri Toby'!C41 -> 4 | E4: =SUM(C4:D4) -> 8 | F4: =60/E4 -> 7.5 | G4: =F4*C4 -> 30 | H4: ='Parametri Toby'!C5 -> 75 | I4: =F4*C4*H4/1000 -> 2.25 | J4: 4.7 | K4: =J4*I4 -> 10.575
B5: 3 | C5: ='Parametri Toby'!C38 -> 3.5 | D5: ='Parametri Toby'!C39 -> 4.5 | E5: =SUM(C5:D5) -> 8 | F5: =60/E5 -> 7.5 | G5: =F5*C5 -> 26.25 | H5: ='Parametri Toby'!C5 -> 75 | I5: =F5*C5*H5/1000 -> 1.96875 | J5: 4.7 | K5: =J5*I5 -> 9.253125
B6: 2 | C6: ='Parametri Toby'!C36 -> 2.9 | D6: ='Parametri Toby'!C37 -> 5.1 | E6: =SUM(C6:D6) -> 8 | F6: =60/E6 -> 7.5 | G6: =F6*C6 -> 21.75 | H6: ='Parametri Toby'!C5 -> 75 | I6: =F6*C6*H6/1000 -> 1.63125 | J6: 4.7 | K6: =J6*I6 -> 7.666875
B7: 1 | C7: ='Parametri Toby'!C34 -> 2.2 | D7: ='Parametri Toby'!C35 -> 5.8 | E7: =SUM(C7:D7) -> 8 | F7: =60/E7 -> 7.5 | G7: =F7*C7 -> 16.5 | H7: ='Parametri Toby'!C5 -> 75 | I7: =F7*C7*H7/1000 -> 1.2375 | J7: 4.7 | K7: =J7*I7 -> 5.81625
A8: ='Parametri Toby'!F1 -> richiemsch | B8: Snaga | C8: ON (sec) | D8: OFF (sec) | E8: Ciklus (sec) | F8: Broj ciklusa u min | G8: Puz ON (min/hrs) | H8: Kapacitet puza (gram/min) | I8: Potrosnja (kg/sat) | J8: Pelet (kWh/kg) | K8: Power (kW) | L8: Prosecna potrosnja 1,6kg
B9: 5 | C9: ='Parametri Toby'!F42 -> 3 | D9: ='Parametri Toby'!F43 -> 3.5 | E9: =SUM(C9:D9) -> 6.5 | F9: =60/E9 -> 9.2307692 | G9: =F9*C9 -> 27.692308 | H9: ='Parametri Toby'!F5 -> 117 | I9: =H9*G9/1000 -> 3.24 | J9: 4.7 | K9: =J9*I9 -> 15.228
B10: 4 | C10: ='Parametri Toby'!F40 -> 2.1 | D10: ='Parametri Toby'!F41 -> 3.5 | E10: =SUM(C10:D10) -> 5.6 | F10: =60/E10 -> 10.714286 | G10: =F10*C10 -> 22.5 | H10: ='Parametri Toby'!F5 -> 117 | I10: =F10*C10*H10/1000 -> 2.6325 | J10: 4.7 | K10: =J10*I10 -> 12.37275
B11: 3 | C11: ='Parametri Toby'!F38 -> 1.7 | D11: ='Parametri Toby'!F39 -> 3.5 | E11: =SUM(C11:D11) -> 5.2 | F11: =60/E11 -> 11.538462 | G11: =F11*C11 -> 19.615385 | H11: ='Parametri Toby'!F5 -> 117 | I11: =F11*C11*H11/1000 -> 2.295 | J11: 4.7 | K11: =J11*I11 -> 10.7865
B12: 2 | C12: ='Parametri Toby'!F36 -> 1.2 | D12: ='Parametri Toby'!F37 -> 3.5 | E12: =SUM(C12:D12) -> 4.7 | F12: =60/E12 -> 12.765957 | G12: =F12*C12 -> 15.319149 | H12: ='Parametri Toby'!F5 -> 117 | I12: =F12*C12*H12/1000 -> 1.7923404 | J12: 4.7 | K12: =J12*I12 -> 8.424
B13: 1 | C13: ='Parametri Toby'!F34 -> 0.8 | D13: ='Parametri Toby'!F35 -> 3.5 | E13: =SUM(C13:D13) -> 4.3 | F13: =60/E13 -> 13.953488 | G13: =F13*C13 -> 11.162791 | H13: ='Parametri Toby'!F5 -> 117 | I13: =F13*C13*H13/1000 -> 1.3060465 | J13: 4.7 | K13: =J13*I13 -> 6.1384186
A14: ='Parametri Toby'!G1 -> MyX-Mesha | B14: Snaga | C14: ON (sec) | D14: OFF (sec) | E14: Ciklus (sec) | F14: Broj ciklusa u min | G14: Puz ON (min/hrs) | H14: Kapacitet puza (gram/min) | I14: Potrosnja (kg/sat) | J14: Pelet (kWh/kg) | K14: Power (kW) | L14: Napomena: Dvoetazna kuca, ukupne grejne povrsine 170m2. Izolacija 5cm stiropor sa vanjske strane, alu stolarija petokomorna, izo-stakla 4+12+4mm. Sobna temperatura kontrolisana sobnim termostatom na 24*C, i kao takva je 24/7.
B15: 5 | C15: ='Parametri Toby'!G42 -> 3 | D15: ='Parametri Toby'!G43 -> 3.5 | E15: =SUM(C15:D15) -> 6.5 | F15: =60/E15 -> 9.2307692 | G15: =F15*C15 -> 27.692308 | H15: ='Parametri Toby'!G5 -> 130 | I15: =H15*G15/1000 -> 3.6 | J15: 4.7 | K15: =J15*I15 -> 16.92
B16: 4 | C16: ='Parametri Toby'!G40 -> 2.2 | D16: ='Parametri Toby'!G41 -> 3.5 | E16: =SUM(C16:D16) -> 5.7 | F16: =60/E16 -> 10.526316 | G16: =F16*C16 -> 23.157895 | H16: ='Parametri Toby'!G5 -> 130 | I16: =F16*C16*H16/1000 -> 3.0105263 | J16: 4.7 | K16: =J16*I16 -> 14.149474
B17: 3 | C17: ='Parametri Toby'!G38 -> 1.7 | D17: ='Parametri Toby'!G39 -> 3.5 | E17: =SUM(C17:D17) -> 5.2 | F17: =60/E17 -> 11.538462 | G17: =F17*C17 -> 19.615385 | H17: ='Parametri Toby'!G5 -> 130 | I17: =F17*C17*H17/1000 -> 2.55 | J17: 4.7 | K17: =J17*I17 -> 11.985
B18: 2 | C18: ='Parametri Toby'!G36 -> 1.3 | D18: ='Parametri Toby'!G37 -> 3.5 | E18: =SUM(C18:D18) -> 4.8 | F18: =60/E18 -> 12.5 | G18: =F18*C18 -> 16.25 | H18: ='Parametri Toby'!G5 -> 130 | I18: =F18*C18*H18/1000 -> 2.1125 | J18: 4.7 | K18: =J18*I18 -> 9.92875
B19: 1 | C19: ='Parametri Toby'!G34 -> 1 | D19: ='Parametri Toby'!G35 -> 3.5 | E19: =SUM(C19:D19) -> 4.5 | F19: =60/E19 -> 13.333333 | G19: =F19*C19 -> 13.333333 | H19: ='Parametri Toby'!G5 -> 130 | I19: =F19*C19*H19/1000 -> 1.7333333 | J19: 4.7 | K19: =J19*I19 -> 8.1466667
A20: ='Parametri Toby'!D1 -> boree | B20: Snaga | C20: ON (sec) | D20: OFF (sec) | E20: Ciklus (sec) | F20: Broj ciklusa u min | G20: Puz ON (min/hrs) | H20: Kapacitet puza (gram/min) | I20: Potrosnja (kg/sat) | J20: Pelet (kWh/kg) | K20: Power (kW) | L20: Prizemna kuća nove gradnje,grejna površina neto : 144m2, izolacija: stiropor 5cm spolja, u podu 5cm, i na tavanskoj ploči 5cm stiropora i 10cm mineralna vuna, PVC stolarija, T u kući oko 23°-24° danju , noću oko 21°, dve pumpe , termo glave.
B21: 5 | C21: ='Parametri Toby'!D42 -> 2.6 | D21: ='Parametri Toby'!D43 -> 4.4 | E21: =SUM(C21:D21) -> 7 | F21: =60/E21 -> 8.5714286 | G21: =F21*C21 -> 22.285714 | H21: ='Parametri Toby'!D5 -> 145 | I21: =H21*G21/1000 -> 3.2314286 | J21: 4.7 | K21: =J21*I21 -> 15.187714
B22: 4 | C22: ='Parametri Toby'!D40 -> 2.3 | D22: ='Parametri Toby'!D41 -> 4.7 | E22: =SUM(C22:D22) -> 7 | F22: =60/E22 -> 8.5714286 | G22: =F22*C22 -> 19.714286 | H22: ='Parametri Toby'!D5 -> 145 | I22: =F22*C22*H22/1000 -> 2.8585714 | J22: 4.7 | K22: =J22*I22 -> 13.435286
B23: 3 | C23: ='Parametri Toby'!D38 -> 2 | D23: ='Parametri Toby'!D39 -> 5 | E23: =SUM(C23:D23) -> 7 | F23: =60/E23 -> 8.5714286 | G23: =F23*C23 -> 17.142857 | H23: ='Parametri Toby'!D5 -> 145 | I23: =F23*C23*H23/1000 -> 2.4857143 | J23: 4.7 | K23: =J23*I23 -> 11.682857
B24: 2 | C24: ='Parametri Toby'!D36 -> 1.7 | D24: ='Parametri Toby'!D37 -> 5.3 | E24: =SUM(C24:D24) -> 7 | F24: =60/E24 -> 8.5714286 | G24: =F24*C24 -> 14.571429 | H24: ='Parametri Toby'!D5 -> 145 | I24: =F24*C24*H24/1000 -> 2.1128571 | J24: 4.7 | K24: =J24*I24 -> 9.9304286
B25: 1 | C25: ='Parametri Toby'!D34 -> 1.4 | D25: ='Parametri Toby'!D35 -> 5.6 | E25: =SUM(C25:D25) -> 7 | F25: =60/E25 -> 8.5714286 | G25: =F25*C25 -> 12 | H25: ='Parametri Toby'!D5 -> 145 | I25: =F25*C25*H25/1000 -> 1.74 | J25: 4.7 | K25: =J25*I25 -> 8.178
A26: ='Parametri Toby'!H1 -> mvp84 | B26: Snaga | C26: ON (sec) | D26: OFF (sec) | E26: Ciklus (sec) | F26: Broj ciklusa u min | G26: Puz ON (min/hrs) | H26: Kapacitet puza (gram/min) | I26: Potrosnja (kg/sat) | J26: Pelet (kWh/kg) | K26: Power (kW)
B27: 5 | C27: ='Parametri Toby'!H42 -> 3 | D27: ='Parametri Toby'!H43 -> 7 | E27: =SUM(C27:D27) -> 10 | F27: =60/E27 -> 6 | G27: =F27*C27 -> 18 | H27: ='Parametri Toby'!H5 -> 280 | I27: =H27*G27/1000 -> 5.04 | J27: 4.7 | K27: =J27*I27 -> 23.688
B28: 4 | C28: ='Parametri Toby'!H40 -> 2.5 | D28: ='Parametri Toby'!H41 -> 7.5 | E28: =SUM(C28:D28) -> 10 | F28: =60/E28 -> 6 | G28: =F28*C28 -> 15 | H28: ='Parametri Toby'!H5 -> 280 | I28: =F28*C28*H28/1000 -> 4.2 | J28: 4.7 | K28: =J28*I28 -> 19.74
B29: 3 | C29: ='Parametri Toby'!H38 -> 2 | D29: ='Parametri Toby'!H39 -> 8 | E29: =SUM(C29:D29) -> 10 | F29: =60/E29 -> 6 | G29: =F29*C29 -> 12 | H29: ='Parametri Toby'!H5 -> 280 | I29: =F29*C29*H29/1000 -> 3.36 | J29: 4.7 | K29: =J29*I29 -> 15.792
B30: 2 | C30: ='Parametri Toby'!H36 -> 1.5 | D30: ='Parametri Toby'!H37 -> 8.5 | E30: =SUM(C30:D30) -> 10 | F30: =60/E30 -> 6 | G30: =F30*C30 -> 9 | H30: ='Parametri Toby'!H5 -> 280 | I30: =F30*C30*H30/1000 -> 2.52 | J30: 4.7 | K30: =J30*I30 -> 11.844
B31: 1 | C31: ='Parametri Toby'!H34 -> 1.2 | D31: ='Parametri Toby'!H35 -> 8 | E31: =SUM(C31:D31) -> 9.2 | F31: =60/E31 -> 6.5217391 | G31: =F31*C31 -> 7.826087 | H31: ='Parametri Toby'!H5 -> 280 | I31: =F31*C31*H31/1000 -> 2.1913043 | J31: 4.7 | K31: =J31*I31 -> 10.29913
A32: ='Parametri Toby'!I1 -> srdjan68 | B32: Snaga | C32: ON (sec) | D32: OFF (sec) | E32: Ciklus (sec) | F32: Broj ciklusa u min | G32: Puz ON (min/hrs) | H32: Kapacitet puza (gram/min) | I32: Potrosnja (kg/sat) | J32: Pelet (kWh/kg) | K32: Power (kW)
B33: 5 | C33: ='Parametri Toby'!I42 -> 2.5 | D33: ='Parametri Toby'!I43 -> 6.7 | E33: =SUM(C33:D33) -> 9.2 | F33: =60/E33 -> 6.5217391 | G33: =F33*C33 -> 16.304348 | H33: ='Parametri Toby'!I5 -> 250 | I33: =H33*G33/1000 -> 4.076087 | J33: 4.7 | K33: =J33*I33 -> 19.157609
B34: 4 | C34: ='Parametri Toby'!I40 -> 2.2 | D34: ='Parametri Toby'!I41 -> 7 | E34: =SUM(C34:D34) -> 9.2 | F34: =60/E34 -> 6.5217391 | G34: =F34*C34 -> 14.347826 | H34: ='Parametri Toby'!I5 -> 250 | I34: =H34*G34/1000 -> 3.5869565 | J34: 4.7 | K34: =J34*I34 -> 16.858696
B35: 3 | C35: ='Parametri Toby'!I38 -> 1.8 | D35: ='Parametri Toby'!I39 -> 7.4 | E35: =SUM(C35:D35) -> 9.2 | F35: =60/E35 -> 6.5217391 | G35: =F35*C35 -> 11.73913 | H35: ='Parametri Toby'!I5 -> 250 | I35: =H35*G35/1000 -> 2.9347826 | J35: 4.7 | K35: =J35*I35 -> 13.793478
B36: 2 | C36: ='Parametri Toby'!I36 -> 1.5 | D36: ='Parametri Toby'!I37 -> 7.7 | E36: =SUM(C36:D36) -> 9.2 | F36: =60/E36 -> 6.5217391 | G36: =F36*C36 -> 9.7826087 | H36: ='Parametri Toby'!I5 -> 250 | I36: =H36*G36/1000 -> 2.4456522 | J36: 4.7 | K36: =J36*I36 -> 11.494565
B37: 1 | C37: ='Parametri Toby'!I34 -> 1.3 | D37: ='Parametri Toby'!I35 -> 8 | E37: =SUM(C37:D37) -> 9.3 | F37: =60/E37 -> 6.4516129 | G37: =F37*C37 -> 8.3870968 | H37: ='Parametri Toby'!I5 -> 250 | I37: =H37*G37/1000 -> 2.0967742 | J37: 4.7 | K37: =J37*I37 -> 9.8548387
A38: ='Parametri Toby'!J1 -> 1.salee | B38: Snaga | C38: ON (sec) | D38: OFF (sec) | E38: Ciklus (sec) | F38: Broj ciklusa u min | G38: Puz ON (min/hrs) | H38: Kapacitet puza (gram/min) | I38: Potrosnja (kg/sat) | J38: Pelet (kWh/kg) | K38: Power (kW) | L38: Grejna povrsina 220.Podno grejanje 110,radijatorsko 110.4 grejne zone sa 4 pumpe i 3 mesna ventila.Izolacija 5 stiropora u zidu 20 tervola u krovu.Vecina otvora troslojno staklo.Plan : jos 5 cm stiropora u zidove,akumulator toplote,automatika po spolnoj temp.
B39: 5 | C39: ='Parametri Toby'!J42 -> 1.6 | D39: ='Parametri Toby'!J43 -> 3 | E39: =SUM(C39:D39) -> 4.6 | F39: =60/E39 -> 13.043478 | G39: =F39*C39 -> 20.869565 | H39: ='Parametri Toby'!J5 -> 370 | I39: =H39*G39/1000 -> 7.7217391 | J39: 4.7 | K39: =J39*I39 -> 36.292174
B40: 4 | C40: ='Parametri Toby'!J40 -> 1 | D40: ='Parametri Toby'!J41 -> 3.5 | E40: =SUM(C40:D40) -> 4.5 | F40: =60/E40 -> 13.333333 | G40: =F40*C40 -> 13.333333 | H40: ='Parametri Toby'!J5 -> 370 | I40: =F40*C40*H40/1000 -> 4.9333333 | J40: 4.7 | K40: =J40*I40 -> 23.186667
B41: 3 | C41: ='Parametri Toby'!J38 -> 1 | D41: ='Parametri Toby'!J39 -> 4 | E41: =SUM(C41:D41) -> 5 | F41: =60/E41 -> 12 | G41: =F41*C41 -> 12 | H41: ='Parametri Toby'!J5 -> 370 | I41: =F41*C41*H41/1000 -> 4.44 | J41: 4.7 | K41: =J41*I41 -> 20.868
B42: 2 | C42: ='Parametri Toby'!J36 -> 1 | D42: ='Parametri Toby'!J37 -> 5 | E42: =SUM(C42:D42) -> 6 | F42: =60/E42 -> 10 | G42: =F42*C42 -> 10 | H42: ='Parametri Toby'!J5 -> 370 | I42: =F42*C42*H42/1000 -> 3.7 | J42: 4.7 | K42: =J42*I42 -> 17.39
B43: 1 | C43: ='Parametri Toby'!J34 -> 1 | D43: ='Parametri Toby'!J35 -> 7 | E43: =SUM(C43:D43) -> 8 | F43: =60/E43 -> 7.5 | G43: =F43*C43 -> 7.5 | H43: ='Parametri Toby'!J5 -> 370 | I43: =F43*C43*H43/1000 -> 2.775 | J43: 4.7 | K43: =J43*I43 -> 13.0425
A44: ='Parametri Toby'!L1 -> Sve naopako | B44: Snaga | C44: ON (sec) | D44: OFF (sec) | E44: Ciklus (sec) | F44: Broj ciklusa u min | G44: Puz ON (min/hrs) | H44: Kapacitet puza (gram/min) | I44: Potrosnja (kg/sat) | J44: Pelet (kWh/kg) | K44: Power (kW) | L44: Napomena:
B45: 5 | C45: ='Parametri Toby'!L42 -> 2.4 | D45: ='Parametri Toby'!L43 -> 1.9 | E45: =SUM(C45:D45) -> 4.3 | F45: =60/E45 -> 13.953488 | G45: =F45*C45 -> 33.488372 | H45: ='Parametri Toby'!L5 -> 72 | I45: =H45*G45/1000 -> 2.4111628 | J45: 4.7 | K45: =J45*I45 -> 11.332465
B46: 4 | C46: ='Parametri Toby'!L40 -> 2 | D46: ='Parametri Toby'!L41 -> 2.3 | E46: =SUM(C46:D46) -> 4.3 | F46: =60/E46 -> 13.953488 | G46: =F46*C46 -> 27.906977 | H46: ='Parametri Toby'!L5 -> 72 | I46: =H46*G46/1000 -> 2.0093023 | J46: 4.7 | K46: =J46*I46 -> 9.4437209
B47: 3 | C47: ='Parametri Toby'!L38 -> 1.7 | D47: ='Parametri Toby'!L39 -> 2.6 | E47: =SUM(C47:D47) -> 4.3 | F47: =60/E47 -> 13.953488 | G47: =F47*C47 -> 23.72093 | H47: ='Parametri Toby'!L5 -> 72 | I47: =H47*G47/1000 -> 1.707907 | J47: 4.7 | K47: =J47*I47 -> 8.0271628
B48: 2 | C48: ='Parametri Toby'!L36 -> 1.4 | D48: ='Parametri Toby'!L37 -> 2.9 | E48: =SUM(C48:D48) -> 4.3 | F48: =60/E48 -> 13.953488 | G48: =F48*C48 -> 19.534884 | H48: ='Parametri Toby'!L5 -> 72 | I48: =H48*G48/1000 -> 1.4065116 | J48: 4.7 | K48: =J48*I48 -> 6.6106047
B49: 1 | C49: ='Parametri Toby'!L34 -> 1.2 | D49: ='Parametri Toby'!L35 -> 3.3 | E49: =SUM(C49:D49) -> 4.5 | F49: =60/E49 -> 13.333333 | G49: =F49*C49 -> 16 | H49: ='Parametri Toby'!L5 -> 72 | I49: =H49*G49/1000 -> 1.152 | J49: 4.7 | K49: =J49*I49 -> 5.4144
A50: ='Parametri Toby'!M1 -> Jetsetwilly | B50: Snaga | C50: ON (sec) | D50: OFF (sec) | E50: Ciklus (sec) | F50: Broj ciklusa u min | G50: Puz ON (min/hrs) | H50: Kapacitet puza (gram/min) | I50: Potrosnja (kg/sat) | J50: Pelet (kWh/kg) | K50: Power (kW) | L50: Napomena:
B51: 5 | C51: ='Parametri Toby'!M42 -> 2.6 | D51: ='Parametri Toby'!M43 -> 1.8 | E51: =SUM(C51:D51) -> 4.4 | F51: =60/E51 -> 13.636364 | G51: =F51*C51 -> 35.454545 | H51: ='Parametri Toby'!M5 -> 78 | I51: =H51*G51/1000 -> 2.7654545 | J51: 4.7 | K51: =J51*I51 -> 12.997636
B52: 4 | C52: ='Parametri Toby'!M40 -> 2.2 | D52: ='Parametri Toby'!M41 -> 2.3 | E52: =SUM(C52:D52) -> 4.5 | F52: =60/E52 -> 13.333333 | G52: =F52*C52 -> 29.333333 | H52: ='Parametri Toby'!M5 -> 78 | I52: =F52*C52*H52/1000 -> 2.288 | J52: 4.7 | K52: =J52*I52 -> 10.7536
B53: 3 | C53: ='Parametri Toby'!M38 -> 1.8 | D53: ='Parametri Toby'!M39 -> 2.6 | E53: =SUM(C53:D53) -> 4.4 | F53: =60/E53 -> 13.636364 | G53: =F53*C53 -> 24.545455 | H53: ='Parametri Toby'!M5 -> 78 | I53: =F53*C53*H53/1000 -> 1.9145455 | J53: 4.7 | K53: =J53*I53 -> 8.9983636
B54: 2 | C54: ='Parametri Toby'!M36 -> 1.6 | D54: ='Parametri Toby'!M37 -> 2.9 | E54: =SUM(C54:D54) -> 4.5 | F54: =60/E54 -> 13.333333 | G54: =F54*C54 -> 21.333333 | H54: ='Parametri Toby'!M5 -> 78 | I54: =F54*C54*H54/1000 -> 1.664 | J54: 4.7 | K54: =J54*I54 -> 7.8208
B55: 1 | C55: ='Parametri Toby'!M34 -> 1.4 | D55: ='Parametri Toby'!M35 -> 3.4 | E55: =SUM(C55:D55) -> 4.8 | F55: =60/E55 -> 12.5 | G55: =F55*C55 -> 17.5 | H55: ='Parametri Toby'!M5 -> 78 | I55: =F55*C55*H55/1000 -> 1.365 | J55: 4.7 | K55: =J55*I55 -> 6.4155
A56: ='Parametri Toby'!N1 -> Simke.BGD | B56: Snaga | C56: ON (sec) | D56: OFF (sec) | E56: Ciklus (sec) | F56: Broj ciklusa u min | G56: Puz ON (min/hrs) | H56: Kapacitet puza (gram/min) | I56: Potrosnja (kg/sat) | J56: Pelet (kWh/kg) | K56: Power (kW) | L56: Napomena:
B57: 5 | C57: ='Parametri Toby'!N42 -> 5 | D57: ='Parametri Toby'!N43 -> 3.5 | E57: =SUM(C57:D57) -> 8.5 | F57: =60/E57 -> 7.0588235 | G57: =F57*C57 -> 35.294118 | H57: ='Parametri Toby'!N5 -> 270 | I57: =H57*G57/1000 -> 9.5294118 | J57: 4.7 | K57: =J57*I57 -> 44.788235
B58: 4 | C58: ='Parametri Toby'!N40 -> 3.5 | D58: ='Parametri Toby'!N41 -> 3.5 | E58: =SUM(C58:D58) -> 7 | F58: =60/E58 -> 8.5714286 | G58: =F58*C58 -> 30 | H58: ='Parametri Toby'!N5 -> 270 | I58: =F58*C58*H58/1000 -> 8.1 | J58: 4.7 | K58: =J58*I58 -> 38.07
B59: 3 | C59: ='Parametri Toby'!N38 -> 2.5 | D59: ='Parametri Toby'!N39 -> 3.5 | E59: =SUM(C59:D59) -> 6 | F59: =60/E59 -> 10 | G59: =F59*C59 -> 25 | H59: ='Parametri Toby'!N5 -> 270 | I59: =F59*C59*H59/1000 -> 6.75 | J59: 4.7 | K59: =J59*I59 -> 31.725
B60: 2 | C60: ='Parametri Toby'!N36 -> 1 | D60: ='Parametri Toby'!N37 -> 3.5 | E60: =SUM(C60:D60) -> 4.5 | F60: =60/E60 -> 13.333333 | G60: =F60*C60 -> 13.333333 | H60: ='Parametri Toby'!N5 -> 270 | I60: =F60*C60*H60/1000 -> 3.6 | J60: 4.7 | K60: =J60*I60 -> 16.92
B61: 1 | C61: ='Parametri Toby'!N34 -> 0.7 | D61: ='Parametri Toby'!N35 -> 3.5 | E61: =SUM(C61:D61) -> 4.2 | F61: =60/E61 -> 14.285714 | G61: =F61*C61 -> 10 | H61: ='Parametri Toby'!N5 -> 270 | I61: =F61*C61*H61/1000 -> 2.7 | J61: 4.7 | K61: =J61*I61 -> 12.69
A62: ='Parametri Toby'!O1 -> ironmaiden | B62: Snaga | C62: ON (sec) | D62: OFF (sec) | E62: Ciklus (sec) | F62: Broj ciklusa u min | G62: Puz ON (min/hrs) | H62: Kapacitet puza (gram/min) | I62: Potrosnja (kg/sat) | J62: Pelet (kWh/kg) | K62: Power (kW)
B63: 5 | C63: ='Parametri Toby'!O42 -> 2.5 | D63: ='Parametri Toby'!O43 -> 6.7 | E63: =SUM(C63:D63) -> 9.2 | F63: =60/E63 -> 6.5217391 | G63: =F63*C63 -> 16.304348 | H63: ='Parametri Toby'!O5 -> 230 | I63: =H63*G63/1000 -> 3.75 | J63: 4.7 | K63: =J63*I63 -> 17.625
B64: 4 | C64: ='Parametri Toby'!O40 -> 2.2 | D64: ='Parametri Toby'!O41 -> 7 | E64: =SUM(C64:D64) -> 9.2 | F64: =60/E64 -> 6.5217391 | G64: =F64*C64 -> 14.347826 | H64: ='Parametri Toby'!O5 -> 230 | I64: =F64*C64*H64/1000 -> 3.3 | J64: 4.7 | K64: =J64*I64 -> 15.51
B65: 3 | C65: ='Parametri Toby'!O38 -> 1.8 | D65: ='Parametri Toby'!O39 -> 7.4 | E65: =SUM(C65:D65) -> 9.2 | F65: =60/E65 -> 6.5217391 | G65: =F65*C65 -> 11.73913 | H65: ='Parametri Toby'!O5 -> 230 | I65: =F65*C65*H65/1000 -> 2.7 | J65: 4.7 | K65: =J65*I65 -> 12.69
B66: 2 | C66: ='Parametri Toby'!O36 -> 1.5 | D66: ='Parametri Toby'!O37 -> 7.7 | E66: =SUM(C66:D66) -> 9.2 | F66: =60/E66 -> 6.5217391 | G66: =F66*C66 -> 9.7826087 | H66: ='Parametri Toby'!O5 -> 230 | I66: =F66*C66*H66/1000 -> 2.25 | J66: 4.7 | K66: =J66*I66 -> 10.575
B67: 1 | C67: ='Parametri Toby'!O34 -> 1.2 | D67: ='Parametri Toby'!O35 -> 8 | E67: =SUM(C67:D67) -> 9.2 | F67: =60/E67 -> 6.5217391 | G67: =F67*C67 -> 7.826087 | H67: ='Parametri Toby'!O5 -> 230 | I67: =F67*C67*H67/1000 -> 1.8 | J67: 4.7 | K67: =J67*I67 -> 8.46
A68: ='Parametri Toby'!P1 -> stepa 1986 | B68: Snaga | C68: ON (sec) | D68: OFF (sec) | E68: Ciklus (sec) | F68: Broj ciklusa u min | G68: Puz ON (min/hrs) | H68: Kapacitet puza (gram/min) | I68: Potrosnja (kg/sat) | J68: Pelet (kWh/kg) | K68: Power (kW) | L68: Prizemna kuca. Grejna povrsina 145m2.tucani radijatori.Izolacija stiropor 5 cm,prozori dobro dihtuju.Temperatura od 06-23h 23c svaki dan,nocu na19c
B69: 5 | C69: ='Parametri Toby'!P42 -> 4 | D69: ='Parametri Toby'!P43 -> 3.5 | E69: =SUM(C69:D69) -> 7.5 | F69: =60/E69 -> 8 | G69: =F69*C69 -> 32 | H69: ='Parametri Toby'!P5 -> 123 | I69: =H69*G69/1000 -> 3.936 | J69: 4.7 | K69: =J69*I69 -> 18.4992
B70: 4 | C70: ='Parametri Toby'!P40 -> 3.5 | D70: ='Parametri Toby'!P41 -> 3.5 | E70: =SUM(C70:D70) -> 7 | F70: =60/E70 -> 8.5714286 | G70: =F70*C70 -> 30 | H70: ='Parametri Toby'!P5 -> 123 | I70: =F70*C70*H70/1000 -> 3.69 | J70: 4.7 | K70: =J70*I70 -> 17.343
B71: 3 | C71: ='Parametri Toby'!P38 -> 2.6 | D71: ='Parametri Toby'!P39 -> 3.5 | E71: =SUM(C71:D71) -> 6.1 | F71: =60/E71 -> 9.8360656 | G71: =F71*C71 -> 25.57377 | H71: ='Parametri Toby'!P5 -> 123 | I71: =F71*C71*H71/1000 -> 3.1455738 | J71: 4.7 | K71: =J71*I71 -> 14.784197
B72: 2 | C72: ='Parametri Toby'!P36 -> 2 | D72: ='Parametri Toby'!P37 -> 3.5 | E72: =SUM(C72:D72) -> 5.5 | F72: =60/E72 -> 10.909091 | G72: =F72*C72 -> 21.818182 | H72: ='Parametri Toby'!P5 -> 123 | I72: =F72*C72*H72/1000 -> 2.6836364 | J72: 4.7 | K72: =J72*I72 -> 12.613091
B73: 1 | C73: ='Parametri Toby'!P34 -> 1.5 | D73: ='Parametri Toby'!P35 -> 4 | E73: =SUM(C73:D73) -> 5.5 | F73: =60/E73 -> 10.909091 | G73: =F73*C73 -> 16.363636 | H73: ='Parametri Toby'!P5 -> 123 | I73: =F73*C73*H73/1000 -> 2.0127273 | J73: 4.7 | K73: =J73*I73 -> 9.4598182
A74: ='Parametri Toby'!Q1 -> Zoran Sabac | B74: Snaga | C74: ON (sec) | D74: OFF (sec) | E74: Ciklus (sec) | F74: Broj ciklusa u min | G74: Puz ON (min/hrs) | H74: Kapacitet puza (gram/min) | I74: Potrosnja (kg/sat) | J74: Pelet (kWh/kg) | K74: Power (kW) | L74: Napomena:
B75: 5 | C75: ='Parametri Toby'!Q42 -> 3 | D75: ='Parametri Toby'!Q43 -> 3.5 | E75: =SUM(C75:D75) -> 6.5 | F75: =60/E75 -> 9.2307692 | G75: =F75*C75 -> 27.692308 | H75: ='Parametri Toby'!Q5 -> 123 | I75: =H75*G75/1000 -> 3.4061538 | J75: 4.7 | K75: =J75*I75 -> 16.008923
B76: 4 | C76: ='Parametri Toby'!Q40 -> 2.1 | D76: ='Parametri Toby'!Q41 -> 3.5 | E76: =SUM(C76:D76) -> 5.6 | F76: =60/E76 -> 10.714286 | G76: =F76*C76 -> 22.5 | H76: ='Parametri Toby'!Q5 -> 123 | I76: =F76*C76*H76/1000 -> 2.7675 | J76: 4.7 | K76: =J76*I76 -> 13.00725
B77: 3 | C77: ='Parametri Toby'!Q38 -> 1.7 | D77: ='Parametri Toby'!Q39 -> 3.5 | E77: =SUM(C77:D77) -> 5.2 | F77: =60/E77 -> 11.538462 | G77: =F77*C77 -> 19.615385 | H77: ='Parametri Toby'!Q5 -> 123 | I77: =F77*C77*H77/1000 -> 2.4126923 | J77: 4.7 | K77: =J77*I77 -> 11.339654
B78: 2 | C78: ='Parametri Toby'!Q36 -> 1.2 | D78: ='Parametri Toby'!Q37 -> 3.5 | E78: =SUM(C78:D78) -> 4.7 | F78: =60/E78 -> 12.765957 | G78: =F78*C78 -> 15.319149 | H78: ='Parametri Toby'!Q5 -> 123 | I78: =F78*C78*H78/1000 -> 1.8842553 | J78: 4.7 | K78: =J78*I78 -> 8.856
B79: 1 | C79: ='Parametri Toby'!Q34 -> 0.7 | D79: ='Parametri Toby'!Q35 -> 3.5 | E79: =SUM(C79:D79) -> 4.2 | F79: =60/E79 -> 14.285714 | G79: =F79*C79 -> 10 | H79: ='Parametri Toby'!Q5 -> 123 | I79: =F79*C79*H79/1000 -> 1.23 | J79: 4.7 | K79: =J79*I79 -> 5.781
A80: ='Parametri Toby'!R1 -> vukpiper | B80: Snaga | C80: ON (sec) | D80: OFF (sec) | E80: Ciklus (sec) | F80: Broj ciklusa u min | G80: Puz ON (min/hrs) | H80: Kapacitet puza (gram/min) | I80: Potrosnja (kg/sat) | J80: Pelet (kWh/kg) | K80: Power (kW) | L80: Napomena:
B81: 5 | C81: ='Parametri Toby'!R42 -> 4.2 | D81: ='Parametri Toby'!R43 -> 3.5 | E81: =SUM(C81:D81) -> 7.7 | F81: =60/E81 -> 7.7922078 | G81: =F81*C81 -> 32.727273 | H81: ='Parametri Toby'!R5 -> 115 | I81: =H81*G81/1000 -> 3.7636364 | J81: 4.7 | K81: =J81*I81 -> 17.689091
B82: 4 | C82: ='Parametri Toby'!R40 -> 3.4 | D82: ='Parametri Toby'!R41 -> 3.5 | E82: =SUM(C82:D82) -> 6.9 | F82: =60/E82 -> 8.6956522 | G82: =F82*C82 -> 29.565217 | H82: ='Parametri Toby'!R5 -> 115 | I82: =F82*C82*H82/1000 -> 3.4 | J82: 4.7 | K82: =J82*I82 -> 15.98
B83: 3 | C83: ='Parametri Toby'!R38 -> 2.7 | D83: ='Parametri Toby'!R39 -> 3.5 | E83: =SUM(C83:D83) -> 6.2 | F83: =60/E83 -> 9.6774194 | G83: =F83*C83 -> 26.129032 | H83: ='Parametri Toby'!R5 -> 115 | I83: =F83*C83*H83/1000 -> 3.0048387 | J83: 4.7 | K83: =J83*I83 -> 14.122742
B84: 2 | C84: ='Parametri Toby'!R36 -> 2.1 | D84: ='Parametri Toby'!R37 -> 3.5 | E84: =SUM(C84:D84) -> 5.6 | F84: =60/E84 -> 10.714286 | G84: =F84*C84 -> 22.5 | H84: ='Parametri Toby'!R5 -> 115 | I84: =F84*C84*H84/1000 -> 2.5875 | J84: 4.7 | K84: =J84*I84 -> 12.16125
B85: 1 | C85: ='Parametri Toby'!R34 -> 1.6 | D85: ='Parametri Toby'!R35 -> 3.5 | E85: =SUM(C85:D85) -> 5.1 | F85: =60/E85 -> 11.764706 | G85: =F85*C85 -> 18.823529 | H85: ='Parametri Toby'!R5 -> 115 | I85: =F85*C85*H85/1000 -> 2.1647059 | J85: 4.7 | K85: =J85*I85 -> 10.174118
A86: ='Parametri Toby'!S1 -> jugordana | B86: Snaga | C86: ON (sec) | D86: OFF (sec) | E86: Ciklus (sec) | F86: Broj ciklusa u min | G86: Puz ON (min/hrs) | H86: Kapacitet puza (gram/min) | I86: Potrosnja (kg/sat) | J86: Pelet (kWh/kg) | K86: Power (kW) | L86: Napomena:
B87: 5 | C87: ='Parametri Toby'!S42 -> 4.5 | D87: ='Parametri Toby'!S43 -> 5.5 | E87: =SUM(C87:D87) -> 10 | F87: =60/E87 -> 6 | G87: =F87*C87 -> 27 | H87: ='Parametri Toby'!S5 -> 140 | I87: =H87*G87/1000 -> 3.78 | J87: 4.7 | K87: =J87*I87 -> 17.766
B88: 4 | C88: ='Parametri Toby'!S40 -> 3.5 | D88: ='Parametri Toby'!S41 -> 6.5 | E88: =SUM(C88:D88) -> 10 | F88: =60/E88 -> 6 | G88: =F88*C88 -> 21 | H88: ='Parametri Toby'!S5 -> 140 | I88: =F88*C88*H88/1000 -> 2.94 | J88: 4.7 | K88: =J88*I88 -> 13.818
B89: 3 | C89: ='Parametri Toby'!S38 -> 3 | D89: ='Parametri Toby'!S39 -> 7 | E89: =SUM(C89:D89) -> 10 | F89: =60/E89 -> 6 | G89: =F89*C89 -> 18 | H89: ='Parametri Toby'!S5 -> 140 | I89: =F89*C89*H89/1000 -> 2.52 | J89: 4.7 | K89: =J89*I89 -> 11.844
B90: 2 | C90: ='Parametri Toby'!S36 -> 2.1 | D90: ='Parametri Toby'!S37 -> 7.9 | E90: =SUM(C90:D90) -> 10 | F90: =60/E90 -> 6 | G90: =F90*C90 -> 12.6 | H90: ='Parametri Toby'!S5 -> 140 | I90: =F90*C90*H90/1000 -> 1.764 | J90: 4.7 | K90: =J90*I90 -> 8.2908
B91: 1 | C91: ='Parametri Toby'!S34 -> 1.5 | D91: ='Parametri Toby'!S35 -> 8.5 | E91: =SUM(C91:D91) -> 10 | F91: =60/E91 -> 6 | G91: =F91*C91 -> 9 | H91: ='Parametri Toby'!S5 -> 140 | I91: =F91*C91*H91/1000 -> 1.26 | J91: 4.7 | K91: =J91*I91 -> 5.922
A92: ='Parametri Toby'!T1 -> bulevarterm | B92: Snaga | C92: ON (sec) | D92: OFF (sec) | E92: Ciklus (sec) | F92: Broj ciklusa u min | G92: Puz ON (min/hrs) | H92: Kapacitet puza (gram/min) | I92: Potrosnja (kg/sat) | J92: Pelet (kWh/kg) | K92: Power (kW) | L92: Napomena:
B93: 5 | C93: ='Parametri Toby'!T42 -> 4.6 | D93: ='Parametri Toby'!T43 -> 3.5 | E93: =SUM(C93:D93) -> 8.1 | F93: =60/E93 -> 7.4074074 | G93: =F93*C93 -> 34.074074 | H93: ='Parametri Toby'!T5 -> 280 | I93: =H93*G93/1000 -> 9.5407407 | J93: 4.7 | K93: =J93*I93 -> 44.841481
B94: 4 | C94: ='Parametri Toby'!T40 -> 3.5 | D94: ='Parametri Toby'!T41 -> 3.3 | E94: =SUM(C94:D94) -> 6.8 | F94: =60/E94 -> 8.8235294 | G94: =F94*C94 -> 30.882353 | H94: ='Parametri Toby'!T5 -> 280 | I94: =F94*C94*H94/1000 -> 8.6470588 | J94: 4.7 | K94: =J94*I94 -> 40.641176
B95: 3 | C95: ='Parametri Toby'!T38 -> 2.5 | D95: ='Parametri Toby'!T39 -> 3.5 | E95: =SUM(C95:D95) -> 6 | F95: =60/E95 -> 10 | G95: =F95*C95 -> 25 | H95: ='Parametri Toby'!T5 -> 280 | I95: =F95*C95*H95/1000 -> 7 | J95: 4.7 | K95: =J95*I95 -> 32.9
B96: 2 | C96: ='Parametri Toby'!T36 -> 1 | D96: ='Parametri Toby'!T37 -> 3.5 | E96: =SUM(C96:D96) -> 4.5 | F96: =60/E96 -> 13.333333 | G96: =F96*C96 -> 13.333333 | H96: ='Parametri Toby'!T5 -> 280 | I96: =F96*C96*H96/1000 -> 3.7333333 | J96: 4.7 | K96: =J96*I96 -> 17.546667
B97: 1 | C97: ='Parametri Toby'!T34 -> 0.5 | D97: ='Parametri Toby'!T35 -> 3.5 | E97: =SUM(C97:D97) -> 4 | F97: =60/E97 -> 15 | G97: =F97*C97 -> 7.5 | H97: ='Parametri Toby'!T5 -> 280 | I97: =F97*C97*H97/1000 -> 2.1 | J97: 4.7 | K97: =J97*I97 -> 9.87
A98: ='Parametri Toby'!U1 -> andjelko | B98: Snaga | C98: ON (sec) | D98: OFF (sec) | E98: Ciklus (sec) | F98: Broj ciklusa u min | G98: Puz ON (min/hrs) | H98: Kapacitet puza (gram/min) | I98: Potrosnja (kg/sat) | J98: Pelet (kWh/kg) | K98: Power (kW) | L98: Napomena:
B99: 5 | C99: ='Parametri Toby'!U42 -> 9 | D99: ='Parametri Toby'!U43 -> 2 | E99: =SUM(C99:D99) -> 11 | F99: =60/E99 -> 5.4545455 | G99: =F99*C99 -> 49.090909 | H99: ='Parametri Toby'!U5 -> 68 | I99: =H99*G99/1000 -> 3.3381818 | J99: 4.7 | K99: =J99*I99 -> 15.689455
B100: 4 | C100: ='Parametri Toby'!U40 -> 2.7 | D100: ='Parametri Toby'!U41 -> 3 | E100: =SUM(C100:D100) -> 5.7 | F100: =60/E100 -> 10.526316 | G100: =F100*C100 -> 28.421053 | H100: ='Parametri Toby'!U5 -> 68 | I100: =F100*C100*H100/1000 -> 1.9326316 | J100: 4.7 | K100: =J100*I100 -> 9.0833684
...

Sheet Toby 50 uporedni prikaz
B1: Uporedni prikaz paramterara unetih u prvoj tabeli za kotlove Toby50. Ukoliko zelite da promenite neki od svojih parametara uradite to u prvoj tabeli. | C1: =IFERROR(__xludf.DUMMYFUNCTION("FILTER('Parametri Toby'!C1:AL88, 'Parametri Toby'!C2:AL2 = ""Toby 50"")"),"Zoran Sabac") -> Zoran Sabac
B2: Model kotla | C2: Toby 50
B3: Vrsta peleta
B4: Rupe za sekundarni vazduh | C4: Da
B5: Kapacitet puža (g/min) | C5: 123
B6: Zadata temperatura kotla | C6: 65
B7: Mešni ventil | C7: Četvorokraki bez regulacije
B8: Opšti parametri (šifra 4321)
A9: P1 | B9: Max time ignition min | C9: 15
A10: P2 | B10: Flame stabilization time min | C10: 3
A11: P3 | B11: Time between clean min | C11: 35
A12: P4 | B12: Cleaning time sec | C12: 30
A13: P5 | B13: Alarms delay sec | C13: 120
A14: P6 | B14: Max temperature | C14: 200
A15: P7 | B15: Delta Flame off | C15: 5
A16: P8 | B16: Delta Flame Burning | C16: 10
A17: P9 | B17: Preload feed sec | C17: 10
A18: P10 | B18: Water temperature antifreeze | C18: 2
A19: P11 | B19: Water temperature pump | C19: 35
A20: P12 | B20: Time between clean EV hour | C20: 0
... A27: P19 | B27: Cycle number for pot change | C27: 3
A28: P20 | B28: Feeder loading time ON sec | C28: 2,2
A29: P21 | B29: Feeder loading time OFF sec | C29: 5
A30: P22 | B30: Feeder on start time ON sec | C30: 1,6
A31: P23 | B31: Feeder on start time OFF sec | C31: 5
A32: P24 | B32: Feeder cleaning time ON sec | C32: 1
A33: P25 | B33: Feeder cleaning time OFF sec | C33: 5
A34: P26 | B34: Feeder time ON power 1 | C34: 0.7
A35: P27 | B35: Feeder time OFF power 1 | C35: 3.5
A36: P28 | B36: Feeder time ON power 2 | C36: 1.2
A37: P29 | B37: Feeder time OFF power 2 | C37: 3.5
A38: P30 | B38: Feeder time ON power 3 | C38: 1.7
A39: P31 | B39: Feeder time OFF power 3 | C39: 3.5
A40: P32 | B40: Feeder time ON power 4 | C40: 2.1
A41: P33 | B41: Feeder time OFF power 4 | C41: 3.5
A42: P34 | B42: Feeder time ON power 5 | C42: 3
... A72: P64 | B72: Smoke Temperature Adjust Pot 5 | C72: 0
B73: Tehnički parametri (šifra 1234)
A74: P1 | B74: Restart from Blackout | C74: 1
A75: P2 | B75: Delta Temperature for wait restart
A76: P3 | B76: Ignition attempts
A77: P4 | B77: Lamp time min
A78: P5 | B78: Delta temperature for wait off
A79: P6 | B79: Time turning off pump min
A80: P7 | B80: External termostat mode
A81: P8 | B81: Delta degrees to adjust power
A82: P9 | B82: Low Air Pressure Control
A83: P10 | B83: High Pressure Wather
A84: P11 | B84: Switch on smoke adjustment
A85: P12 | B85: Switch on user adjustment
A86: P13 | B86: Switch on puffer mode
... A88: P15 | B88: Switch on Auger brake

Sheet Grafikoni
B1: Grafički prikaz različitih parametara i njihovih vrednosti koji se automatski učitavaju iz tabele "Proračun snage". Ukoliko grafikone ne vidite ispravno (podvučeni su jedan pod drugi ili se ne vide uopšte) kliknite na bilo koju drugu tabelu (npr. Proračun snage) pa se vratite opet na ovu.
A2: ='Parametri Toby'!C1 -> koyote
A3: ='Parametri Toby'!F1 -> richiemsch
A4: ='Parametri Toby'!G1 -> MyX-Mesha
A5: ='Parametri Toby'!D1 -> boree
A6: ='Parametri Toby'!H1 -> mvp84
A7: ='Parametri Toby'!I1 -> srdjan68
A8: ='Parametri Toby'!J1 -> 1.salee
A9: ='Parametri Toby'!L1 -> Sve naopako
A10: ='Parametri Toby'!M1 -> Jetsetwilly
A11: ='Parametri Toby'!N1 -> Simke.BGD
A12: ='Parametri Toby'!O1 -> ironmaiden
A13: ='Parametri Toby'!P1 -> stepa 1986
A14: ='Parametri Toby'!Q1 -> Zoran Sabac
A15: ='Parametri Toby'!R1 -> vukpiper
A16: ='Parametri Toby'!S1 -> jugordana
A17: ='Parametri Toby'!T1 -> bulevarterm
A18: ='Parametri Toby'!U1 -> andjelko
A19: ='Parametri Toby'!V1 -> mirkant
A20: ='Parametri Toby'!W1 -> stepa
A21: ='Parametri Toby'!X1 -> DE-Va Toby 20 H set (kamin pelet)
A22: ='Parametri Toby'!Y1 -> stevanovicfilip
A23: ='Parametri Toby'!Z1 -> bokikrag
A24: ='Parametri Toby'!AA1 -> Dragan SD
A25: ='Parametri Toby'!AB1 -> Vlatko Sabac
A26: ='Parametri Toby'!AC1 -> predragmirkovic
A27: ='Parametri Toby'!AD1 -> grnmilosevic
A28: ='Parametri Toby'!AE1 -> ASLservis
A29: ='Parametri Toby'!AF1 -> Guverner
A30: ='Parametri Toby'!AG1 -> rade topola
A31: ='Parametri Toby'!AH1 -> Gox BG
A32: ='Parametri Toby'!AI1 -> dany12
A33: ='Parametri Toby'!AJ1 -> sasa-74
A34: ='Parametri Toby'!AK1 -> dongrga
A35: ='Parametri Toby'!AL1 -> APAMsoldier
A36: ='Parametri Toby'!AM1 -> 0
A37: ='Parametri Toby'!AN1 -> pa013
A38: ='Parametri Toby'!AP1 -> 0
A39: ='Parametri Toby'!AQ1 -> 0
A40: ='Parametri Toby'!AR1 -> 0
